BEGIN:VCALENDAR
VERSION:2.0
PRODID:-//Clear Creek County Library District - ECPv6.15.16//NONSGML v1.0//EN
CALSCALE:GREGORIAN
METHOD:PUBLISH
X-ORIGINAL-URL:https://cccld.org
X-WR-CALDESC:Events for Clear Creek County Library District
REFRESH-INTERVAL;VALUE=DURATION:PT1H
X-Robots-Tag:noindex
X-PUBLISHED-TTL:PT1H
BEGIN:VTIMEZONE
TZID:America/Denver
BEGIN:DAYLIGHT
TZOFFSETFROM:-0700
TZOFFSETTO:-0600
TZNAME:MDT
DTSTART:20190310T090000
END:DAYLIGHT
BEGIN:STANDARD
TZOFFSETFROM:-0600
TZOFFSETTO:-0700
TZNAME:MST
DTSTART:20191103T080000
END:STANDARD
BEGIN:DAYLIGHT
TZOFFSETFROM:-0700
TZOFFSETTO:-0600
TZNAME:MDT
DTSTART:20200308T090000
END:DAYLIGHT
BEGIN:STANDARD
TZOFFSETFROM:-0600
TZOFFSETTO:-0700
TZNAME:MST
DTSTART:20201101T080000
END:STANDARD
BEGIN:DAYLIGHT
TZOFFSETFROM:-0700
TZOFFSETTO:-0600
TZNAME:MDT
DTSTART:20210314T090000
END:DAYLIGHT
BEGIN:STANDARD
TZOFFSETFROM:-0600
TZOFFSETTO:-0700
TZNAME:MST
DTSTART:20211107T080000
END:STANDARD
END:VTIMEZONE
BEGIN:VEVENT
DTSTART;TZID=America/Denver:20200409T143000
DTEND;TZID=America/Denver:20200409T183000
DTSTAMP:20260421T082317
CREATED:20200310T185851Z
LAST-MODIFIED:20200315T191339Z
UID:10005530-1586442600-1586457000@cccld.org
SUMMARY:MS BASE vs Ft Logan North. @ FLN 2:45 BUS (4:30)
DESCRIPTION:
URL:https://cccld.org/event/ms-base-vs-ft-logan-north-fln-245-bus-430/
CATEGORIES:Community Events
END:VEVENT
BEGIN:VEVENT
DTSTART;TZID=America/Denver:20200409T143000
DTEND;TZID=America/Denver:20200409T193000
DTSTAMP:20260421T082317
CREATED:20200310T185851Z
LAST-MODIFIED:20200315T191339Z
UID:10005529-1586442600-1586460600@cccld.org
SUMMARY:MS SOCC vs Ft Logan Northgate @ FLN -2:45 BUS (4:30 A)
DESCRIPTION:
URL:https://cccld.org/event/ms-socc-vs-ft-logan-northgate-fln-245-bus-430-a/
CATEGORIES:Community Events
END:VEVENT
END:VCALENDAR