BEGIN:VCALENDAR
VERSION:2.0
PRODID:-//Clear Creek County Library District - ECPv6.15.16//NONSGML v1.0//EN
CALSCALE:GREGORIAN
METHOD:PUBLISH
X-ORIGINAL-URL:https://cccld.org
X-WR-CALDESC:Events for Clear Creek County Library District
REFRESH-INTERVAL;VALUE=DURATION:PT1H
X-Robots-Tag:noindex
X-PUBLISHED-TTL:PT1H
BEGIN:VTIMEZONE
TZID:America/Denver
BEGIN:DAYLIGHT
TZOFFSETFROM:-0700
TZOFFSETTO:-0600
TZNAME:MDT
DTSTART:20190310T090000
END:DAYLIGHT
BEGIN:STANDARD
TZOFFSETFROM:-0600
TZOFFSETTO:-0700
TZNAME:MST
DTSTART:20191103T080000
END:STANDARD
BEGIN:DAYLIGHT
TZOFFSETFROM:-0700
TZOFFSETTO:-0600
TZNAME:MDT
DTSTART:20200308T090000
END:DAYLIGHT
BEGIN:STANDARD
TZOFFSETFROM:-0600
TZOFFSETTO:-0700
TZNAME:MST
DTSTART:20201101T080000
END:STANDARD
BEGIN:DAYLIGHT
TZOFFSETFROM:-0700
TZOFFSETTO:-0600
TZNAME:MDT
DTSTART:20210314T090000
END:DAYLIGHT
BEGIN:STANDARD
TZOFFSETFROM:-0600
TZOFFSETTO:-0700
TZNAME:MST
DTSTART:20211107T080000
END:STANDARD
END:VTIMEZONE
BEGIN:VEVENT
DTSTART;TZID=America/Denver:20200410T140000
DTEND;TZID=America/Denver:20200410T180000
DTSTAMP:20260421T082320
CREATED:20200311T185902Z
LAST-MODIFIED:20200315T191339Z
UID:10005534-1586527200-1586541600@cccld.org
SUMMARY:HS Soccer vs Dawson @ Dawson 2:15 BUS (4:15)
DESCRIPTION:
URL:https://cccld.org/event/hs-soccer-vs-dawson-dawson-215-bus-415/
CATEGORIES:Community Events
END:VEVENT
BEGIN:VEVENT
DTSTART;TZID=America/Denver:20200410T153000
DTEND;TZID=America/Denver:20200410T180000
DTSTAMP:20260421T082320
CREATED:20200311T185902Z
LAST-MODIFIED:20200315T191339Z
UID:10005535-1586532600-1586541600@cccld.org
SUMMARY:HS LAX vs Douglas County @ CCHS (4:00)
DESCRIPTION:
URL:https://cccld.org/event/hs-lax-vs-douglas-county-cchs-400/
CATEGORIES:Community Events
END:VEVENT
END:VCALENDAR