BEGIN:VCALENDAR
VERSION:2.0
PRODID:-//Clear Creek County Library District - ECPv6.15.16//NONSGML v1.0//EN
CALSCALE:GREGORIAN
METHOD:PUBLISH
X-WR-CALNAME:Clear Creek County Library District
X-ORIGINAL-URL:https://cccld.org
X-WR-CALDESC:Events for Clear Creek County Library District
REFRESH-INTERVAL;VALUE=DURATION:PT1H
X-Robots-Tag:noindex
X-PUBLISHED-TTL:PT1H
BEGIN:VTIMEZONE
TZID:America/Denver
BEGIN:DAYLIGHT
TZOFFSETFROM:-0700
TZOFFSETTO:-0600
TZNAME:MDT
DTSTART:20190310T090000
END:DAYLIGHT
BEGIN:STANDARD
TZOFFSETFROM:-0600
TZOFFSETTO:-0700
TZNAME:MST
DTSTART:20191103T080000
END:STANDARD
BEGIN:DAYLIGHT
TZOFFSETFROM:-0700
TZOFFSETTO:-0600
TZNAME:MDT
DTSTART:20200308T090000
END:DAYLIGHT
BEGIN:STANDARD
TZOFFSETFROM:-0600
TZOFFSETTO:-0700
TZNAME:MST
DTSTART:20201101T080000
END:STANDARD
BEGIN:DAYLIGHT
TZOFFSETFROM:-0700
TZOFFSETTO:-0600
TZNAME:MDT
DTSTART:20210314T090000
END:DAYLIGHT
BEGIN:STANDARD
TZOFFSETFROM:-0600
TZOFFSETTO:-0700
TZNAME:MST
DTSTART:20211107T080000
END:STANDARD
END:VTIMEZONE
BEGIN:VEVENT
DTSTART;TZID=America/Denver:20200425T120000
DTEND;TZID=America/Denver:20200425T160000
DTSTAMP:20260421T082154
CREATED:20200326T144323Z
LAST-MODIFIED:20200327T144424Z
UID:10004808-1587816000-1587830400@cccld.org
SUMMARY:Sustainable Living Fair
DESCRIPTION:Visit CSU Extension’s booth at the Sustainable Living Fair
URL:https://cccld.org/event/sustainable-living-fair/
LOCATION:Citizens Park\, 1545 Miner St\, Idaho Springs\, CO\, United States
CATEGORIES:Community Events
GEO:39.741832;-105.516591
X-APPLE-STRUCTURED-LOCATION;VALUE=URI;X-ADDRESS=Citizens Park 1545 Miner St Idaho Springs CO United States;X-APPLE-RADIUS=500;X-TITLE=1545 Miner St:geo:-105.516591,39.741832
END:VEVENT
END:VCALENDAR