BEGIN:VCALENDAR
VERSION:2.0
PRODID:-//Clear Creek County Library District - ECPv6.15.16//NONSGML v1.0//EN
CALSCALE:GREGORIAN
METHOD:PUBLISH
X-ORIGINAL-URL:https://cccld.org
X-WR-CALDESC:Events for Clear Creek County Library District
REFRESH-INTERVAL;VALUE=DURATION:PT1H
X-Robots-Tag:noindex
X-PUBLISHED-TTL:PT1H
BEGIN:VTIMEZONE
TZID:America/Denver
BEGIN:DAYLIGHT
TZOFFSETFROM:-0700
TZOFFSETTO:-0600
TZNAME:MDT
DTSTART:20190310T090000
END:DAYLIGHT
BEGIN:STANDARD
TZOFFSETFROM:-0600
TZOFFSETTO:-0700
TZNAME:MST
DTSTART:20191103T080000
END:STANDARD
BEGIN:DAYLIGHT
TZOFFSETFROM:-0700
TZOFFSETTO:-0600
TZNAME:MDT
DTSTART:20200308T090000
END:DAYLIGHT
BEGIN:STANDARD
TZOFFSETFROM:-0600
TZOFFSETTO:-0700
TZNAME:MST
DTSTART:20201101T080000
END:STANDARD
BEGIN:DAYLIGHT
TZOFFSETFROM:-0700
TZOFFSETTO:-0600
TZNAME:MDT
DTSTART:20210314T090000
END:DAYLIGHT
BEGIN:STANDARD
TZOFFSETFROM:-0600
TZOFFSETTO:-0700
TZNAME:MST
DTSTART:20211107T080000
END:STANDARD
END:VTIMEZONE
BEGIN:VEVENT
DTSTART;TZID=America/Denver:20200501T113000
DTEND;TZID=America/Denver:20200503T123000
DTSTAMP:20260421T093237
CREATED:20200430T214830Z
LAST-MODIFIED:20200502T215853Z
UID:10005545-1588332600-1588509000@cccld.org
SUMMARY:SPRING PROJECTS @ GARDEN
DESCRIPTION:IRRIGATION\, CRUSHER FINES\, PLANTING
URL:https://cccld.org/event/spring-projects-garden/
CATEGORIES:Community Events
END:VEVENT
BEGIN:VEVENT
DTSTART;VALUE=DATE:20200503
DTEND;VALUE=DATE:20200504
DTSTAMP:20260421T093237
CREATED:20200424T210301Z
LAST-MODIFIED:20200504T220421Z
UID:10004941-1588464000-1588550399@cccld.org
SUMMARY:Virtual Arts Alright
DESCRIPTION:
URL:https://cccld.org/event/virtual-arts/
CATEGORIES:Community Events
END:VEVENT
END:VCALENDAR