BEGIN:VCALENDAR
VERSION:2.0
PRODID:-//Clear Creek County Library District - ECPv6.15.16//NONSGML v1.0//EN
CALSCALE:GREGORIAN
METHOD:PUBLISH
X-WR-CALNAME:Clear Creek County Library District
X-ORIGINAL-URL:https://cccld.org
X-WR-CALDESC:Events for Clear Creek County Library District
REFRESH-INTERVAL;VALUE=DURATION:PT1H
X-Robots-Tag:noindex
X-PUBLISHED-TTL:PT1H
BEGIN:VTIMEZONE
TZID:America/Denver
BEGIN:DAYLIGHT
TZOFFSETFROM:-0700
TZOFFSETTO:-0600
TZNAME:MDT
DTSTART:20190310T090000
END:DAYLIGHT
BEGIN:STANDARD
TZOFFSETFROM:-0600
TZOFFSETTO:-0700
TZNAME:MST
DTSTART:20191103T080000
END:STANDARD
BEGIN:DAYLIGHT
TZOFFSETFROM:-0700
TZOFFSETTO:-0600
TZNAME:MDT
DTSTART:20200308T090000
END:DAYLIGHT
BEGIN:STANDARD
TZOFFSETFROM:-0600
TZOFFSETTO:-0700
TZNAME:MST
DTSTART:20201101T080000
END:STANDARD
BEGIN:DAYLIGHT
TZOFFSETFROM:-0700
TZOFFSETTO:-0600
TZNAME:MDT
DTSTART:20210314T090000
END:DAYLIGHT
BEGIN:STANDARD
TZOFFSETFROM:-0600
TZOFFSETTO:-0700
TZNAME:MST
DTSTART:20211107T080000
END:STANDARD
END:VTIMEZONE
BEGIN:VEVENT
DTSTART;TZID=America/Denver:20200630T180000
DTEND;TZID=America/Denver:20200630T190000
DTSTAMP:20260421T131754
CREATED:20200613T184359Z
LAST-MODIFIED:20200626T194512Z
UID:10005556-1593540000-1593543600@cccld.org
SUMMARY:MDR Board Meeting - Randy Barnett's Zoom Meeting
DESCRIPTION:VMware – Meeting Invite\nEnjoy your meeting!\nRandy Barnett is inviting you to a scheduled Zoom meeting.\nJOIN NOW\nhttps://VMware.zoom.us/j/250066574?pwd=T3VNMFhjcXVKSnovTXdBODJwZmpuZz09\nMeeting ID: 250 066 574\nJoin by Telephone\nMobile One-Tap:\nUS: +13462487799\,\,250066574# or +1 669 900 6833\,\,250066574#\nDial:\nUS: +1 346 248 7799 or +1 669 900 6833\nor +1 312 626 6799\nor +1 646 558 8656\nor +1 253 215 8782\nor +1 301 715 8592\nUnited Kingdom: +44 208 080 6592\nor +44 330 088 5830\nor +44 131 460 1196\nor +44 203 481 5237\nor +44 203 481 5240\nor +44 208 080 6591\nIreland: +353 1 653 3895\nor +353 1 653 3897\nor +353 1 653 3898\nor +353 6 163 9031\nor +353 1 536 9320\nMeeting ID:\n250 066 574\n*For higher quality\, dial a number based on your current location.\nInternational Numbers\nJoin from a Video Conferencing Room\nH.323:\n162.255.37.11 (US West)\n162.255.36.11 (US East)\n221.122.88.195 (China)\n115.114.131.7 (India Mumbai)\n115.114.115.7 (India Hyderabad)\n213.19.144.110 (EMEA)\n103.122.166.55 (Australia)\n209.9.211.110 (Hong Kong)\n64.211.144.160 (Brazil)\n69.174.57.160 (Canada)\n207.226.132.110 (Japan)\nMeeting ID:\n250 066 574\nPassword:\n089534\nSIP:\n250066574@zoomcrc.com\nPassword:\n089534\nJoin from Skype for Business\nSkype URL:\nhttps://VMware.zoom.us/skype/250066574\nPassword:\n089534\n3401 Hillview Avenue\, Palo Alto\, CA 94304\nVMware\, Inc.   |   View this email in your browser
URL:https://cccld.org/event/mdr-board-meeting-randy-barnetts-zoom-meeting-3/
LOCATION:https://VMware.zoom.us/j/250066574?pwd=T3VNMFhjcXVKSnovTXdBODJwZmpuZz09
CATEGORIES:Community Events
ORGANIZER;CN="rbarnett@vmware.com":MAILTO:rbarnett@vmware.com
END:VEVENT
END:VCALENDAR