BEGIN:VCALENDAR
VERSION:2.0
PRODID:-//Clear Creek County Library District - ECPv6.15.16//NONSGML v1.0//EN
CALSCALE:GREGORIAN
METHOD:PUBLISH
X-WR-CALNAME:Clear Creek County Library District
X-ORIGINAL-URL:https://cccld.org
X-WR-CALDESC:Events for Clear Creek County Library District
REFRESH-INTERVAL;VALUE=DURATION:PT1H
X-Robots-Tag:noindex
X-PUBLISHED-TTL:PT1H
BEGIN:VTIMEZONE
TZID:America/Denver
BEGIN:DAYLIGHT
TZOFFSETFROM:-0700
TZOFFSETTO:-0600
TZNAME:MDT
DTSTART:20210314T090000
END:DAYLIGHT
BEGIN:STANDARD
TZOFFSETFROM:-0600
TZOFFSETTO:-0700
TZNAME:MST
DTSTART:20211107T080000
END:STANDARD
BEGIN:DAYLIGHT
TZOFFSETFROM:-0700
TZOFFSETTO:-0600
TZNAME:MDT
DTSTART:20220313T090000
END:DAYLIGHT
BEGIN:STANDARD
TZOFFSETFROM:-0600
TZOFFSETTO:-0700
TZNAME:MST
DTSTART:20221106T080000
END:STANDARD
BEGIN:DAYLIGHT
TZOFFSETFROM:-0700
TZOFFSETTO:-0600
TZNAME:MDT
DTSTART:20230312T090000
END:DAYLIGHT
BEGIN:STANDARD
TZOFFSETFROM:-0600
TZOFFSETTO:-0700
TZNAME:MST
DTSTART:20231105T080000
END:STANDARD
END:VTIMEZONE
BEGIN:VEVENT
DTSTART;TZID=America/Denver:20221115T111500
DTEND;TZID=America/Denver:20221115T111500
DTSTAMP:20260421T153934
CREATED:20220823T161139Z
LAST-MODIFIED:20230601T154258Z
UID:10005846-1668510900-1668510900@cccld.org
SUMMARY:ISPL Storytime
DESCRIPTION:Join us for storytime and crafts at the Idaho Springs Public Library.
URL:https://cccld.org/event/ispl-storytime-9/2022-11-15/
LOCATION:Idaho Springs Public Library\, 219 14th Avenue\, Idaho Springs\, CO\, 80452\, United States
CATEGORIES:Kids,Library Events
GEO:39.742052;-105.5183552
X-APPLE-STRUCTURED-LOCATION;VALUE=URI;X-ADDRESS=Idaho Springs Public Library 219 14th Avenue Idaho Springs CO 80452 United States;X-APPLE-RADIUS=500;X-TITLE=219 14th Avenue:geo:-105.5183552,39.742052
END:VEVENT
BEGIN:VEVENT
DTSTART;TZID=America/Denver:20221115T160000
DTEND;TZID=America/Denver:20221115T180000
DTSTAMP:20260421T153934
CREATED:20221107T194340Z
LAST-MODIFIED:20221115T204350Z
UID:10006027-1668528000-1668535200@cccld.org
SUMMARY:MS Boys Basketball AWAY @Ft. Logan Game times 4:00/5:00 Bus@ 3:00
DESCRIPTION:
URL:https://cccld.org/event/ms-boys-basketball-away-ft-logan-game-times-400-500-bus-300/
LOCATION:4000 S Lowell Blvd\, Denver\, CO 80236\, USA
CATEGORIES:Community Events
END:VEVENT
BEGIN:VEVENT
DTSTART;TZID=America/Denver:20221115T173000
DTEND;TZID=America/Denver:20221115T183000
DTSTAMP:20260421T153934
CREATED:20221006T163945Z
LAST-MODIFIED:20221107T170935Z
UID:10005974-1668533400-1668537000@cccld.org
SUMMARY:ISPL Adult Craft
DESCRIPTION:Do you love to craft? Or are you craft-curious? Get creative and connect with other crafty patrons at our monthly craft workshops! No experience is necessary and all workshops are free. November’s craft is Giving Thanks Gift Jars. Please email chris@cccld.org to register and for additional information.
URL:https://cccld.org/event/ispl-adult-craft-7/
LOCATION:Idaho Springs Public Library\, 219 14th Avenue\, Idaho Springs\, CO\, 80452\, United States
CATEGORIES:Adults,Library Events
GEO:39.742052;-105.5183552
X-APPLE-STRUCTURED-LOCATION;VALUE=URI;X-ADDRESS=Idaho Springs Public Library 219 14th Avenue Idaho Springs CO 80452 United States;X-APPLE-RADIUS=500;X-TITLE=219 14th Avenue:geo:-105.5183552,39.742052
END:VEVENT
BEGIN:VEVENT
DTSTART;TZID=America/Denver:20221115T181500
DTEND;TZID=America/Denver:20221115T203000
DTSTAMP:20260421T153934
CREATED:20221102T182935Z
LAST-MODIFIED:20221115T204350Z
UID:10006021-1668536100-1668544200@cccld.org
SUMMARY:High School Volleyball Banquet
DESCRIPTION:
URL:https://cccld.org/event/high-school-volleyball-banquet/
LOCATION:CCHS Athletic Commons
CATEGORIES:Community Events
END:VEVENT
END:VCALENDAR