BEGIN:VCALENDAR
VERSION:2.0
PRODID:-//Clear Creek County Library District - ECPv6.15.16//NONSGML v1.0//EN
CALSCALE:GREGORIAN
METHOD:PUBLISH
X-WR-CALNAME:Clear Creek County Library District
X-ORIGINAL-URL:https://cccld.org
X-WR-CALDESC:Events for Clear Creek County Library District
REFRESH-INTERVAL;VALUE=DURATION:PT1H
X-Robots-Tag:noindex
X-PUBLISHED-TTL:PT1H
BEGIN:VTIMEZONE
TZID:America/Denver
BEGIN:DAYLIGHT
TZOFFSETFROM:-0700
TZOFFSETTO:-0600
TZNAME:MDT
DTSTART:20210314T090000
END:DAYLIGHT
BEGIN:STANDARD
TZOFFSETFROM:-0600
TZOFFSETTO:-0700
TZNAME:MST
DTSTART:20211107T080000
END:STANDARD
BEGIN:DAYLIGHT
TZOFFSETFROM:-0700
TZOFFSETTO:-0600
TZNAME:MDT
DTSTART:20220313T090000
END:DAYLIGHT
BEGIN:STANDARD
TZOFFSETFROM:-0600
TZOFFSETTO:-0700
TZNAME:MST
DTSTART:20221106T080000
END:STANDARD
BEGIN:DAYLIGHT
TZOFFSETFROM:-0700
TZOFFSETTO:-0600
TZNAME:MDT
DTSTART:20230312T090000
END:DAYLIGHT
BEGIN:STANDARD
TZOFFSETFROM:-0600
TZOFFSETTO:-0700
TZNAME:MST
DTSTART:20231105T080000
END:STANDARD
END:VTIMEZONE
BEGIN:VEVENT
DTSTART;TZID=America/Denver:20221119T100000
DTEND;TZID=America/Denver:20221119T110000
DTSTAMP:20260421T153935
CREATED:20221107T194341Z
LAST-MODIFIED:20221118T205839Z
UID:10006028-1668852000-1668855600@cccld.org
SUMMARY:MS Boys Basketball AWAY@ Gilpin Game times 10:00/11:00 Bus@ 9:00am
DESCRIPTION:The Bus will be picking up at the Rec. Center in Idaho Springs at 8:45 am and pick up at the middle/high school at 9:00am
URL:https://cccld.org/event/ms-boys-basketball-away-gilpin-game-times-1000-1100-bus-900am/
LOCATION:Gilpin County High School\, 10595 CO-119\, Black Hawk\, CO 80422\, USA
CATEGORIES:Community Events
END:VEVENT
END:VCALENDAR