BEGIN:VCALENDAR
VERSION:2.0
PRODID:-//Clear Creek County Library District - ECPv6.15.16//NONSGML v1.0//EN
CALSCALE:GREGORIAN
METHOD:PUBLISH
X-WR-CALNAME:Clear Creek County Library District
X-ORIGINAL-URL:https://cccld.org
X-WR-CALDESC:Events for Clear Creek County Library District
REFRESH-INTERVAL;VALUE=DURATION:PT1H
X-Robots-Tag:noindex
X-PUBLISHED-TTL:PT1H
BEGIN:VTIMEZONE
TZID:America/Denver
BEGIN:DAYLIGHT
TZOFFSETFROM:-0700
TZOFFSETTO:-0600
TZNAME:MDT
DTSTART:20210314T090000
END:DAYLIGHT
BEGIN:STANDARD
TZOFFSETFROM:-0600
TZOFFSETTO:-0700
TZNAME:MST
DTSTART:20211107T080000
END:STANDARD
BEGIN:DAYLIGHT
TZOFFSETFROM:-0700
TZOFFSETTO:-0600
TZNAME:MDT
DTSTART:20220313T090000
END:DAYLIGHT
BEGIN:STANDARD
TZOFFSETFROM:-0600
TZOFFSETTO:-0700
TZNAME:MST
DTSTART:20221106T080000
END:STANDARD
BEGIN:DAYLIGHT
TZOFFSETFROM:-0700
TZOFFSETTO:-0600
TZNAME:MDT
DTSTART:20230312T090000
END:DAYLIGHT
BEGIN:STANDARD
TZOFFSETFROM:-0600
TZOFFSETTO:-0700
TZNAME:MST
DTSTART:20231105T080000
END:STANDARD
END:VTIMEZONE
BEGIN:VEVENT
DTSTART;TZID=America/Denver:20221201T111500
DTEND;TZID=America/Denver:20221201T111500
DTSTAMP:20260421T131428
CREATED:20220823T161604Z
LAST-MODIFIED:20230601T154437Z
UID:10005886-1669893300-1669893300@cccld.org
SUMMARY:JTML Storytime
DESCRIPTION:Join us for storytime and crafts at the John Tomay Memorial Library.
URL:https://cccld.org/event/jtml-storytime-9/2022-12-01/
LOCATION:John Tomay Memorial Library\, 605 6th Street\, Georgetown\, CO\, 80444\, United States
CATEGORIES:Kids,Library Events
GEO:39.7061997;-105.6974142
X-APPLE-STRUCTURED-LOCATION;VALUE=URI;X-ADDRESS=John Tomay Memorial Library 605 6th Street Georgetown CO 80444 United States;X-APPLE-RADIUS=500;X-TITLE=605 6th Street:geo:-105.6974142,39.7061997
END:VEVENT
BEGIN:VEVENT
DTSTART;TZID=America/Denver:20221201T180000
DTEND;TZID=America/Denver:20221201T190000
DTSTAMP:20260421T131428
CREATED:20221201T234513Z
LAST-MODIFIED:20221201T234518Z
UID:10005249-1669917600-1669921200@cccld.org
SUMMARY:HS *Girls ONLY Varsity BBALL AWAY vs VMS (Vail Tourn) 6pm
DESCRIPTION:
URL:https://cccld.org/event/hs-girls-only-varsity-bball-away-vs-vms-vail-tourn-6pm/
CATEGORIES:Community Events
END:VEVENT
BEGIN:VEVENT
DTSTART;TZID=America/Denver:20221201T183000
DTEND;TZID=America/Denver:20221201T190000
DTSTAMP:20260421T131428
CREATED:20221129T232259Z
LAST-MODIFIED:20221201T234517Z
UID:10006062-1669919400-1669921200@cccld.org
SUMMARY:HS Wrestling Parent Meeting
DESCRIPTION:
URL:https://cccld.org/event/hs-wrestling-parent-meeting/
LOCATION:CCHS Media Center
CATEGORIES:Community Events
END:VEVENT
END:VCALENDAR