BEGIN:VCALENDAR
VERSION:2.0
PRODID:-//Clear Creek County Library District - ECPv6.15.16//NONSGML v1.0//EN
CALSCALE:GREGORIAN
METHOD:PUBLISH
X-ORIGINAL-URL:https://cccld.org
X-WR-CALDESC:Events for Clear Creek County Library District
REFRESH-INTERVAL;VALUE=DURATION:PT1H
X-Robots-Tag:noindex
X-PUBLISHED-TTL:PT1H
BEGIN:VTIMEZONE
TZID:America/Denver
BEGIN:DAYLIGHT
TZOFFSETFROM:-0700
TZOFFSETTO:-0600
TZNAME:MDT
DTSTART:20210314T090000
END:DAYLIGHT
BEGIN:STANDARD
TZOFFSETFROM:-0600
TZOFFSETTO:-0700
TZNAME:MST
DTSTART:20211107T080000
END:STANDARD
BEGIN:DAYLIGHT
TZOFFSETFROM:-0700
TZOFFSETTO:-0600
TZNAME:MDT
DTSTART:20220313T090000
END:DAYLIGHT
BEGIN:STANDARD
TZOFFSETFROM:-0600
TZOFFSETTO:-0700
TZNAME:MST
DTSTART:20221106T080000
END:STANDARD
BEGIN:DAYLIGHT
TZOFFSETFROM:-0700
TZOFFSETTO:-0600
TZNAME:MDT
DTSTART:20230312T090000
END:DAYLIGHT
BEGIN:STANDARD
TZOFFSETFROM:-0600
TZOFFSETTO:-0700
TZNAME:MST
DTSTART:20231105T080000
END:STANDARD
END:VTIMEZONE
BEGIN:VEVENT
DTSTART;TZID=America/Denver:20221202T123000
DTEND;TZID=America/Denver:20221202T150000
DTSTAMP:20260421T131558
CREATED:20220823T170701Z
LAST-MODIFIED:20230307T211506Z
UID:10005941-1669984200-1669993200@cccld.org
SUMMARY:JTML & ISPL COMPASS Fridays
DESCRIPTION:Join us for FREE guided and independent activities on Friday afternoons during the school year\, funded through your Library District.
URL:https://cccld.org/event/jtml-ispl-compass-fridays/2022-12-02/
LOCATION:CO\, 80444\, United States
CATEGORIES:Kids,Library Events,Teens
GEO:39.7104468;-105.6969788
END:VEVENT
BEGIN:VEVENT
DTSTART;TZID=America/Denver:20221202T163000
DTEND;TZID=America/Denver:20221202T190000
DTSTAMP:20260421T131558
CREATED:20221128T231526Z
LAST-MODIFIED:20221202T235850Z
UID:10006060-1669998600-1670007600@cccld.org
SUMMARY:HS Basketball Away @ Vail Christian Tournament BUS 1:30pm Boys V 4:30 Girls V 6:00
DESCRIPTION:Vail Tournament cont. to Saturday.\n1:15 pick up and leave at Rec Center in Idaho Springs\n1:30 leave CCHS\n1:45 leave Dumont\n2:00 leave Georgetown
URL:https://cccld.org/event/hs-basketball-away-vail-christian-tournament-bus-130pm-2/
LOCATION:Vail Christian High School\, 31621 US-6\, Edwards\, CO 81632\, USA
CATEGORIES:Community Events
END:VEVENT
END:VCALENDAR