BEGIN:VCALENDAR
VERSION:2.0
PRODID:-//Clear Creek County Library District - ECPv6.15.16//NONSGML v1.0//EN
CALSCALE:GREGORIAN
METHOD:PUBLISH
X-WR-CALNAME:Clear Creek County Library District
X-ORIGINAL-URL:https://cccld.org
X-WR-CALDESC:Events for Clear Creek County Library District
REFRESH-INTERVAL;VALUE=DURATION:PT1H
X-Robots-Tag:noindex
X-PUBLISHED-TTL:PT1H
BEGIN:VTIMEZONE
TZID:America/Denver
BEGIN:DAYLIGHT
TZOFFSETFROM:-0700
TZOFFSETTO:-0600
TZNAME:MDT
DTSTART:20210314T090000
END:DAYLIGHT
BEGIN:STANDARD
TZOFFSETFROM:-0600
TZOFFSETTO:-0700
TZNAME:MST
DTSTART:20211107T080000
END:STANDARD
BEGIN:DAYLIGHT
TZOFFSETFROM:-0700
TZOFFSETTO:-0600
TZNAME:MDT
DTSTART:20220313T090000
END:DAYLIGHT
BEGIN:STANDARD
TZOFFSETFROM:-0600
TZOFFSETTO:-0700
TZNAME:MST
DTSTART:20221106T080000
END:STANDARD
BEGIN:DAYLIGHT
TZOFFSETFROM:-0700
TZOFFSETTO:-0600
TZNAME:MDT
DTSTART:20230312T090000
END:DAYLIGHT
BEGIN:STANDARD
TZOFFSETFROM:-0600
TZOFFSETTO:-0700
TZNAME:MST
DTSTART:20231105T080000
END:STANDARD
END:VTIMEZONE
BEGIN:VEVENT
DTSTART;TZID=America/Denver:20221206T111500
DTEND;TZID=America/Denver:20221206T111500
DTSTAMP:20260421T131428
CREATED:20220823T161139Z
LAST-MODIFIED:20230601T154258Z
UID:10005849-1670325300-1670325300@cccld.org
SUMMARY:ISPL Storytime
DESCRIPTION:Join us for storytime and crafts at the Idaho Springs Public Library.
URL:https://cccld.org/event/ispl-storytime-9/2022-12-06/
LOCATION:Idaho Springs Public Library\, 219 14th Avenue\, Idaho Springs\, CO\, 80452\, United States
CATEGORIES:Kids,Library Events
GEO:39.742052;-105.5183552
X-APPLE-STRUCTURED-LOCATION;VALUE=URI;X-ADDRESS=Idaho Springs Public Library 219 14th Avenue Idaho Springs CO 80452 United States;X-APPLE-RADIUS=500;X-TITLE=219 14th Avenue:geo:-105.5183552,39.742052
END:VEVENT
BEGIN:VEVENT
DTSTART;TZID=America/Denver:20221206T160000
DTEND;TZID=America/Denver:20221206T180000
DTSTAMP:20260421T131428
CREATED:20221107T194341Z
LAST-MODIFIED:20221206T141958Z
UID:10006032-1670342400-1670349600@cccld.org
SUMMARY:MS Boys Basketball HOME B:4:00 A:5:00
DESCRIPTION:Concessions will be open: cash only\nJoin with Google Meet: https://meet.google.com/eap-viye-upz\nOr dial: (US) +1 413-346-5196 PIN: 739182509#\nMore phone numbers: https://tel.meet/eap-viye-upz?pin=8274340404486&hs=7\nLearn more about Meet at: https://support.google.com/a/users/answer/9282720
URL:https://cccld.org/event/ms-boys-basketball-home-b400-a500/
CATEGORIES:Community Events
END:VEVENT
BEGIN:VEVENT
DTSTART;TZID=America/Denver:20221206T160000
DTEND;TZID=America/Denver:20221206T200000
DTSTAMP:20260421T131428
CREATED:20221107T194341Z
LAST-MODIFIED:20221206T141958Z
UID:10006033-1670342400-1670356800@cccld.org
SUMMARY:HS Basketball AWAY@Platte Canyon Game times: JV Boys 4:00/V Girls 5:30/V Boys 7:00 Bus@2:15pm
DESCRIPTION:
URL:https://cccld.org/event/hs-basketball-awayplatte-canyon-game-times-jv-boys-530-v-girls-530-v-boys-700-bus-tbd/
LOCATION:Platte Canyon High School\, 57243 US Hwy 285\, Bailey\, CO 80421\, USA
CATEGORIES:Community Events
END:VEVENT
END:VCALENDAR