BEGIN:VCALENDAR
VERSION:2.0
PRODID:-//Clear Creek County Library District - ECPv6.15.16//NONSGML v1.0//EN
CALSCALE:GREGORIAN
METHOD:PUBLISH
X-WR-CALNAME:Clear Creek County Library District
X-ORIGINAL-URL:https://cccld.org
X-WR-CALDESC:Events for Clear Creek County Library District
REFRESH-INTERVAL;VALUE=DURATION:PT1H
X-Robots-Tag:noindex
X-PUBLISHED-TTL:PT1H
BEGIN:VTIMEZONE
TZID:America/Denver
BEGIN:DAYLIGHT
TZOFFSETFROM:-0700
TZOFFSETTO:-0600
TZNAME:MDT
DTSTART:20220313T090000
END:DAYLIGHT
BEGIN:STANDARD
TZOFFSETFROM:-0600
TZOFFSETTO:-0700
TZNAME:MST
DTSTART:20221106T080000
END:STANDARD
BEGIN:DAYLIGHT
TZOFFSETFROM:-0700
TZOFFSETTO:-0600
TZNAME:MDT
DTSTART:20230312T090000
END:DAYLIGHT
BEGIN:STANDARD
TZOFFSETFROM:-0600
TZOFFSETTO:-0700
TZNAME:MST
DTSTART:20231105T080000
END:STANDARD
BEGIN:DAYLIGHT
TZOFFSETFROM:-0700
TZOFFSETTO:-0600
TZNAME:MDT
DTSTART:20240310T090000
END:DAYLIGHT
BEGIN:STANDARD
TZOFFSETFROM:-0600
TZOFFSETTO:-0700
TZNAME:MST
DTSTART:20241103T080000
END:STANDARD
END:VTIMEZONE
BEGIN:VEVENT
DTSTART;TZID=America/Denver:20230107T070000
DTEND;TZID=America/Denver:20230107T080000
DTSTAMP:20260421T115327
CREATED:20221118T205838Z
LAST-MODIFIED:20221121T220634Z
UID:10005231-1673074800-1673078400@cccld.org
SUMMARY:HS SKI XC (not a Qualifier) @Leadville Mt Massive Golf Course
DESCRIPTION:
URL:https://cccld.org/event/hs-ski-xc-not-a-qualifier-leadville-mt-massive-golf-course/
CATEGORIES:Community Events
END:VEVENT
BEGIN:VEVENT
DTSTART;TZID=America/Denver:20230107T080000
DTEND;TZID=America/Denver:20230107T100000
DTSTAMP:20260421T115327
CREATED:20221101T183011Z
LAST-MODIFIED:20230106T174742Z
UID:10005203-1673078400-1673085600@cccld.org
SUMMARY:HS Wrestling Evergreen Invitational Weigh-in 8:00am
DESCRIPTION:
URL:https://cccld.org/event/hs-wrestling-evergreen-invitational-weigh-in-800am/
CATEGORIES:Community Events
END:VEVENT
BEGIN:VEVENT
DTSTART;TZID=America/Denver:20230107T173000
DTEND;TZID=America/Denver:20230107T200000
DTSTAMP:20260421T115327
CREATED:20221130T232855Z
LAST-MODIFIED:20230107T175918Z
UID:10005247-1673112600-1673121600@cccld.org
SUMMARY:HS Basketball HOME vs Southpark  GV 4:00 /JVB 5:30/ VB 7:00
DESCRIPTION:
URL:https://cccld.org/event/hs-basketball-home-vs-southpark-gv-400-jvb-500-vb-700/
CATEGORIES:Community Events
END:VEVENT
END:VCALENDAR