BEGIN:VCALENDAR
VERSION:2.0
PRODID:-//Clear Creek County Library District - ECPv6.15.16//NONSGML v1.0//EN
CALSCALE:GREGORIAN
METHOD:PUBLISH
X-ORIGINAL-URL:https://cccld.org
X-WR-CALDESC:Events for Clear Creek County Library District
REFRESH-INTERVAL;VALUE=DURATION:PT1H
X-Robots-Tag:noindex
X-PUBLISHED-TTL:PT1H
BEGIN:VTIMEZONE
TZID:America/Denver
BEGIN:DAYLIGHT
TZOFFSETFROM:-0700
TZOFFSETTO:-0600
TZNAME:MDT
DTSTART:20220313T090000
END:DAYLIGHT
BEGIN:STANDARD
TZOFFSETFROM:-0600
TZOFFSETTO:-0700
TZNAME:MST
DTSTART:20221106T080000
END:STANDARD
BEGIN:DAYLIGHT
TZOFFSETFROM:-0700
TZOFFSETTO:-0600
TZNAME:MDT
DTSTART:20230312T090000
END:DAYLIGHT
BEGIN:STANDARD
TZOFFSETFROM:-0600
TZOFFSETTO:-0700
TZNAME:MST
DTSTART:20231105T080000
END:STANDARD
BEGIN:DAYLIGHT
TZOFFSETFROM:-0700
TZOFFSETTO:-0600
TZNAME:MDT
DTSTART:20240310T090000
END:DAYLIGHT
BEGIN:STANDARD
TZOFFSETFROM:-0600
TZOFFSETTO:-0700
TZNAME:MST
DTSTART:20241103T080000
END:STANDARD
END:VTIMEZONE
BEGIN:VEVENT
DTSTART;TZID=America/Denver:20230117T111500
DTEND;TZID=America/Denver:20230117T111500
DTSTAMP:20260421T115340
CREATED:20220823T161139Z
LAST-MODIFIED:20230601T154258Z
UID:10005855-1673954100-1673954100@cccld.org
SUMMARY:ISPL Storytime
DESCRIPTION:Join us for storytime and crafts at the Idaho Springs Public Library.
URL:https://cccld.org/event/ispl-storytime-9/2023-01-17/
LOCATION:Idaho Springs Public Library\, 219 14th Avenue\, Idaho Springs\, CO\, 80452\, United States
CATEGORIES:Kids,Library Events
GEO:39.742052;-105.5183552
X-APPLE-STRUCTURED-LOCATION;VALUE=URI;X-ADDRESS=Idaho Springs Public Library 219 14th Avenue Idaho Springs CO 80452 United States;X-APPLE-RADIUS=500;X-TITLE=219 14th Avenue:geo:-105.5183552,39.742052
END:VEVENT
BEGIN:VEVENT
DTSTART;TZID=America/Denver:20230117T161500
DTEND;TZID=America/Denver:20230117T201500
DTSTAMP:20260421T115340
CREATED:20221118T205838Z
LAST-MODIFIED:20230117T190702Z
UID:10006037-1673972100-1673986500@cccld.org
SUMMARY:HS Basketball HOME vs Skyview JVB 4:15/V G 5:30/ V B 7:00
DESCRIPTION:Join with Google Meet: https://meet.google.com/hqm-cbqg-dkq\nOr dial: (US) +1 614-758-9177 PIN: 357158755#\nMore phone numbers: https://tel.meet/hqm-cbqg-dkq?pin=6008365052493&hs=7\nLearn more about Meet at: https://support.google.com/a/users/answer/9282720
URL:https://cccld.org/event/hs-basketball-home-vs-skyview-jvb-415-v-g-530-v-b-700/
CATEGORIES:Community Events
END:VEVENT
BEGIN:VEVENT
DTSTART;TZID=America/Denver:20230117T170000
DTEND;TZID=America/Denver:20230117T183000
DTSTAMP:20260421T115340
CREATED:20230124T213834Z
LAST-MODIFIED:20230814T160735Z
UID:10006090-1673974800-1673980200@cccld.org
SUMMARY:Library District Board Meeting
DESCRIPTION:The Clear Creek County Library District Board of Trustees meets on the third Tuesday of the month at noon with the exception of December’s budget approval meeting on 12/12/2023.
URL:https://cccld.org/event/library-district-board-meeting/2023-01-17/
LOCATION:CO\, 80444\, United States
CATEGORIES:Community Events,Library Events
GEO:39.7104468;-105.6969788
END:VEVENT
END:VCALENDAR