BEGIN:VCALENDAR
VERSION:2.0
PRODID:-//Clear Creek County Library District - ECPv6.15.16//NONSGML v1.0//EN
CALSCALE:GREGORIAN
METHOD:PUBLISH
X-ORIGINAL-URL:https://cccld.org
X-WR-CALDESC:Events for Clear Creek County Library District
REFRESH-INTERVAL;VALUE=DURATION:PT1H
X-Robots-Tag:noindex
X-PUBLISHED-TTL:PT1H
BEGIN:VTIMEZONE
TZID:America/Denver
BEGIN:DAYLIGHT
TZOFFSETFROM:-0700
TZOFFSETTO:-0600
TZNAME:MDT
DTSTART:20220313T090000
END:DAYLIGHT
BEGIN:STANDARD
TZOFFSETFROM:-0600
TZOFFSETTO:-0700
TZNAME:MST
DTSTART:20221106T080000
END:STANDARD
BEGIN:DAYLIGHT
TZOFFSETFROM:-0700
TZOFFSETTO:-0600
TZNAME:MDT
DTSTART:20230312T090000
END:DAYLIGHT
BEGIN:STANDARD
TZOFFSETFROM:-0600
TZOFFSETTO:-0700
TZNAME:MST
DTSTART:20231105T080000
END:STANDARD
BEGIN:DAYLIGHT
TZOFFSETFROM:-0700
TZOFFSETTO:-0600
TZNAME:MDT
DTSTART:20240310T090000
END:DAYLIGHT
BEGIN:STANDARD
TZOFFSETFROM:-0600
TZOFFSETTO:-0700
TZNAME:MST
DTSTART:20241103T080000
END:STANDARD
END:VTIMEZONE
BEGIN:VEVENT
DTSTART;TZID=America/Denver:20230121T063000
DTEND;TZID=America/Denver:20230121T083000
DTSTAMP:20260421T115339
CREATED:20221101T183011Z
LAST-MODIFIED:20230120T191831Z
UID:10006010-1674282600-1674289800@cccld.org
SUMMARY:HS Wrestling Berthoud Invitational 6:30am BUS 5:15am
DESCRIPTION:
URL:https://cccld.org/event/hs-wrestling-berthoud-invitational-630am/
LOCATION:Berthoud High School\, 850 Spartan Ave\, Berthoud\, CO 80513\, USA
CATEGORIES:Community Events
END:VEVENT
BEGIN:VEVENT
DTSTART;TZID=America/Denver:20230121T071500
DTEND;TZID=America/Denver:20230121T081500
DTSTAMP:20260421T115339
CREATED:20221118T205839Z
LAST-MODIFIED:20230120T191831Z
UID:10006040-1674285300-1674288900@cccld.org
SUMMARY:HS SKI XC Skate (I) **Steamboat Tournig Center TIME TBD
DESCRIPTION:
URL:https://cccld.org/event/hs-ski-xc-skate-i-steamboat-tournig-center-time-tbd/
CATEGORIES:Community Events
END:VEVENT
BEGIN:VEVENT
DTSTART;TZID=America/Denver:20230121T103000
DTEND;TZID=America/Denver:20230121T133000
DTSTAMP:20260421T115339
CREATED:20221118T205839Z
LAST-MODIFIED:20230121T193032Z
UID:10006041-1674297000-1674307800@cccld.org
SUMMARY:HS Basketball @Gilpin JV B 11:00/ V G 11:00/ V B  12:30 BUS 9:45
DESCRIPTION:
URL:https://cccld.org/event/hs-basketball-gilpin-jv-b-1100-v-g-1100-v-b-1230-bus-tbd/
LOCATION:Gilpin County High School\, 10595 CO-119\, Black Hawk\, CO 80422\, USA
CATEGORIES:Community Events
END:VEVENT
END:VCALENDAR