BEGIN:VCALENDAR
VERSION:2.0
PRODID:-//Clear Creek County Library District - ECPv6.15.16//NONSGML v1.0//EN
CALSCALE:GREGORIAN
METHOD:PUBLISH
X-WR-CALNAME:Clear Creek County Library District
X-ORIGINAL-URL:https://cccld.org
X-WR-CALDESC:Events for Clear Creek County Library District
REFRESH-INTERVAL;VALUE=DURATION:PT1H
X-Robots-Tag:noindex
X-PUBLISHED-TTL:PT1H
BEGIN:VTIMEZONE
TZID:America/Denver
BEGIN:DAYLIGHT
TZOFFSETFROM:-0700
TZOFFSETTO:-0600
TZNAME:MDT
DTSTART:20220313T090000
END:DAYLIGHT
BEGIN:STANDARD
TZOFFSETFROM:-0600
TZOFFSETTO:-0700
TZNAME:MST
DTSTART:20221106T080000
END:STANDARD
BEGIN:DAYLIGHT
TZOFFSETFROM:-0700
TZOFFSETTO:-0600
TZNAME:MDT
DTSTART:20230312T090000
END:DAYLIGHT
BEGIN:STANDARD
TZOFFSETFROM:-0600
TZOFFSETTO:-0700
TZNAME:MST
DTSTART:20231105T080000
END:STANDARD
BEGIN:DAYLIGHT
TZOFFSETFROM:-0700
TZOFFSETTO:-0600
TZNAME:MDT
DTSTART:20240310T090000
END:DAYLIGHT
BEGIN:STANDARD
TZOFFSETFROM:-0600
TZOFFSETTO:-0700
TZNAME:MST
DTSTART:20241103T080000
END:STANDARD
END:VTIMEZONE
BEGIN:VEVENT
DTSTART;TZID=America/Denver:20230203T080000
DTEND;TZID=America/Denver:20230203T090000
DTSTAMP:20260421T104236
CREATED:20230119T191748Z
LAST-MODIFIED:20230202T202827Z
UID:10006087-1675411200-1675414800@cccld.org
SUMMARY:MS SKI GS @ Cooper TIME TBD
DESCRIPTION:
URL:https://cccld.org/event/ms-ski-gs-cooper-time-tbd/
CATEGORIES:Community Events
END:VEVENT
BEGIN:VEVENT
DTSTART;TZID=America/Denver:20230203T083000
DTEND;TZID=America/Denver:20230203T113000
DTSTAMP:20260421T104236
CREATED:20221119T211122Z
LAST-MODIFIED:20230202T202827Z
UID:10006048-1675413000-1675423800@cccld.org
SUMMARY:HS SKI Giant SlalomLoveland 8:30am (no bus)
DESCRIPTION:
URL:https://cccld.org/event/hs-ski-giant-slalomloveland-830am-no-bus/
CATEGORIES:Community Events
END:VEVENT
BEGIN:VEVENT
DTSTART;TZID=America/Denver:20230203T090000
DTEND;TZID=America/Denver:20230203T120000
DTSTAMP:20260421T104236
CREATED:20221101T183012Z
LAST-MODIFIED:20230202T202827Z
UID:10006013-1675414800-1675425600@cccld.org
SUMMARY:HS Wrestling Sierra Grande invitational Weigh-in 7:00am 9am start
DESCRIPTION:
URL:https://cccld.org/event/hs-wrestling-sierra-grande-invitational-weigh-in-700am/
LOCATION:17532 US-160\, Blanca\, CO 81123\, USA
CATEGORIES:Community Events
END:VEVENT
BEGIN:VEVENT
DTSTART;TZID=America/Denver:20230203T123000
DTEND;TZID=America/Denver:20230203T150000
DTSTAMP:20260421T104236
CREATED:20220823T170701Z
LAST-MODIFIED:20230106T192535Z
UID:10005961-1675427400-1675436400@cccld.org
SUMMARY:ISPL COMPASS Fridays
DESCRIPTION:Join us for FREE guided and independent activities on Friday afternoons during the school year\, funded through your Library District.
URL:https://cccld.org/event/jtml-ispl-compass-fridays-2023-02-03/
LOCATION:CO\, 80444\, United States
CATEGORIES:Kids,Library Events,Teens
GEO:39.7104468;-105.6969788
END:VEVENT
END:VCALENDAR