BEGIN:VCALENDAR
VERSION:2.0
PRODID:-//Clear Creek County Library District - ECPv6.15.16//NONSGML v1.0//EN
CALSCALE:GREGORIAN
METHOD:PUBLISH
X-ORIGINAL-URL:https://cccld.org
X-WR-CALDESC:Events for Clear Creek County Library District
REFRESH-INTERVAL;VALUE=DURATION:PT1H
X-Robots-Tag:noindex
X-PUBLISHED-TTL:PT1H
BEGIN:VTIMEZONE
TZID:America/Denver
BEGIN:DAYLIGHT
TZOFFSETFROM:-0700
TZOFFSETTO:-0600
TZNAME:MDT
DTSTART:20220313T090000
END:DAYLIGHT
BEGIN:STANDARD
TZOFFSETFROM:-0600
TZOFFSETTO:-0700
TZNAME:MST
DTSTART:20221106T080000
END:STANDARD
BEGIN:DAYLIGHT
TZOFFSETFROM:-0700
TZOFFSETTO:-0600
TZNAME:MDT
DTSTART:20230312T090000
END:DAYLIGHT
BEGIN:STANDARD
TZOFFSETFROM:-0600
TZOFFSETTO:-0700
TZNAME:MST
DTSTART:20231105T080000
END:STANDARD
BEGIN:DAYLIGHT
TZOFFSETFROM:-0700
TZOFFSETTO:-0600
TZNAME:MDT
DTSTART:20240310T090000
END:DAYLIGHT
BEGIN:STANDARD
TZOFFSETFROM:-0600
TZOFFSETTO:-0700
TZNAME:MST
DTSTART:20241103T080000
END:STANDARD
END:VTIMEZONE
BEGIN:VEVENT
DTSTART;TZID=America/Denver:20230204T061500
DTEND;TZID=America/Denver:20230204T114500
DTSTAMP:20260421T093236
CREATED:20221119T211122Z
LAST-MODIFIED:20230203T204328Z
UID:10006049-1675491300-1675511100@cccld.org
SUMMARY:HS SKIXC RelaysLeadville CMC
DESCRIPTION:
URL:https://cccld.org/event/hs-skixc-relaysleadville-cmc/
CATEGORIES:Community Events
END:VEVENT
BEGIN:VEVENT
DTSTART;TZID=America/Denver:20230204T070000
DTEND;TZID=America/Denver:20230204T080000
DTSTAMP:20260421T093236
CREATED:20230106T174741Z
LAST-MODIFIED:20230203T204328Z
UID:10006075-1675494000-1675497600@cccld.org
SUMMARY:MS Wrestling @ Fitzsimmons time/bus TBD
DESCRIPTION:
URL:https://cccld.org/event/ms-wrestling-fitzsimmons-time-bus-tbd/
CATEGORIES:Community Events
END:VEVENT
BEGIN:VEVENT
DTSTART;TZID=America/Denver:20230204T120000
DTEND;TZID=America/Denver:20230204T160000
DTSTAMP:20260421T093236
CREATED:20230131T201523Z
LAST-MODIFIED:20230204T204407Z
UID:10006102-1675512000-1675526400@cccld.org
SUMMARY:HS Basketball HOME vs Lyons JV Boys 12:00 V Girls 1:30 V Boys 3:00
DESCRIPTION:
URL:https://cccld.org/event/hs-basketball-home-vs-lyons-jv-boys-1200-v-girls-130-v-boys-300/
CATEGORIES:Community Events
END:VEVENT
BEGIN:VEVENT
DTSTART;TZID=America/Denver:20230204T130000
DTEND;TZID=America/Denver:20230204T150000
DTSTAMP:20260421T093236
CREATED:20230117T231726Z
LAST-MODIFIED:20230117T231726Z
UID:10006085-1675515600-1675522800@cccld.org
SUMMARY:Adult Snowshoe Excursion
DESCRIPTION:Join us for a guided snowshoe hike with Georgetown Outdoor Discovery. Ages 16 years and over\, beginners welcome\, snowshoes provided. FREE with a Clear Creek County library card. To learn more and register\, please contact chris@cccld.org
URL:https://cccld.org/event/adult-snowshoe-excursion/
LOCATION:CO\, 80444\, United States
CATEGORIES:Adults,Library Events
GEO:39.7104468;-105.6969788
END:VEVENT
END:VCALENDAR