BEGIN:VCALENDAR
VERSION:2.0
PRODID:-//Clear Creek County Library District - ECPv6.15.16//NONSGML v1.0//EN
CALSCALE:GREGORIAN
METHOD:PUBLISH
X-ORIGINAL-URL:https://cccld.org
X-WR-CALDESC:Events for Clear Creek County Library District
REFRESH-INTERVAL;VALUE=DURATION:PT1H
X-Robots-Tag:noindex
X-PUBLISHED-TTL:PT1H
BEGIN:VTIMEZONE
TZID:America/Denver
BEGIN:DAYLIGHT
TZOFFSETFROM:-0700
TZOFFSETTO:-0600
TZNAME:MDT
DTSTART:20220313T090000
END:DAYLIGHT
BEGIN:STANDARD
TZOFFSETFROM:-0600
TZOFFSETTO:-0700
TZNAME:MST
DTSTART:20221106T080000
END:STANDARD
BEGIN:DAYLIGHT
TZOFFSETFROM:-0700
TZOFFSETTO:-0600
TZNAME:MDT
DTSTART:20230312T090000
END:DAYLIGHT
BEGIN:STANDARD
TZOFFSETFROM:-0600
TZOFFSETTO:-0700
TZNAME:MST
DTSTART:20231105T080000
END:STANDARD
BEGIN:DAYLIGHT
TZOFFSETFROM:-0700
TZOFFSETTO:-0600
TZNAME:MDT
DTSTART:20240310T090000
END:DAYLIGHT
BEGIN:STANDARD
TZOFFSETFROM:-0600
TZOFFSETTO:-0700
TZNAME:MST
DTSTART:20241103T080000
END:STANDARD
END:VTIMEZONE
BEGIN:VEVENT
DTSTART;TZID=America/Denver:20230210T083000
DTEND;TZID=America/Denver:20230210T120000
DTSTAMP:20260421T104300
CREATED:20221119T211122Z
LAST-MODIFIED:20230209T204900Z
UID:10006052-1676017800-1676030400@cccld.org
SUMMARY:HS SKI Slalom @Winter Park 8:30am Leave HS@6:30am
DESCRIPTION:
URL:https://cccld.org/event/hs-ski-slalom-winter-park-830am-leave-hs630am/
CATEGORIES:Community Events
END:VEVENT
BEGIN:VEVENT
DTSTART;TZID=America/Denver:20230210T123000
DTEND;TZID=America/Denver:20230210T150000
DTSTAMP:20260421T104300
CREATED:20220823T170701Z
LAST-MODIFIED:20230106T192719Z
UID:10005962-1676032200-1676041200@cccld.org
SUMMARY:ISPL COMPASS Fridays
DESCRIPTION:Join us for FREE guided and independent activities on Friday afternoons during the school year\, funded through your Library District.
URL:https://cccld.org/event/jtml-ispl-compass-fridays-2023-02-10/
LOCATION:CO\, 80444\, United States
CATEGORIES:Kids,Library Events,Teens
GEO:39.7104468;-105.6969788
END:VEVENT
BEGIN:VEVENT
DTSTART;TZID=America/Denver:20230210T160000
DTEND;TZID=America/Denver:20230210T200000
DTSTAMP:20260421T104300
CREATED:20221119T211122Z
LAST-MODIFIED:20230210T205839Z
UID:10006051-1676044800-1676059200@cccld.org
SUMMARY:HS Wrestling Regionals @Sterling
DESCRIPTION:
URL:https://cccld.org/event/hs-wrestling-regionals-time-tbd/
CATEGORIES:Community Events
END:VEVENT
BEGIN:VEVENT
DTSTART;TZID=America/Denver:20230210T170000
DTEND;TZID=America/Denver:20230210T203000
DTSTAMP:20260421T104300
CREATED:20221119T211122Z
LAST-MODIFIED:20230210T205839Z
UID:10006053-1676048400-1676061000@cccld.org
SUMMARY:HS Basketball AWAY @Union Colony JV B 5:00/ V G 6:00 V B 7:30 bus@3:00
DESCRIPTION:
URL:https://cccld.org/event/hs-basketball-away-union-colony-jv-b-500-v-g-600-v-b-730-bus/
LOCATION:Union Colony Preparatory School\, 2000 Clubhouse Dr\, Greeley\, CO 80634\, USA
CATEGORIES:Community Events
END:VEVENT
END:VCALENDAR