BEGIN:VCALENDAR
VERSION:2.0
PRODID:-//Clear Creek County Library District - ECPv6.15.16//NONSGML v1.0//EN
CALSCALE:GREGORIAN
METHOD:PUBLISH
X-ORIGINAL-URL:https://cccld.org
X-WR-CALDESC:Events for Clear Creek County Library District
REFRESH-INTERVAL;VALUE=DURATION:PT1H
X-Robots-Tag:noindex
X-PUBLISHED-TTL:PT1H
BEGIN:VTIMEZONE
TZID:America/Denver
BEGIN:DAYLIGHT
TZOFFSETFROM:-0700
TZOFFSETTO:-0600
TZNAME:MDT
DTSTART:20220313T090000
END:DAYLIGHT
BEGIN:STANDARD
TZOFFSETFROM:-0600
TZOFFSETTO:-0700
TZNAME:MST
DTSTART:20221106T080000
END:STANDARD
BEGIN:DAYLIGHT
TZOFFSETFROM:-0700
TZOFFSETTO:-0600
TZNAME:MDT
DTSTART:20230312T090000
END:DAYLIGHT
BEGIN:STANDARD
TZOFFSETFROM:-0600
TZOFFSETTO:-0700
TZNAME:MST
DTSTART:20231105T080000
END:STANDARD
BEGIN:DAYLIGHT
TZOFFSETFROM:-0700
TZOFFSETTO:-0600
TZNAME:MDT
DTSTART:20240310T090000
END:DAYLIGHT
BEGIN:STANDARD
TZOFFSETFROM:-0600
TZOFFSETTO:-0700
TZNAME:MST
DTSTART:20241103T080000
END:STANDARD
END:VTIMEZONE
BEGIN:VEVENT
DTSTART;TZID=America/Denver:20230216T070000
DTEND;TZID=America/Denver:20230217T153000
DTSTAMP:20260421T104259
CREATED:20221119T211122Z
LAST-MODIFIED:20230216T221851Z
UID:10006055-1676530800-1676647800@cccld.org
SUMMARY:HS SKI State Championships Copper/FriscoNordic Time TBD
DESCRIPTION:
URL:https://cccld.org/event/hs-ski-state-championships-copper-frisconordic-time-tbd/
LOCATION:Copper Mountain\, 209 Ten Mile Cir\, Frisco\, CO 80443\, USA
CATEGORIES:Community Events
END:VEVENT
BEGIN:VEVENT
DTSTART;TZID=America/Denver:20230216T111500
DTEND;TZID=America/Denver:20230216T111500
DTSTAMP:20260421T104259
CREATED:20220823T161604Z
LAST-MODIFIED:20230601T154437Z
UID:10005897-1676546100-1676546100@cccld.org
SUMMARY:JTML Storytime
DESCRIPTION:Join us for storytime and crafts at the John Tomay Memorial Library.
URL:https://cccld.org/event/jtml-storytime-9/2023-02-16/
LOCATION:John Tomay Memorial Library\, 605 6th Street\, Georgetown\, CO\, 80444\, United States
CATEGORIES:Kids,Library Events
GEO:39.7061997;-105.6974142
X-APPLE-STRUCTURED-LOCATION;VALUE=URI;X-ADDRESS=John Tomay Memorial Library 605 6th Street Georgetown CO 80444 United States;X-APPLE-RADIUS=500;X-TITLE=605 6th Street:geo:-105.6974142,39.7061997
END:VEVENT
BEGIN:VEVENT
DTSTART;TZID=America/Denver:20230216T150000
DTEND;TZID=America/Denver:20230216T163000
DTSTAMP:20260421T104259
CREATED:20221115T184646Z
LAST-MODIFIED:20221115T184646Z
UID:10005220-1676559600-1676565000@cccld.org
SUMMARY:JTML Book Group
DESCRIPTION:Everyone is welcome. Email libby@cccld.org for more information.
URL:https://cccld.org/event/jtml-book-group-12/2023-02-16/
LOCATION:John Tomay Memorial Library\, 605 6th Street\, Georgetown\, CO\, 80444\, United States
CATEGORIES:Adults,Library Events
GEO:39.7061997;-105.6974142
X-APPLE-STRUCTURED-LOCATION;VALUE=URI;X-ADDRESS=John Tomay Memorial Library 605 6th Street Georgetown CO 80444 United States;X-APPLE-RADIUS=500;X-TITLE=605 6th Street:geo:-105.6974142,39.7061997
END:VEVENT
BEGIN:VEVENT
DTSTART;TZID=America/Denver:20230216T170000
DTEND;TZID=America/Denver:20230216T180000
DTSTAMP:20260421T104259
CREATED:20230106T222717Z
LAST-MODIFIED:20230106T222717Z
UID:10006078-1676566800-1676570400@cccld.org
SUMMARY:ISPL - Adult ASL
DESCRIPTION:American Sign Language Classes for Adults–ages 15 and up–at the Idaho Springs Public Library. Please email joe@cccld.org for more information and to register.
URL:https://cccld.org/event/ispl-adult-asl/2023-02-16/
LOCATION:Idaho Springs Public Library\, 219 14th Avenue\, Idaho Springs\, CO\, 80452\, United States
CATEGORIES:Adults,Library Events,Teens
GEO:39.742052;-105.5183552
X-APPLE-STRUCTURED-LOCATION;VALUE=URI;X-ADDRESS=Idaho Springs Public Library 219 14th Avenue Idaho Springs CO 80452 United States;X-APPLE-RADIUS=500;X-TITLE=219 14th Avenue:geo:-105.5183552,39.742052
END:VEVENT
BEGIN:VEVENT
DTSTART;TZID=America/Denver:20230216T173000
DTEND;TZID=America/Denver:20230216T200000
DTSTAMP:20260421T104259
CREATED:20221119T211123Z
LAST-MODIFIED:20230216T221851Z
UID:10006056-1676568600-1676577600@cccld.org
SUMMARY:HS Basketball AWAY @Longmont Christian VG 530/ VB 7:00 bus@3:15
DESCRIPTION:
URL:https://cccld.org/event/hs-basketball-away-longmont-christian-v-g-430-v-b-600-bus/
LOCATION:Longmont Christian School\, 1440 Collyer St\, Longmont\, CO 80501\, USA
CATEGORIES:Community Events
END:VEVENT
END:VCALENDAR