BEGIN:VCALENDAR
VERSION:2.0
PRODID:-//Clear Creek County Library District - ECPv6.15.16//NONSGML v1.0//EN
CALSCALE:GREGORIAN
METHOD:PUBLISH
X-ORIGINAL-URL:https://cccld.org
X-WR-CALDESC:Events for Clear Creek County Library District
REFRESH-INTERVAL;VALUE=DURATION:PT1H
X-Robots-Tag:noindex
X-PUBLISHED-TTL:PT1H
BEGIN:VTIMEZONE
TZID:America/Denver
BEGIN:DAYLIGHT
TZOFFSETFROM:-0700
TZOFFSETTO:-0600
TZNAME:MDT
DTSTART:20220313T090000
END:DAYLIGHT
BEGIN:STANDARD
TZOFFSETFROM:-0600
TZOFFSETTO:-0700
TZNAME:MST
DTSTART:20221106T080000
END:STANDARD
BEGIN:DAYLIGHT
TZOFFSETFROM:-0700
TZOFFSETTO:-0600
TZNAME:MDT
DTSTART:20230312T090000
END:DAYLIGHT
BEGIN:STANDARD
TZOFFSETFROM:-0600
TZOFFSETTO:-0700
TZNAME:MST
DTSTART:20231105T080000
END:STANDARD
BEGIN:DAYLIGHT
TZOFFSETFROM:-0700
TZOFFSETTO:-0600
TZNAME:MDT
DTSTART:20240310T090000
END:DAYLIGHT
BEGIN:STANDARD
TZOFFSETFROM:-0600
TZOFFSETTO:-0700
TZNAME:MST
DTSTART:20241103T080000
END:STANDARD
END:VTIMEZONE
BEGIN:VEVENT
DTSTART;TZID=America/Denver:20230223T070000
DTEND;TZID=America/Denver:20230225T080000
DTSTAMP:20260421T104259
CREATED:20221101T183012Z
LAST-MODIFIED:20230219T224337Z
UID:10006015-1677135600-1677312000@cccld.org
SUMMARY:HS Wrestling State TBD
DESCRIPTION:
URL:https://cccld.org/event/hs-wrestling-state-tbd/
CATEGORIES:Community Events
END:VEVENT
BEGIN:VEVENT
DTSTART;TZID=America/Denver:20230225T080000
DTEND;TZID=America/Denver:20230225T170000
DTSTAMP:20260421T104259
CREATED:20230214T215946Z
LAST-MODIFIED:20230222T230617Z
UID:10005302-1677312000-1677344400@cccld.org
SUMMARY:MS Wrestling AWAY @ Bennett 8:00am
DESCRIPTION:
URL:https://cccld.org/event/ms-wrestling-away-bennett-800am/
LOCATION:Bennett
CATEGORIES:Community Events
END:VEVENT
END:VCALENDAR