BEGIN:VCALENDAR
VERSION:2.0
PRODID:-//Clear Creek County Library District - ECPv6.15.16//NONSGML v1.0//EN
CALSCALE:GREGORIAN
METHOD:PUBLISH
X-WR-CALNAME:Clear Creek County Library District
X-ORIGINAL-URL:https://cccld.org
X-WR-CALDESC:Events for Clear Creek County Library District
REFRESH-INTERVAL;VALUE=DURATION:PT1H
X-Robots-Tag:noindex
X-PUBLISHED-TTL:PT1H
BEGIN:VTIMEZONE
TZID:America/Denver
BEGIN:DAYLIGHT
TZOFFSETFROM:-0700
TZOFFSETTO:-0600
TZNAME:MDT
DTSTART:20220313T090000
END:DAYLIGHT
BEGIN:STANDARD
TZOFFSETFROM:-0600
TZOFFSETTO:-0700
TZNAME:MST
DTSTART:20221106T080000
END:STANDARD
BEGIN:DAYLIGHT
TZOFFSETFROM:-0700
TZOFFSETTO:-0600
TZNAME:MDT
DTSTART:20230312T090000
END:DAYLIGHT
BEGIN:STANDARD
TZOFFSETFROM:-0600
TZOFFSETTO:-0700
TZNAME:MST
DTSTART:20231105T080000
END:STANDARD
BEGIN:DAYLIGHT
TZOFFSETFROM:-0700
TZOFFSETTO:-0600
TZNAME:MDT
DTSTART:20240310T090000
END:DAYLIGHT
BEGIN:STANDARD
TZOFFSETFROM:-0600
TZOFFSETTO:-0700
TZNAME:MST
DTSTART:20241103T080000
END:STANDARD
END:VTIMEZONE
BEGIN:VEVENT
DTSTART;TZID=America/Denver:20230331T123000
DTEND;TZID=America/Denver:20230331T150000
DTSTAMP:20260421T070839
CREATED:20220823T170701Z
LAST-MODIFIED:20230307T211506Z
UID:10005949-1680265800-1680274800@cccld.org
SUMMARY:JTML & ISPL COMPASS Fridays
DESCRIPTION:Join us for FREE guided and independent activities on Friday afternoons during the school year\, funded through your Library District.
URL:https://cccld.org/event/jtml-ispl-compass-fridays/2023-03-31/
LOCATION:CO\, 80444\, United States
CATEGORIES:Kids,Library Events,Teens
GEO:39.7104468;-105.6969788
END:VEVENT
BEGIN:VEVENT
DTSTART;TZID=America/Denver:20230331T130000
DTEND;TZID=America/Denver:20230331T140000
DTSTAMP:20260421T070839
CREATED:20230216T221849Z
LAST-MODIFIED:20230331T154457Z
UID:10006165-1680267600-1680271200@cccld.org
SUMMARY:MS Girls Soccer HOME vs Gilpin Time 1:00
DESCRIPTION:
URL:https://cccld.org/event/ms-girls-soccer-home-vs-gilpin-time-300/
CATEGORIES:Community Events
END:VEVENT
BEGIN:VEVENT
DTSTART;TZID=America/Denver:20230331T160000
DTEND;TZID=America/Denver:20230331T170000
DTSTAMP:20260421T070839
CREATED:20230202T202826Z
LAST-MODIFIED:20230331T154457Z
UID:10006118-1680278400-1680282000@cccld.org
SUMMARY:HS LAX HOME vs Smoky Hill High School 4:00
DESCRIPTION:
URL:https://cccld.org/event/hs-lax-home-vs-bishop-machebeuf-400/
CATEGORIES:Community Events
END:VEVENT
END:VCALENDAR