BEGIN:VCALENDAR
VERSION:2.0
PRODID:-//Clear Creek County Library District - ECPv6.15.16//NONSGML v1.0//EN
CALSCALE:GREGORIAN
METHOD:PUBLISH
X-ORIGINAL-URL:https://cccld.org
X-WR-CALDESC:Events for Clear Creek County Library District
REFRESH-INTERVAL;VALUE=DURATION:PT1H
X-Robots-Tag:noindex
X-PUBLISHED-TTL:PT1H
BEGIN:VTIMEZONE
TZID:America/Denver
BEGIN:DAYLIGHT
TZOFFSETFROM:-0700
TZOFFSETTO:-0600
TZNAME:MDT
DTSTART:20220313T090000
END:DAYLIGHT
BEGIN:STANDARD
TZOFFSETFROM:-0600
TZOFFSETTO:-0700
TZNAME:MST
DTSTART:20221106T080000
END:STANDARD
BEGIN:DAYLIGHT
TZOFFSETFROM:-0700
TZOFFSETTO:-0600
TZNAME:MDT
DTSTART:20230312T090000
END:DAYLIGHT
BEGIN:STANDARD
TZOFFSETFROM:-0600
TZOFFSETTO:-0700
TZNAME:MST
DTSTART:20231105T080000
END:STANDARD
BEGIN:DAYLIGHT
TZOFFSETFROM:-0700
TZOFFSETTO:-0600
TZNAME:MDT
DTSTART:20240310T090000
END:DAYLIGHT
BEGIN:STANDARD
TZOFFSETFROM:-0600
TZOFFSETTO:-0700
TZNAME:MST
DTSTART:20241103T080000
END:STANDARD
END:VTIMEZONE
BEGIN:VEVENT
DTSTART;TZID=America/Denver:20230404T111500
DTEND;TZID=America/Denver:20230404T111500
DTSTAMP:20260421T071017
CREATED:20220823T161139Z
LAST-MODIFIED:20230601T154258Z
UID:10005866-1680606900-1680606900@cccld.org
SUMMARY:ISPL Storytime
DESCRIPTION:Join us for storytime and crafts at the Idaho Springs Public Library.
URL:https://cccld.org/event/ispl-storytime-9/2023-04-04/
LOCATION:Idaho Springs Public Library\, 219 14th Avenue\, Idaho Springs\, CO\, 80452\, United States
CATEGORIES:Kids,Library Events
GEO:39.742052;-105.5183552
X-APPLE-STRUCTURED-LOCATION;VALUE=URI;X-ADDRESS=Idaho Springs Public Library 219 14th Avenue Idaho Springs CO 80452 United States;X-APPLE-RADIUS=500;X-TITLE=219 14th Avenue:geo:-105.5183552,39.742052
END:VEVENT
BEGIN:VEVENT
DTSTART;TZID=America/Denver:20230404T111500
DTEND;TZID=America/Denver:20230404T121500
DTSTAMP:20260421T071017
CREATED:20230331T220502Z
LAST-MODIFIED:20230331T220502Z
UID:10006195-1680606900-1680610500@cccld.org
SUMMARY:ISPL Storytime & Sign Language
DESCRIPTION:Join us for storytime\, crafts\, and sign language at the Idaho Springs Public Library.
URL:https://cccld.org/event/ispl-storytime-sign-language/2023-04-04/
LOCATION:Idaho Springs Public Library\, 219 14th Avenue\, Idaho Springs\, CO\, 80452\, United States
CATEGORIES:Adults,Kids,Library Events
GEO:39.742052;-105.5183552
X-APPLE-STRUCTURED-LOCATION;VALUE=URI;X-ADDRESS=Idaho Springs Public Library 219 14th Avenue Idaho Springs CO 80452 United States;X-APPLE-RADIUS=500;X-TITLE=219 14th Avenue:geo:-105.5183552,39.742052
END:VEVENT
BEGIN:VEVENT
DTSTART;TZID=America/Denver:20230404T161500
DTEND;TZID=America/Denver:20230404T171500
DTSTAMP:20260421T071017
CREATED:20230202T202827Z
LAST-MODIFIED:20230404T155908Z
UID:10006122-1680624900-1680628500@cccld.org
SUMMARY:HS LAX HOME vs PALMER 4:15
DESCRIPTION:
URL:https://cccld.org/event/hs-lax-home-vs-palmer-415/
CATEGORIES:Community Events
END:VEVENT
BEGIN:VEVENT
DTSTART;TZID=America/Denver:20230404T173000
DTEND;TZID=America/Denver:20230404T190000
DTSTAMP:20260421T071017
CREATED:20230307T210409Z
LAST-MODIFIED:20230404T202549Z
UID:10006180-1680629400-1680634800@cccld.org
SUMMARY:CANCELLED ISPL Adult Craft
DESCRIPTION:CANCELLED DUE TO WEATHER – Rescheduled for April 18. Do you love to craft? Or are you craft-curious? Get creative and connect with other crafty patrons at our monthly craft workshops! No experience is necessary and all workshops are free. April’s craft is Ukranian Eggs with Megan Vickers. Please email chris@cccld.org to register and for additional information.
URL:https://cccld.org/event/ispl-adult-craft-10/
LOCATION:Idaho Springs Public Library\, 219 14th Avenue\, Idaho Springs\, CO\, 80452\, United States
CATEGORIES:Adults,Library Events
GEO:39.742052;-105.5183552
X-APPLE-STRUCTURED-LOCATION;VALUE=URI;X-ADDRESS=Idaho Springs Public Library 219 14th Avenue Idaho Springs CO 80452 United States;X-APPLE-RADIUS=500;X-TITLE=219 14th Avenue:geo:-105.5183552,39.742052
END:VEVENT
BEGIN:VEVENT
DTSTART;TZID=America/Denver:20230404T180000
DTEND;TZID=America/Denver:20230404T190000
DTSTAMP:20260421T071017
CREATED:20230202T202827Z
LAST-MODIFIED:20230221T225823Z
UID:10006123-1680631200-1680634800@cccld.org
SUMMARY:HS G Soccer AWAY @Wellington 6:00
DESCRIPTION:
URL:https://cccld.org/event/hs-g-soccer-away-wellington-600/
CATEGORIES:Community Events
END:VEVENT
END:VCALENDAR