BEGIN:VCALENDAR
VERSION:2.0
PRODID:-//Clear Creek County Library District - ECPv6.15.16//NONSGML v1.0//EN
CALSCALE:GREGORIAN
METHOD:PUBLISH
X-WR-CALNAME:Clear Creek County Library District
X-ORIGINAL-URL:https://cccld.org
X-WR-CALDESC:Events for Clear Creek County Library District
REFRESH-INTERVAL;VALUE=DURATION:PT1H
X-Robots-Tag:noindex
X-PUBLISHED-TTL:PT1H
BEGIN:VTIMEZONE
TZID:America/Denver
BEGIN:DAYLIGHT
TZOFFSETFROM:-0700
TZOFFSETTO:-0600
TZNAME:MDT
DTSTART:20220313T090000
END:DAYLIGHT
BEGIN:STANDARD
TZOFFSETFROM:-0600
TZOFFSETTO:-0700
TZNAME:MST
DTSTART:20221106T080000
END:STANDARD
BEGIN:DAYLIGHT
TZOFFSETFROM:-0700
TZOFFSETTO:-0600
TZNAME:MDT
DTSTART:20230312T090000
END:DAYLIGHT
BEGIN:STANDARD
TZOFFSETFROM:-0600
TZOFFSETTO:-0700
TZNAME:MST
DTSTART:20231105T080000
END:STANDARD
BEGIN:DAYLIGHT
TZOFFSETFROM:-0700
TZOFFSETTO:-0600
TZNAME:MDT
DTSTART:20240310T090000
END:DAYLIGHT
BEGIN:STANDARD
TZOFFSETFROM:-0600
TZOFFSETTO:-0700
TZNAME:MST
DTSTART:20241103T080000
END:STANDARD
END:VTIMEZONE
BEGIN:VEVENT
DTSTART;TZID=America/Denver:20230408T100000
DTEND;TZID=America/Denver:20230408T110000
DTSTAMP:20260421T070738
CREATED:20230307T212047Z
LAST-MODIFIED:20230307T212047Z
UID:10006184-1680948000-1680951600@cccld.org
SUMMARY:Easter Egg Hunt
DESCRIPTION:Hunt for Easter eggs and look for the golden egg to win prizes. Join Miss Honeybun for storytime.\nWerlin Park – Kids 0-5\nFoster’s Place – Kids 6 yrs. & up
URL:https://cccld.org/event/easter-egg-hunt-4/
LOCATION:Werlin Park\, 1014 Taos Street\, Georgetown\, CO\, 80444\, United States
CATEGORIES:Adults,Kids,Library Events,Teens
GEO:39.7098503;-105.6948933
X-APPLE-STRUCTURED-LOCATION;VALUE=URI;X-ADDRESS=Werlin Park 1014 Taos Street Georgetown CO 80444 United States;X-APPLE-RADIUS=500;X-TITLE=1014 Taos Street:geo:-105.6948933,39.7098503
END:VEVENT
BEGIN:VEVENT
DTSTART;TZID=America/Denver:20230408T130000
DTEND;TZID=America/Denver:20230408T140000
DTSTAMP:20260421T070738
CREATED:20230215T222031Z
LAST-MODIFIED:20230309T142804Z
UID:10006138-1680958800-1680962400@cccld.org
SUMMARY:HS Baseball AWAY @ Platte Canyon 1:00
DESCRIPTION:
URL:https://cccld.org/event/hs-baseball-away-platte-canyon-100/
CATEGORIES:Community Events
END:VEVENT
BEGIN:VEVENT
DTSTART;TZID=America/Denver:20230408T130000
DTEND;TZID=America/Denver:20230408T140000
DTSTAMP:20260421T070738
CREATED:20230330T154500Z
LAST-MODIFIED:20230408T155826Z
UID:10005363-1680958800-1680962400@cccld.org
SUMMARY:HS LAX HOME vs. St Marys 1:00
DESCRIPTION:
URL:https://cccld.org/event/hs-lax-home-vs-st-marys-100/
CATEGORIES:Community Events
END:VEVENT
BEGIN:VEVENT
DTSTART;TZID=America/Denver:20230408T140000
DTEND;TZID=America/Denver:20230408T150000
DTSTAMP:20260421T070738
CREATED:20230407T155820Z
LAST-MODIFIED:20230408T155826Z
UID:10006208-1680962400-1680966000@cccld.org
SUMMARY:HS Baseball HOME vs Dayspring Christian 2:00
DESCRIPTION:
URL:https://cccld.org/event/hs-baseball-home-vs-dayspring-christian-200/
CATEGORIES:Community Events
END:VEVENT
END:VCALENDAR