BEGIN:VCALENDAR
VERSION:2.0
PRODID:-//Clear Creek County Library District - ECPv6.15.16//NONSGML v1.0//EN
CALSCALE:GREGORIAN
METHOD:PUBLISH
X-WR-CALNAME:Clear Creek County Library District
X-ORIGINAL-URL:https://cccld.org
X-WR-CALDESC:Events for Clear Creek County Library District
REFRESH-INTERVAL;VALUE=DURATION:PT1H
X-Robots-Tag:noindex
X-PUBLISHED-TTL:PT1H
BEGIN:VTIMEZONE
TZID:America/Denver
BEGIN:DAYLIGHT
TZOFFSETFROM:-0700
TZOFFSETTO:-0600
TZNAME:MDT
DTSTART:20220313T090000
END:DAYLIGHT
BEGIN:STANDARD
TZOFFSETFROM:-0600
TZOFFSETTO:-0700
TZNAME:MST
DTSTART:20221106T080000
END:STANDARD
BEGIN:DAYLIGHT
TZOFFSETFROM:-0700
TZOFFSETTO:-0600
TZNAME:MDT
DTSTART:20230312T090000
END:DAYLIGHT
BEGIN:STANDARD
TZOFFSETFROM:-0600
TZOFFSETTO:-0700
TZNAME:MST
DTSTART:20231105T080000
END:STANDARD
BEGIN:DAYLIGHT
TZOFFSETFROM:-0700
TZOFFSETTO:-0600
TZNAME:MDT
DTSTART:20240310T090000
END:DAYLIGHT
BEGIN:STANDARD
TZOFFSETFROM:-0600
TZOFFSETTO:-0700
TZNAME:MST
DTSTART:20241103T080000
END:STANDARD
END:VTIMEZONE
BEGIN:VEVENT
DTSTART;TZID=America/Denver:20230422T110000
DTEND;TZID=America/Denver:20230422T120000
DTSTAMP:20260421T070757
CREATED:20230215T222032Z
LAST-MODIFIED:20230422T171325Z
UID:10006153-1682161200-1682164800@cccld.org
SUMMARY:HS Baseball AWAY @ Longmont 11:00 Bus 8:00am
DESCRIPTION:
URL:https://cccld.org/event/hs-baseball-away-estes-park-1100-100/
LOCATION:Clark Centennial Park\, 1100 Lashley St\, Longmont\, CO 80504\, USA
CATEGORIES:Community Events
END:VEVENT
BEGIN:VEVENT
DTSTART;TZID=America/Denver:20230422T130000
DTEND;TZID=America/Denver:20230422T140000
DTSTAMP:20260421T070757
CREATED:20230330T154501Z
LAST-MODIFIED:20230422T171325Z
UID:10006189-1682168400-1682172000@cccld.org
SUMMARY:HS LAX HOME vs Glenwood Time 1:00
DESCRIPTION:
URL:https://cccld.org/event/hs-lax-home-vs-glenwood-time-100/
CATEGORIES:Community Events
END:VEVENT
END:VCALENDAR