BEGIN:VCALENDAR
VERSION:2.0
PRODID:-//Clear Creek County Library District - ECPv6.15.16//NONSGML v1.0//EN
CALSCALE:GREGORIAN
METHOD:PUBLISH
X-WR-CALNAME:Clear Creek County Library District
X-ORIGINAL-URL:https://cccld.org
X-WR-CALDESC:Events for Clear Creek County Library District
REFRESH-INTERVAL;VALUE=DURATION:PT1H
X-Robots-Tag:noindex
X-PUBLISHED-TTL:PT1H
BEGIN:VTIMEZONE
TZID:America/Denver
BEGIN:DAYLIGHT
TZOFFSETFROM:-0700
TZOFFSETTO:-0600
TZNAME:MDT
DTSTART:20220313T090000
END:DAYLIGHT
BEGIN:STANDARD
TZOFFSETFROM:-0600
TZOFFSETTO:-0700
TZNAME:MST
DTSTART:20221106T080000
END:STANDARD
BEGIN:DAYLIGHT
TZOFFSETFROM:-0700
TZOFFSETTO:-0600
TZNAME:MDT
DTSTART:20230312T090000
END:DAYLIGHT
BEGIN:STANDARD
TZOFFSETFROM:-0600
TZOFFSETTO:-0700
TZNAME:MST
DTSTART:20231105T080000
END:STANDARD
BEGIN:DAYLIGHT
TZOFFSETFROM:-0700
TZOFFSETTO:-0600
TZNAME:MDT
DTSTART:20240310T090000
END:DAYLIGHT
BEGIN:STANDARD
TZOFFSETFROM:-0600
TZOFFSETTO:-0700
TZNAME:MST
DTSTART:20241103T080000
END:STANDARD
END:VTIMEZONE
BEGIN:VEVENT
DTSTART;VALUE=DATE:20230424
DTEND;VALUE=DATE:20230429
DTSTAMP:20260421T070757
CREATED:20230331T220910Z
LAST-MODIFIED:20230331T220910Z
UID:10006203-1682294400-1682726399@cccld.org
SUMMARY:National Library Week
DESCRIPTION:April 24-27 is National Library Week\, an annual celebration highlighting the roles libraries\, librarians\, and library workers play in transforming lives and strengthening communities. \nStop by the Idaho Springs Public Library or the John Tomay Memorial Library for coffee and treats all week.
URL:https://cccld.org/event/national-library-week-2/
LOCATION:CO\, 80444\, United States
CATEGORIES:Adults,Kids,Library Events,Teens
GEO:39.7104468;-105.6969788
END:VEVENT
BEGIN:VEVENT
DTSTART;TZID=America/Denver:20230427T111500
DTEND;TZID=America/Denver:20230427T111500
DTSTAMP:20260421T070757
CREATED:20220823T161604Z
LAST-MODIFIED:20230601T154437Z
UID:10005907-1682594100-1682594100@cccld.org
SUMMARY:JTML Storytime
DESCRIPTION:Join us for storytime and crafts at the John Tomay Memorial Library.
URL:https://cccld.org/event/jtml-storytime-9/2023-04-27/
LOCATION:John Tomay Memorial Library\, 605 6th Street\, Georgetown\, CO\, 80444\, United States
CATEGORIES:Kids,Library Events
GEO:39.7061997;-105.6974142
X-APPLE-STRUCTURED-LOCATION;VALUE=URI;X-ADDRESS=John Tomay Memorial Library 605 6th Street Georgetown CO 80444 United States;X-APPLE-RADIUS=500;X-TITLE=605 6th Street:geo:-105.6974142,39.7061997
END:VEVENT
BEGIN:VEVENT
DTSTART;TZID=America/Denver:20230427T111500
DTEND;TZID=America/Denver:20230427T121500
DTSTAMP:20260421T070757
CREATED:20230331T220649Z
LAST-MODIFIED:20230331T220649Z
UID:10006202-1682594100-1682597700@cccld.org
SUMMARY:JTML Storytime & Sign Language
DESCRIPTION:Join us for storytime\, crafts\, and sign language at the John Tomay Memorial Library.
URL:https://cccld.org/event/jtml-storytime-sign-language/2023-04-27/
LOCATION:John Tomay Memorial Library\, 605 6th Street\, Georgetown\, CO\, 80444\, United States
CATEGORIES:Adults,Kids,Library Events
GEO:39.7061997;-105.6974142
X-APPLE-STRUCTURED-LOCATION;VALUE=URI;X-ADDRESS=John Tomay Memorial Library 605 6th Street Georgetown CO 80444 United States;X-APPLE-RADIUS=500;X-TITLE=605 6th Street:geo:-105.6974142,39.7061997
END:VEVENT
BEGIN:VEVENT
DTSTART;TZID=America/Denver:20230427T153000
DTEND;TZID=America/Denver:20230427T170000
DTSTAMP:20260421T070757
CREATED:20230331T221046Z
LAST-MODIFIED:20230331T221046Z
UID:10006204-1682609400-1682614800@cccld.org
SUMMARY:Día de los Niños
DESCRIPTION:El Día de los Niños/El Día de los Libros\, also known simply as Día\, is a celebration of children\, families\, and reading. Join the fun with food\, music\, and games.
URL:https://cccld.org/event/dia-de-los-ninos-3/
LOCATION:Idaho Springs Public Library\, 219 14th Avenue\, Idaho Springs\, CO\, 80452\, United States
CATEGORIES:Adults,Kids,Library Events,Teens
GEO:39.742052;-105.5183552
X-APPLE-STRUCTURED-LOCATION;VALUE=URI;X-ADDRESS=Idaho Springs Public Library 219 14th Avenue Idaho Springs CO 80452 United States;X-APPLE-RADIUS=500;X-TITLE=219 14th Avenue:geo:-105.5183552,39.742052
END:VEVENT
BEGIN:VEVENT
DTSTART;TZID=America/Denver:20230427T160000
DTEND;TZID=America/Denver:20230427T170000
DTSTAMP:20260421T070757
CREATED:20230215T222032Z
LAST-MODIFIED:20230427T171528Z
UID:10006157-1682611200-1682614800@cccld.org
SUMMARY:HS Baseball AWAY @ Middle Park 4:00 BUS TBD
DESCRIPTION:
URL:https://cccld.org/event/hs-baseball-home-vs-longmont-christian-time-400/
CATEGORIES:Community Events
END:VEVENT
BEGIN:VEVENT
DTSTART;TZID=America/Denver:20230427T160000
DTEND;TZID=America/Denver:20230427T170000
DTSTAMP:20260421T070757
CREATED:20230215T222032Z
LAST-MODIFIED:20230427T171528Z
UID:10006158-1682611200-1682614800@cccld.org
SUMMARY:HS Girls Soccer HOME vs Skyview Academy Time 4:30
DESCRIPTION:
URL:https://cccld.org/event/hs-girls-soccer-home-vs-skyview-academy-time-tbd/
CATEGORIES:Community Events
END:VEVENT
BEGIN:VEVENT
DTSTART;TZID=America/Denver:20230427T161500
DTEND;TZID=America/Denver:20230427T171500
DTSTAMP:20260421T070757
CREATED:20230216T221851Z
LAST-MODIFIED:20230402T155436Z
UID:10006171-1682612100-1682615700@cccld.org
SUMMARY:MS G Soccer AWAY @ Fort Logan time 4:15
DESCRIPTION:
URL:https://cccld.org/event/ms-g-soccer-away-fort-logan-time-415/
CATEGORIES:Community Events
END:VEVENT
END:VCALENDAR