BEGIN:VCALENDAR
VERSION:2.0
PRODID:-//Clear Creek County Library District - ECPv6.15.16//NONSGML v1.0//EN
CALSCALE:GREGORIAN
METHOD:PUBLISH
X-WR-CALNAME:Clear Creek County Library District
X-ORIGINAL-URL:https://cccld.org
X-WR-CALDESC:Events for Clear Creek County Library District
REFRESH-INTERVAL;VALUE=DURATION:PT1H
X-Robots-Tag:noindex
X-PUBLISHED-TTL:PT1H
BEGIN:VTIMEZONE
TZID:America/Denver
BEGIN:DAYLIGHT
TZOFFSETFROM:-0700
TZOFFSETTO:-0600
TZNAME:MDT
DTSTART:20220313T090000
END:DAYLIGHT
BEGIN:STANDARD
TZOFFSETFROM:-0600
TZOFFSETTO:-0700
TZNAME:MST
DTSTART:20221106T080000
END:STANDARD
BEGIN:DAYLIGHT
TZOFFSETFROM:-0700
TZOFFSETTO:-0600
TZNAME:MDT
DTSTART:20230312T090000
END:DAYLIGHT
BEGIN:STANDARD
TZOFFSETFROM:-0600
TZOFFSETTO:-0700
TZNAME:MST
DTSTART:20231105T080000
END:STANDARD
BEGIN:DAYLIGHT
TZOFFSETFROM:-0700
TZOFFSETTO:-0600
TZNAME:MDT
DTSTART:20240310T090000
END:DAYLIGHT
BEGIN:STANDARD
TZOFFSETFROM:-0600
TZOFFSETTO:-0700
TZNAME:MST
DTSTART:20241103T080000
END:STANDARD
END:VTIMEZONE
BEGIN:VEVENT
DTSTART;TZID=America/Denver:20230501T150000
DTEND;TZID=America/Denver:20230501T163000
DTSTAMP:20260421T055942
CREATED:20230425T171401Z
LAST-MODIFIED:20230430T171620Z
UID:10006217-1682953200-1682958600@cccld.org
SUMMARY:HS Spring Sports Picture Day
DESCRIPTION:
URL:https://cccld.org/event/hs-spring-sports-picture-day/
CATEGORIES:Community Events
END:VEVENT
BEGIN:VEVENT
DTSTART;TZID=America/Denver:20230501T163000
DTEND;TZID=America/Denver:20230501T173000
DTSTAMP:20260421T055942
CREATED:20230216T221851Z
LAST-MODIFIED:20230501T172023Z
UID:10006172-1682958600-1682962200@cccld.org
SUMMARY:MS Girls Soccer AWAY @ Gilpin Time 4:30
DESCRIPTION:
URL:https://cccld.org/event/ms-girls-soccer-away-gilpin-time-430/
CATEGORIES:Community Events
END:VEVENT
BEGIN:VEVENT
DTSTART;TZID=America/Denver:20230501T180000
DTEND;TZID=America/Denver:20230501T190000
DTSTAMP:20260421T055942
CREATED:20230223T231800Z
LAST-MODIFIED:20230501T172023Z
UID:10006176-1682964000-1682967600@cccld.org
SUMMARY:HS G Soccer AWAY @ Campion 6:00 Bus TBD
DESCRIPTION:
URL:https://cccld.org/event/hs-g-soccer-away-campion-600-bus-tbd/
CATEGORIES:Community Events
END:VEVENT
END:VCALENDAR