BEGIN:VCALENDAR
VERSION:2.0
PRODID:-//Clear Creek County Library District - ECPv6.15.16//NONSGML v1.0//EN
CALSCALE:GREGORIAN
METHOD:PUBLISH
X-WR-CALNAME:Clear Creek County Library District
X-ORIGINAL-URL:https://cccld.org
X-WR-CALDESC:Events for Clear Creek County Library District
REFRESH-INTERVAL;VALUE=DURATION:PT1H
X-Robots-Tag:noindex
X-PUBLISHED-TTL:PT1H
BEGIN:VTIMEZONE
TZID:America/Denver
BEGIN:DAYLIGHT
TZOFFSETFROM:-0700
TZOFFSETTO:-0600
TZNAME:MDT
DTSTART:20220313T090000
END:DAYLIGHT
BEGIN:STANDARD
TZOFFSETFROM:-0600
TZOFFSETTO:-0700
TZNAME:MST
DTSTART:20221106T080000
END:STANDARD
BEGIN:DAYLIGHT
TZOFFSETFROM:-0700
TZOFFSETTO:-0600
TZNAME:MDT
DTSTART:20230312T090000
END:DAYLIGHT
BEGIN:STANDARD
TZOFFSETFROM:-0600
TZOFFSETTO:-0700
TZNAME:MST
DTSTART:20231105T080000
END:STANDARD
BEGIN:DAYLIGHT
TZOFFSETFROM:-0700
TZOFFSETTO:-0600
TZNAME:MDT
DTSTART:20240310T090000
END:DAYLIGHT
BEGIN:STANDARD
TZOFFSETFROM:-0600
TZOFFSETTO:-0700
TZNAME:MST
DTSTART:20241103T080000
END:STANDARD
END:VTIMEZONE
BEGIN:VEVENT
DTSTART;TZID=America/Denver:20230502T111500
DTEND;TZID=America/Denver:20230502T111500
DTSTAMP:20260421T055919
CREATED:20220823T161139Z
LAST-MODIFIED:20230601T154258Z
UID:10005870-1683026100-1683026100@cccld.org
SUMMARY:ISPL Storytime
DESCRIPTION:Join us for storytime and crafts at the Idaho Springs Public Library.
URL:https://cccld.org/event/ispl-storytime-9/2023-05-02/
LOCATION:Idaho Springs Public Library\, 219 14th Avenue\, Idaho Springs\, CO\, 80452\, United States
CATEGORIES:Kids,Library Events
GEO:39.742052;-105.5183552
X-APPLE-STRUCTURED-LOCATION;VALUE=URI;X-ADDRESS=Idaho Springs Public Library 219 14th Avenue Idaho Springs CO 80452 United States;X-APPLE-RADIUS=500;X-TITLE=219 14th Avenue:geo:-105.5183552,39.742052
END:VEVENT
BEGIN:VEVENT
DTSTART;TZID=America/Denver:20230502T160000
DTEND;TZID=America/Denver:20230502T170000
DTSTAMP:20260421T055919
CREATED:20230215T222032Z
LAST-MODIFIED:20230502T172900Z
UID:10005328-1683043200-1683046800@cccld.org
SUMMARY:HS Girls Soccer HOME vs Union Colony Time 4:00 Senior Night
DESCRIPTION:
URL:https://cccld.org/event/hs-girls-soccer-home-vs-union-colony-time-tbd/
CATEGORIES:Community Events
END:VEVENT
BEGIN:VEVENT
DTSTART;TZID=America/Denver:20230502T160000
DTEND;TZID=America/Denver:20230502T170000
DTSTAMP:20260421T055919
CREATED:20230215T222032Z
LAST-MODIFIED:20230501T172023Z
UID:10005330-1683043200-1683046800@cccld.org
SUMMARY:HS LAX AWAY @ Denver North Time 4:00 Bus TBD
DESCRIPTION:
URL:https://cccld.org/event/hs-lax-away-denver-north-time-tbd/
CATEGORIES:Community Events
END:VEVENT
END:VCALENDAR