BEGIN:VCALENDAR
VERSION:2.0
PRODID:-//Clear Creek County Library District - ECPv6.15.16//NONSGML v1.0//EN
CALSCALE:GREGORIAN
METHOD:PUBLISH
X-WR-CALNAME:Clear Creek County Library District
X-ORIGINAL-URL:https://cccld.org
X-WR-CALDESC:Events for Clear Creek County Library District
REFRESH-INTERVAL;VALUE=DURATION:PT1H
X-Robots-Tag:noindex
X-PUBLISHED-TTL:PT1H
BEGIN:VTIMEZONE
TZID:America/Denver
BEGIN:DAYLIGHT
TZOFFSETFROM:-0700
TZOFFSETTO:-0600
TZNAME:MDT
DTSTART:20220313T090000
END:DAYLIGHT
BEGIN:STANDARD
TZOFFSETFROM:-0600
TZOFFSETTO:-0700
TZNAME:MST
DTSTART:20221106T080000
END:STANDARD
BEGIN:DAYLIGHT
TZOFFSETFROM:-0700
TZOFFSETTO:-0600
TZNAME:MDT
DTSTART:20230312T090000
END:DAYLIGHT
BEGIN:STANDARD
TZOFFSETFROM:-0600
TZOFFSETTO:-0700
TZNAME:MST
DTSTART:20231105T080000
END:STANDARD
BEGIN:DAYLIGHT
TZOFFSETFROM:-0700
TZOFFSETTO:-0600
TZNAME:MDT
DTSTART:20240310T090000
END:DAYLIGHT
BEGIN:STANDARD
TZOFFSETFROM:-0600
TZOFFSETTO:-0700
TZNAME:MST
DTSTART:20241103T080000
END:STANDARD
END:VTIMEZONE
BEGIN:VEVENT
DTSTART;TZID=America/Denver:20230505T100000
DTEND;TZID=America/Denver:20230505T170000
DTSTAMP:20260421T055941
CREATED:20230215T222032Z
LAST-MODIFIED:20230505T174328Z
UID:10005338-1683280800-1683306000@cccld.org
SUMMARY:HS Track Mile High League Championship @Longmont HS Departure time 10:00
DESCRIPTION:
URL:https://cccld.org/event/hs-track-mile-high-league-championship-longmont-hs-time-tbd/
CATEGORIES:Community Events
END:VEVENT
BEGIN:VEVENT
DTSTART;TZID=America/Denver:20230505T123000
DTEND;TZID=America/Denver:20230505T150000
DTSTAMP:20260421T055941
CREATED:20220823T170701Z
LAST-MODIFIED:20230307T211506Z
UID:10005954-1683289800-1683298800@cccld.org
SUMMARY:JTML & ISPL COMPASS Fridays
DESCRIPTION:Join us for FREE guided and independent activities on Friday afternoons during the school year\, funded through your Library District.
URL:https://cccld.org/event/jtml-ispl-compass-fridays/2023-05-05/
LOCATION:CO\, 80444\, United States
CATEGORIES:Kids,Library Events,Teens
GEO:39.7104468;-105.6969788
END:VEVENT
BEGIN:VEVENT
DTSTART;TZID=America/Denver:20230505T163000
DTEND;TZID=America/Denver:20230505T173000
DTSTAMP:20260421T055941
CREATED:20230215T222032Z
LAST-MODIFIED:20230329T154346Z
UID:10005334-1683304200-1683307800@cccld.org
SUMMARY:HS Girls Soccer HOME vs Rocky Mountain Lutheran Time 4:00
DESCRIPTION:
URL:https://cccld.org/event/hs-girls-soccer-home-vs-rocky-mountain-lutheran-time-400/
CATEGORIES:Community Events
END:VEVENT
END:VCALENDAR