BEGIN:VCALENDAR
VERSION:2.0
PRODID:-//Clear Creek County Library District - ECPv6.15.16//NONSGML v1.0//EN
CALSCALE:GREGORIAN
METHOD:PUBLISH
X-WR-CALNAME:Clear Creek County Library District
X-ORIGINAL-URL:https://cccld.org
X-WR-CALDESC:Events for Clear Creek County Library District
REFRESH-INTERVAL;VALUE=DURATION:PT1H
X-Robots-Tag:noindex
X-PUBLISHED-TTL:PT1H
BEGIN:VTIMEZONE
TZID:America/Denver
BEGIN:DAYLIGHT
TZOFFSETFROM:-0700
TZOFFSETTO:-0600
TZNAME:MDT
DTSTART:20220313T090000
END:DAYLIGHT
BEGIN:STANDARD
TZOFFSETFROM:-0600
TZOFFSETTO:-0700
TZNAME:MST
DTSTART:20221106T080000
END:STANDARD
BEGIN:DAYLIGHT
TZOFFSETFROM:-0700
TZOFFSETTO:-0600
TZNAME:MDT
DTSTART:20230312T090000
END:DAYLIGHT
BEGIN:STANDARD
TZOFFSETFROM:-0600
TZOFFSETTO:-0700
TZNAME:MST
DTSTART:20231105T080000
END:STANDARD
BEGIN:DAYLIGHT
TZOFFSETFROM:-0700
TZOFFSETTO:-0600
TZNAME:MDT
DTSTART:20240310T090000
END:DAYLIGHT
BEGIN:STANDARD
TZOFFSETFROM:-0600
TZOFFSETTO:-0700
TZNAME:MST
DTSTART:20241103T080000
END:STANDARD
END:VTIMEZONE
BEGIN:VEVENT
DTSTART;VALUE=DATE:20230703
DTEND;VALUE=DATE:20230705
DTSTAMP:20260421T082144
CREATED:20230124T215256Z
LAST-MODIFIED:20230124T215256Z
UID:10005271-1688342400-1688515199@cccld.org
SUMMARY:LIBRARY CLOSED
DESCRIPTION:Independence Day
URL:https://cccld.org/event/library-closed-6/
LOCATION:CO\, 80444\, United States
CATEGORIES:Library Events
GEO:39.7104468;-105.6969788
END:VEVENT
BEGIN:VEVENT
DTSTART;TZID=America/Denver:20230704T103000
DTEND;TZID=America/Denver:20230704T120000
DTSTAMP:20260421T082144
CREATED:20230601T160229Z
LAST-MODIFIED:20230601T160229Z
UID:10006265-1688466600-1688472000@cccld.org
SUMMARY:Georgetown Fourth of July Parade
DESCRIPTION:March with us at the Georgetown Fourth of July Parade. Help us throw magically sweet treats to the parade-goers!\nCome as a witch\, warlock\, magical creature\, or yourself – just make sure you wear sunblock and comfy shoes.\nBringing a bike or stroller? We’ll have supplies for you to decorate it!\nMeet us at the parade lineup near Werlin Park @ 10:30 am.\nParents with children under 8 years of age: please plan on accompanying your children during the parade.\nParents with children 8 years of age and older: please meet your kids promptly at the library after the parade.
URL:https://cccld.org/event/georgetown-fourth-of-july-parade/
LOCATION:Werlin Park\, 1014 Taos Street\, Georgetown\, CO\, 80444\, United States
CATEGORIES:Adults,Kids,Library Events,Summer Reading,Teens
GEO:39.7098503;-105.6948933
X-APPLE-STRUCTURED-LOCATION;VALUE=URI;X-ADDRESS=Werlin Park 1014 Taos Street Georgetown CO 80444 United States;X-APPLE-RADIUS=500;X-TITLE=1014 Taos Street:geo:-105.6948933,39.7098503
END:VEVENT
BEGIN:VEVENT
DTSTART;TZID=America/Denver:20230704T120000
DTEND;TZID=America/Denver:20230704T160000
DTSTAMP:20260421T082144
CREATED:20230627T170427Z
LAST-MODIFIED:20230627T170659Z
UID:10005435-1688472000-1688486400@cccld.org
SUMMARY:JTML Friends Book Sale
DESCRIPTION:Friends of the Georgetown Library Book Sale. July 1 & 2 – 10 am – 4 pm and July 4 – 12-4 pm @ John Tomay Memorial Library – 605 6th St.\, Georgetown\, CO.
URL:https://cccld.org/event/jtml-friends-book-sale-2/2023-07-04/
LOCATION:John Tomay Memorial Library\, 605 6th Street\, Georgetown\, CO\, 80444\, United States
CATEGORIES:Adults,Community Events,Kids,Library Events,Teens
GEO:39.7061997;-105.6974142
X-APPLE-STRUCTURED-LOCATION;VALUE=URI;X-ADDRESS=John Tomay Memorial Library 605 6th Street Georgetown CO 80444 United States;X-APPLE-RADIUS=500;X-TITLE=605 6th Street:geo:-105.6974142,39.7061997
END:VEVENT
END:VCALENDAR