BEGIN:VCALENDAR
VERSION:2.0
PRODID:-//Clear Creek County Library District - ECPv6.15.16//NONSGML v1.0//EN
CALSCALE:GREGORIAN
METHOD:PUBLISH
X-ORIGINAL-URL:https://cccld.org
X-WR-CALDESC:Events for Clear Creek County Library District
REFRESH-INTERVAL;VALUE=DURATION:PT1H
X-Robots-Tag:noindex
X-PUBLISHED-TTL:PT1H
BEGIN:VTIMEZONE
TZID:America/Denver
BEGIN:DAYLIGHT
TZOFFSETFROM:-0700
TZOFFSETTO:-0600
TZNAME:MDT
DTSTART:20220313T090000
END:DAYLIGHT
BEGIN:STANDARD
TZOFFSETFROM:-0600
TZOFFSETTO:-0700
TZNAME:MST
DTSTART:20221106T080000
END:STANDARD
BEGIN:DAYLIGHT
TZOFFSETFROM:-0700
TZOFFSETTO:-0600
TZNAME:MDT
DTSTART:20230312T090000
END:DAYLIGHT
BEGIN:STANDARD
TZOFFSETFROM:-0600
TZOFFSETTO:-0700
TZNAME:MST
DTSTART:20231105T080000
END:STANDARD
BEGIN:DAYLIGHT
TZOFFSETFROM:-0700
TZOFFSETTO:-0600
TZNAME:MDT
DTSTART:20240310T090000
END:DAYLIGHT
BEGIN:STANDARD
TZOFFSETFROM:-0600
TZOFFSETTO:-0700
TZNAME:MST
DTSTART:20241103T080000
END:STANDARD
END:VTIMEZONE
BEGIN:VEVENT
DTSTART;TZID=America/Denver:20230815T160000
DTEND;TZID=America/Denver:20230815T180000
DTSTAMP:20260421T082329
CREATED:20230727T160222Z
LAST-MODIFIED:20230727T160222Z
UID:10006286-1692115200-1692122400@cccld.org
SUMMARY:King Murphy Elementary Back-to-School Night
DESCRIPTION:Be sure to find us at back-to-school nights to learn more about library resources\, programs and services\, and to enter a grand prize drawing for a new Kindle.
URL:https://cccld.org/event/king-murphy-elementary-back-to-school-night/
LOCATION:CO\, 80444\, United States
CATEGORIES:Adults,Community Events,Kids,Library Events
GEO:39.7104468;-105.6969788
END:VEVENT
BEGIN:VEVENT
DTSTART;TZID=America/Denver:20230815T170000
DTEND;TZID=America/Denver:20230815T183000
DTSTAMP:20260421T082329
CREATED:20230124T213834Z
LAST-MODIFIED:20230814T160735Z
UID:10006096-1692118800-1692124200@cccld.org
SUMMARY:Library District Board Meeting
DESCRIPTION:The Clear Creek County Library District Board of Trustees meets on the third Tuesday of the month at noon with the exception of December’s budget approval meeting on 12/12/2023.
URL:https://cccld.org/event/library-district-board-meeting/2023-08-15/
LOCATION:CO\, 80444\, United States
CATEGORIES:Community Events,Library Events
GEO:39.7104468;-105.6969788
END:VEVENT
END:VCALENDAR