BEGIN:VCALENDAR
VERSION:2.0
PRODID:-//Clear Creek County Library District - ECPv6.15.16//NONSGML v1.0//EN
CALSCALE:GREGORIAN
METHOD:PUBLISH
X-WR-CALNAME:Clear Creek County Library District
X-ORIGINAL-URL:https://cccld.org
X-WR-CALDESC:Events for Clear Creek County Library District
REFRESH-INTERVAL;VALUE=DURATION:PT1H
X-Robots-Tag:noindex
X-PUBLISHED-TTL:PT1H
BEGIN:VTIMEZONE
TZID:America/Denver
BEGIN:DAYLIGHT
TZOFFSETFROM:-0700
TZOFFSETTO:-0600
TZNAME:MDT
DTSTART:20220313T090000
END:DAYLIGHT
BEGIN:STANDARD
TZOFFSETFROM:-0600
TZOFFSETTO:-0700
TZNAME:MST
DTSTART:20221106T080000
END:STANDARD
BEGIN:DAYLIGHT
TZOFFSETFROM:-0700
TZOFFSETTO:-0600
TZNAME:MDT
DTSTART:20230312T090000
END:DAYLIGHT
BEGIN:STANDARD
TZOFFSETFROM:-0600
TZOFFSETTO:-0700
TZNAME:MST
DTSTART:20231105T080000
END:STANDARD
BEGIN:DAYLIGHT
TZOFFSETFROM:-0700
TZOFFSETTO:-0600
TZNAME:MDT
DTSTART:20240310T090000
END:DAYLIGHT
BEGIN:STANDARD
TZOFFSETFROM:-0600
TZOFFSETTO:-0700
TZNAME:MST
DTSTART:20241103T080000
END:STANDARD
END:VTIMEZONE
BEGIN:VEVENT
DTSTART;TZID=America/Denver:20230906T160000
DTEND;TZID=America/Denver:20230906T170000
DTSTAMP:20260421T070836
CREATED:20230802T204351Z
LAST-MODIFIED:20230906T204320Z
UID:10006372-1694016000-1694019600@cccld.org
SUMMARY:MS Volleyball HOME vs. Fort Logan Northgate 4:00
DESCRIPTION:
URL:https://cccld.org/event/ms-volleyball-home-vs-fort-logan-northgate-400/
CATEGORIES:Community Events
END:VEVENT
BEGIN:VEVENT
DTSTART;TZID=America/Denver:20230906T161500
DTEND;TZID=America/Denver:20230906T171500
DTSTAMP:20260421T070836
CREATED:20230518T180454Z
LAST-MODIFIED:20230906T204321Z
UID:10006232-1694016900-1694020500@cccld.org
SUMMARY:MS Football HOME vs Fort Logan (Hybrid)
DESCRIPTION:
URL:https://cccld.org/event/ms-football-home-vs-fort-logan-hybrid/
CATEGORIES:Community Events
END:VEVENT
BEGIN:VEVENT
DTSTART;TZID=America/Denver:20230906T170000
DTEND;TZID=America/Denver:20230906T180000
DTSTAMP:20260421T070836
CREATED:20230727T201522Z
LAST-MODIFIED:20230906T204321Z
UID:10006369-1694019600-1694023200@cccld.org
SUMMARY:HS Volleyball AWAY @ Lotus 5/6 pm BUS TBD
DESCRIPTION:
URL:https://cccld.org/event/hs-volleyball-away-lotus-5-6-pm-bus-tbd/
CATEGORIES:Community Events
END:VEVENT
END:VCALENDAR