BEGIN:VCALENDAR
VERSION:2.0
PRODID:-//Clear Creek County Library District - ECPv6.15.16//NONSGML v1.0//EN
CALSCALE:GREGORIAN
METHOD:PUBLISH
X-ORIGINAL-URL:https://cccld.org
X-WR-CALDESC:Events for Clear Creek County Library District
REFRESH-INTERVAL;VALUE=DURATION:PT1H
X-Robots-Tag:noindex
X-PUBLISHED-TTL:PT1H
BEGIN:VTIMEZONE
TZID:America/Denver
BEGIN:DAYLIGHT
TZOFFSETFROM:-0700
TZOFFSETTO:-0600
TZNAME:MDT
DTSTART:20220313T090000
END:DAYLIGHT
BEGIN:STANDARD
TZOFFSETFROM:-0600
TZOFFSETTO:-0700
TZNAME:MST
DTSTART:20221106T080000
END:STANDARD
BEGIN:DAYLIGHT
TZOFFSETFROM:-0700
TZOFFSETTO:-0600
TZNAME:MDT
DTSTART:20230312T090000
END:DAYLIGHT
BEGIN:STANDARD
TZOFFSETFROM:-0600
TZOFFSETTO:-0700
TZNAME:MST
DTSTART:20231105T080000
END:STANDARD
BEGIN:DAYLIGHT
TZOFFSETFROM:-0700
TZOFFSETTO:-0600
TZNAME:MDT
DTSTART:20240310T090000
END:DAYLIGHT
BEGIN:STANDARD
TZOFFSETFROM:-0600
TZOFFSETTO:-0700
TZNAME:MST
DTSTART:20241103T080000
END:STANDARD
END:VTIMEZONE
BEGIN:VEVENT
DTSTART;TZID=America/Denver:20230913T160000
DTEND;TZID=America/Denver:20230913T170000
DTSTAMP:20260421T071051
CREATED:20230518T180454Z
LAST-MODIFIED:20230913T211321Z
UID:10006235-1694620800-1694624400@cccld.org
SUMMARY:MS Football AWAY @ Gilpin
DESCRIPTION:
URL:https://cccld.org/event/ms-football-away-gilpin/
CATEGORIES:Community Events
END:VEVENT
BEGIN:VEVENT
DTSTART;TZID=America/Denver:20230913T163000
DTEND;TZID=America/Denver:20230913T183000
DTSTAMP:20260421T071051
CREATED:20230518T180454Z
LAST-MODIFIED:20230913T211321Z
UID:10006236-1694622600-1694629800@cccld.org
SUMMARY:MS Volleyball AWAY @ Gilpin  4:30/5:30
DESCRIPTION:
URL:https://cccld.org/event/ms-volleyball-away-gilpin-430-530/
CATEGORIES:Community Events
END:VEVENT
END:VCALENDAR