BEGIN:VCALENDAR
VERSION:2.0
PRODID:-//Clear Creek County Library District - ECPv6.15.16//NONSGML v1.0//EN
CALSCALE:GREGORIAN
METHOD:PUBLISH
X-WR-CALNAME:Clear Creek County Library District
X-ORIGINAL-URL:https://cccld.org
X-WR-CALDESC:Events for Clear Creek County Library District
REFRESH-INTERVAL;VALUE=DURATION:PT1H
X-Robots-Tag:noindex
X-PUBLISHED-TTL:PT1H
BEGIN:VTIMEZONE
TZID:America/Denver
BEGIN:DAYLIGHT
TZOFFSETFROM:-0700
TZOFFSETTO:-0600
TZNAME:MDT
DTSTART:20220313T090000
END:DAYLIGHT
BEGIN:STANDARD
TZOFFSETFROM:-0600
TZOFFSETTO:-0700
TZNAME:MST
DTSTART:20221106T080000
END:STANDARD
BEGIN:DAYLIGHT
TZOFFSETFROM:-0700
TZOFFSETTO:-0600
TZNAME:MDT
DTSTART:20230312T090000
END:DAYLIGHT
BEGIN:STANDARD
TZOFFSETFROM:-0600
TZOFFSETTO:-0700
TZNAME:MST
DTSTART:20231105T080000
END:STANDARD
BEGIN:DAYLIGHT
TZOFFSETFROM:-0700
TZOFFSETTO:-0600
TZNAME:MDT
DTSTART:20240310T090000
END:DAYLIGHT
BEGIN:STANDARD
TZOFFSETFROM:-0600
TZOFFSETTO:-0700
TZNAME:MST
DTSTART:20241103T080000
END:STANDARD
END:VTIMEZONE
BEGIN:VEVENT
DTSTART;TZID=America/Denver:20230919T111500
DTEND;TZID=America/Denver:20230919T121500
DTSTAMP:20260421T070922
CREATED:20230727T161653Z
LAST-MODIFIED:20240420T175137Z
UID:10006291-1695122100-1695125700@cccld.org
SUMMARY:ISPL Storytime
DESCRIPTION:Join us for storytime and crafts at the Idaho Springs Public Library.
URL:https://cccld.org/event/ispl-storytime-10/2023-09-19/
LOCATION:Idaho Springs Public Library\, 219 14th Avenue\, Idaho Springs\, CO\, 80452\, United States
CATEGORIES:Kids,Library Events
GEO:39.742052;-105.5183552
X-APPLE-STRUCTURED-LOCATION;VALUE=URI;X-ADDRESS=Idaho Springs Public Library 219 14th Avenue Idaho Springs CO 80452 United States;X-APPLE-RADIUS=500;X-TITLE=219 14th Avenue:geo:-105.5183552,39.742052
END:VEVENT
BEGIN:VEVENT
DTSTART;TZID=America/Denver:20230919T160000
DTEND;TZID=America/Denver:20230919T170000
DTSTAMP:20260421T070922
CREATED:20230518T180454Z
LAST-MODIFIED:20230919T211551Z
UID:10006240-1695139200-1695142800@cccld.org
SUMMARY:MS Football HOME vs Estes Park
DESCRIPTION:
URL:https://cccld.org/event/ms-football-home-vs-estes-park/
CATEGORIES:Community Events
END:VEVENT
BEGIN:VEVENT
DTSTART;TZID=America/Denver:20230919T160000
DTEND;TZID=America/Denver:20230919T190000
DTSTAMP:20260421T070922
CREATED:20230518T180454Z
LAST-MODIFIED:20230919T211551Z
UID:10006239-1695139200-1695150000@cccld.org
SUMMARY:HS Volleyball AWAY@ Denver Christian 4/5/6 Bus:
DESCRIPTION:
URL:https://cccld.org/event/hs-volleyball-away-denver-christian-4-5-6-bus/
CATEGORIES:Community Events
END:VEVENT
BEGIN:VEVENT
DTSTART;TZID=America/Denver:20230919T170000
DTEND;TZID=America/Denver:20230919T183000
DTSTAMP:20260421T070922
CREATED:20230124T213834Z
LAST-MODIFIED:20230814T160735Z
UID:10006097-1695142800-1695148200@cccld.org
SUMMARY:Library District Board Meeting
DESCRIPTION:The Clear Creek County Library District Board of Trustees meets on the third Tuesday of the month at noon with the exception of December’s budget approval meeting on 12/12/2023.
URL:https://cccld.org/event/library-district-board-meeting/2023-09-19/
LOCATION:CO\, 80444\, United States
CATEGORIES:Community Events,Library Events
GEO:39.7104468;-105.6969788
END:VEVENT
END:VCALENDAR