BEGIN:VCALENDAR
VERSION:2.0
PRODID:-//Clear Creek County Library District - ECPv6.15.16//NONSGML v1.0//EN
CALSCALE:GREGORIAN
METHOD:PUBLISH
X-ORIGINAL-URL:https://cccld.org
X-WR-CALDESC:Events for Clear Creek County Library District
REFRESH-INTERVAL;VALUE=DURATION:PT1H
X-Robots-Tag:noindex
X-PUBLISHED-TTL:PT1H
BEGIN:VTIMEZONE
TZID:America/Denver
BEGIN:DAYLIGHT
TZOFFSETFROM:-0700
TZOFFSETTO:-0600
TZNAME:MDT
DTSTART:20220313T090000
END:DAYLIGHT
BEGIN:STANDARD
TZOFFSETFROM:-0600
TZOFFSETTO:-0700
TZNAME:MST
DTSTART:20221106T080000
END:STANDARD
BEGIN:DAYLIGHT
TZOFFSETFROM:-0700
TZOFFSETTO:-0600
TZNAME:MDT
DTSTART:20230312T090000
END:DAYLIGHT
BEGIN:STANDARD
TZOFFSETFROM:-0600
TZOFFSETTO:-0700
TZNAME:MST
DTSTART:20231105T080000
END:STANDARD
BEGIN:DAYLIGHT
TZOFFSETFROM:-0700
TZOFFSETTO:-0600
TZNAME:MDT
DTSTART:20240310T090000
END:DAYLIGHT
BEGIN:STANDARD
TZOFFSETFROM:-0600
TZOFFSETTO:-0700
TZNAME:MST
DTSTART:20241103T080000
END:STANDARD
END:VTIMEZONE
BEGIN:VEVENT
DTSTART;TZID=America/Denver:20231103T140000
DTEND;TZID=America/Denver:20231103T160000
DTSTAMP:20260421T060105
CREATED:20230808T165342Z
LAST-MODIFIED:20230814T201642Z
UID:10006378-1699020000-1699027200@cccld.org
SUMMARY:ISPL-Virtual Reality
DESCRIPTION:Explore new worlds and great games at our virtual reality sessions for tweens and teens (ages 12 years and older). Registration is required. Please email heather@cccld.org to learn more and save your spot.
URL:https://cccld.org/event/ispl-virtual-reality-6/2023-11-03/
LOCATION:Idaho Springs Public Library\, 219 14th Avenue\, Idaho Springs\, CO\, 80452\, United States
CATEGORIES:Library Events,Teens
GEO:39.742052;-105.5183552
X-APPLE-STRUCTURED-LOCATION;VALUE=URI;X-ADDRESS=Idaho Springs Public Library 219 14th Avenue Idaho Springs CO 80452 United States;X-APPLE-RADIUS=500;X-TITLE=219 14th Avenue:geo:-105.5183552,39.742052
END:VEVENT
BEGIN:VEVENT
DTSTART;TZID=America/Denver:20231103T170000
DTEND;TZID=America/Denver:20231103T190000
DTSTAMP:20260421T060105
CREATED:20230612T183537Z
LAST-MODIFIED:20231004T162901Z
UID:10006274-1699030800-1699038000@cccld.org
SUMMARY:Heritage Hops 2023
DESCRIPTION:Join local brewers and chefs for an evening of delicious beer and small-plate pairings. Proceeds will help fund the John Tomay Memorial Library renovation.
URL:https://cccld.org/event/heritage-hops-beer-and-food-pairing-experience/
LOCATION:Old School House\, 809 Taos St\, Georgetown\, CO\, United States
CATEGORIES:Adults,Library Events
GEO:39.707368;-105.695645
X-APPLE-STRUCTURED-LOCATION;VALUE=URI;X-ADDRESS=Old School House 809 Taos St Georgetown CO United States;X-APPLE-RADIUS=500;X-TITLE=809 Taos St:geo:-105.695645,39.707368
END:VEVENT
END:VCALENDAR