BEGIN:VCALENDAR
VERSION:2.0
PRODID:-//Clear Creek County Library District - ECPv6.15.16//NONSGML v1.0//EN
CALSCALE:GREGORIAN
METHOD:PUBLISH
X-ORIGINAL-URL:https://cccld.org
X-WR-CALDESC:Events for Clear Creek County Library District
REFRESH-INTERVAL;VALUE=DURATION:PT1H
X-Robots-Tag:noindex
X-PUBLISHED-TTL:PT1H
BEGIN:VTIMEZONE
TZID:America/Denver
BEGIN:DAYLIGHT
TZOFFSETFROM:-0700
TZOFFSETTO:-0600
TZNAME:MDT
DTSTART:20220313T090000
END:DAYLIGHT
BEGIN:STANDARD
TZOFFSETFROM:-0600
TZOFFSETTO:-0700
TZNAME:MST
DTSTART:20221106T080000
END:STANDARD
BEGIN:DAYLIGHT
TZOFFSETFROM:-0700
TZOFFSETTO:-0600
TZNAME:MDT
DTSTART:20230312T090000
END:DAYLIGHT
BEGIN:STANDARD
TZOFFSETFROM:-0600
TZOFFSETTO:-0700
TZNAME:MST
DTSTART:20231105T080000
END:STANDARD
BEGIN:DAYLIGHT
TZOFFSETFROM:-0700
TZOFFSETTO:-0600
TZNAME:MDT
DTSTART:20240310T090000
END:DAYLIGHT
BEGIN:STANDARD
TZOFFSETFROM:-0600
TZOFFSETTO:-0700
TZNAME:MST
DTSTART:20241103T080000
END:STANDARD
END:VTIMEZONE
BEGIN:VEVENT
DTSTART;TZID=America/Denver:20231116T111500
DTEND;TZID=America/Denver:20231116T121500
DTSTAMP:20260421T060106
CREATED:20230727T161856Z
LAST-MODIFIED:20231129T162744Z
UID:10006338-1700133300-1700136900@cccld.org
SUMMARY:JTML Storytime
DESCRIPTION:Join us for storytime and crafts at the John Tomay Memorial Library.
URL:https://cccld.org/event/jtml-storytime-10/2023-11-16/
LOCATION:John Tomay Memorial Library\, 605 6th Street\, Georgetown\, CO\, 80444\, United States
CATEGORIES:Kids,Library Events
GEO:39.7061997;-105.6974142
X-APPLE-STRUCTURED-LOCATION;VALUE=URI;X-ADDRESS=John Tomay Memorial Library 605 6th Street Georgetown CO 80444 United States;X-APPLE-RADIUS=500;X-TITLE=605 6th Street:geo:-105.6974142,39.7061997
END:VEVENT
BEGIN:VEVENT
DTSTART;TZID=America/Denver:20231116T150000
DTEND;TZID=America/Denver:20231116T170000
DTSTAMP:20260421T060106
CREATED:20230615T214632Z
LAST-MODIFIED:20230615T214632Z
UID:10006279-1700146800-1700154000@cccld.org
SUMMARY:JTML Book Group
DESCRIPTION:Everyone is welcome. Email libby@cccld.org for more information.
URL:https://cccld.org/event/jtml-book-group-14/2023-11-16/
LOCATION:John Tomay Memorial Library\, 605 6th Street\, Georgetown\, CO\, 80444\, United States
CATEGORIES:Adults,Library Events
GEO:39.7061997;-105.6974142
X-APPLE-STRUCTURED-LOCATION;VALUE=URI;X-ADDRESS=John Tomay Memorial Library 605 6th Street Georgetown CO 80444 United States;X-APPLE-RADIUS=500;X-TITLE=605 6th Street:geo:-105.6974142,39.7061997
END:VEVENT
BEGIN:VEVENT
DTSTART;TZID=America/Denver:20231116T173000
DTEND;TZID=America/Denver:20231116T193000
DTSTAMP:20260421T060106
CREATED:20230814T205518Z
LAST-MODIFIED:20230814T205518Z
UID:10006389-1700155800-1700163000@cccld.org
SUMMARY:Adult Craft - Holiday Card Making
DESCRIPTION:The November Adult Craft will be Holiday Card making with Jann McCollom at her Georgetown shop–My Stamping Table. Space is limited\, RESERVATIONS ARE REQUIRED. Email chris@cccld.org to register or for additional information. \nMy Stamping Table\n507 Taos St.\nGeorgetown\, CO 80444
URL:https://cccld.org/event/adult-craft-holiday-card-making/2023-11-16/
LOCATION:CO\, 80444\, United States
CATEGORIES:Adults,Library Events
GEO:39.7104468;-105.6969788
END:VEVENT
END:VCALENDAR