BEGIN:VCALENDAR
VERSION:2.0
PRODID:-//Clear Creek County Library District - ECPv6.15.16//NONSGML v1.0//EN
CALSCALE:GREGORIAN
METHOD:PUBLISH
X-ORIGINAL-URL:https://cccld.org
X-WR-CALDESC:Events for Clear Creek County Library District
REFRESH-INTERVAL;VALUE=DURATION:PT1H
X-Robots-Tag:noindex
X-PUBLISHED-TTL:PT1H
BEGIN:VTIMEZONE
TZID:America/Denver
BEGIN:DAYLIGHT
TZOFFSETFROM:-0700
TZOFFSETTO:-0600
TZNAME:MDT
DTSTART:20230312T090000
END:DAYLIGHT
BEGIN:STANDARD
TZOFFSETFROM:-0600
TZOFFSETTO:-0700
TZNAME:MST
DTSTART:20231105T080000
END:STANDARD
BEGIN:DAYLIGHT
TZOFFSETFROM:-0700
TZOFFSETTO:-0600
TZNAME:MDT
DTSTART:20240310T090000
END:DAYLIGHT
BEGIN:STANDARD
TZOFFSETFROM:-0600
TZOFFSETTO:-0700
TZNAME:MST
DTSTART:20241103T080000
END:STANDARD
BEGIN:DAYLIGHT
TZOFFSETFROM:-0700
TZOFFSETTO:-0600
TZNAME:MDT
DTSTART:20250309T090000
END:DAYLIGHT
BEGIN:STANDARD
TZOFFSETFROM:-0600
TZOFFSETTO:-0700
TZNAME:MST
DTSTART:20251102T080000
END:STANDARD
END:VTIMEZONE
BEGIN:VEVENT
DTSTART;TZID=America/Denver:20240713T140000
DTEND;TZID=America/Denver:20240713T153000
DTSTAMP:20260421T082331
CREATED:20240610T174307Z
LAST-MODIFIED:20240830T201203Z
UID:10006479-1720879200-1720884600@cccld.org
SUMMARY:Mountain Jams 2024
DESCRIPTION:Free\, live music every Saturday on Library Park Stage-corner of Sixth Street & Rose Street.
URL:https://cccld.org/event/mountain-jams-2024/2024-07-13/
LOCATION:John Tomay Memorial Library\, 605 6th Street\, Georgetown\, CO\, 80444\, United States
CATEGORIES:Adults,Community Events,Kids,Library Events,Teens
GEO:39.7061997;-105.6974142
X-APPLE-STRUCTURED-LOCATION;VALUE=URI;X-ADDRESS=John Tomay Memorial Library 605 6th Street Georgetown CO 80444 United States;X-APPLE-RADIUS=500;X-TITLE=605 6th Street:geo:-105.6974142,39.7061997
END:VEVENT
BEGIN:VEVENT
DTSTART;TZID=America/Denver:20240713T190000
DTEND;TZID=America/Denver:20240713T210000
DTSTAMP:20260421T082331
CREATED:20240617T210245Z
LAST-MODIFIED:20240617T210245Z
UID:10006493-1720897200-1720904400@cccld.org
SUMMARY:JTML-Teen & Tween Paranormal Adventure
DESCRIPTION:Join professional ghost hunters\, XX Paranormal Communications\, at this evening adventure. We will learn about paranormal equipment and attempt to record paranormal activity. Registration is required for this special activity. Please email holly@cccld.org to learn more.
URL:https://cccld.org/event/jtml-teen-tween-paranormal-adventure/
LOCATION:John Tomay Memorial Library\, 605 6th Street\, Georgetown\, CO\, 80444\, United States
CATEGORIES:Library Events,Teens
GEO:39.7061997;-105.6974142
X-APPLE-STRUCTURED-LOCATION;VALUE=URI;X-ADDRESS=John Tomay Memorial Library 605 6th Street Georgetown CO 80444 United States;X-APPLE-RADIUS=500;X-TITLE=605 6th Street:geo:-105.6974142,39.7061997
END:VEVENT
END:VCALENDAR