BEGIN:VCALENDAR
VERSION:2.0
PRODID:-//Clear Creek County Library District - ECPv6.15.16//NONSGML v1.0//EN
CALSCALE:GREGORIAN
METHOD:PUBLISH
X-WR-CALNAME:Clear Creek County Library District
X-ORIGINAL-URL:https://cccld.org
X-WR-CALDESC:Events for Clear Creek County Library District
REFRESH-INTERVAL;VALUE=DURATION:PT1H
X-Robots-Tag:noindex
X-PUBLISHED-TTL:PT1H
BEGIN:VTIMEZONE
TZID:America/Denver
BEGIN:DAYLIGHT
TZOFFSETFROM:-0700
TZOFFSETTO:-0600
TZNAME:MDT
DTSTART:20230312T090000
END:DAYLIGHT
BEGIN:STANDARD
TZOFFSETFROM:-0600
TZOFFSETTO:-0700
TZNAME:MST
DTSTART:20231105T080000
END:STANDARD
BEGIN:DAYLIGHT
TZOFFSETFROM:-0700
TZOFFSETTO:-0600
TZNAME:MDT
DTSTART:20240310T090000
END:DAYLIGHT
BEGIN:STANDARD
TZOFFSETFROM:-0600
TZOFFSETTO:-0700
TZNAME:MST
DTSTART:20241103T080000
END:STANDARD
BEGIN:DAYLIGHT
TZOFFSETFROM:-0700
TZOFFSETTO:-0600
TZNAME:MDT
DTSTART:20250309T090000
END:DAYLIGHT
BEGIN:STANDARD
TZOFFSETFROM:-0600
TZOFFSETTO:-0700
TZNAME:MST
DTSTART:20251102T080000
END:STANDARD
END:VTIMEZONE
BEGIN:VEVENT
DTSTART;TZID=America/Denver:20241022T173000
DTEND;TZID=America/Denver:20241022T190000
DTSTAMP:20260421T082249
CREATED:20241002T164849Z
LAST-MODIFIED:20251003T203155Z
UID:10006555-1729618200-1729623600@cccld.org
SUMMARY:Spooky Mixology
DESCRIPTION:Make a spooky cocktail with other adult crafters. Space is limited\, MUST BE 21\, and reservations are required. Please email heather@cccld.org for reservations and additional information. Meet at Cooper’s on the Creek at 5:30 pm.
URL:https://cccld.org/event/spooky-mixology-2/
LOCATION:Cooper’s on the Creek\, 1500 Argentine Street\, Georgetown\, CO\, 80444\, United States
CATEGORIES:Adults,Library Events
GEO:39.7154476;-105.6946412
X-APPLE-STRUCTURED-LOCATION;VALUE=URI;X-ADDRESS=Cooper’s on the Creek 1500 Argentine Street Georgetown CO 80444 United States;X-APPLE-RADIUS=500;X-TITLE=1500 Argentine Street:geo:-105.6946412,39.7154476
END:VEVENT
END:VCALENDAR