BEGIN:VCALENDAR
VERSION:2.0
PRODID:-//Clear Creek County Library District - ECPv6.15.16//NONSGML v1.0//EN
CALSCALE:GREGORIAN
METHOD:PUBLISH
X-ORIGINAL-URL:https://cccld.org
X-WR-CALDESC:Events for Clear Creek County Library District
REFRESH-INTERVAL;VALUE=DURATION:PT1H
X-Robots-Tag:noindex
X-PUBLISHED-TTL:PT1H
BEGIN:VTIMEZONE
TZID:America/Denver
BEGIN:DAYLIGHT
TZOFFSETFROM:-0700
TZOFFSETTO:-0600
TZNAME:MDT
DTSTART:20180311T090000
END:DAYLIGHT
BEGIN:STANDARD
TZOFFSETFROM:-0600
TZOFFSETTO:-0700
TZNAME:MST
DTSTART:20181104T080000
END:STANDARD
BEGIN:DAYLIGHT
TZOFFSETFROM:-0700
TZOFFSETTO:-0600
TZNAME:MDT
DTSTART:20190310T090000
END:DAYLIGHT
BEGIN:STANDARD
TZOFFSETFROM:-0600
TZOFFSETTO:-0700
TZNAME:MST
DTSTART:20191103T080000
END:STANDARD
BEGIN:DAYLIGHT
TZOFFSETFROM:-0700
TZOFFSETTO:-0600
TZNAME:MDT
DTSTART:20200308T090000
END:DAYLIGHT
BEGIN:STANDARD
TZOFFSETFROM:-0600
TZOFFSETTO:-0700
TZNAME:MST
DTSTART:20201101T080000
END:STANDARD
END:VTIMEZONE
BEGIN:VEVENT
DTSTART;TZID=America/Denver:20190301T160000
DTEND;TZID=America/Denver:20190301T180000
DTSTAMP:20260423T032720
CREATED:20190129T185023Z
LAST-MODIFIED:20190211T221239Z
UID:10004387-1551456000-1551463200@cccld.org
SUMMARY:Website Launch Party
DESCRIPTION:Are you ready for a grand adventure? The library is your passport to discovery in Clear Creek County and the world beyond\, and our website is your gateway to exploration. Come explore our wonderful new website at our LAUNCH PARTY! Please join us for refreshments\, guided web tours\, a photo booth guaranteed to lift your spirits\, and chances to win AWESOME prizes! Come and get your passports stamped!
URL:https://cccld.org/event/website-launch-party/
LOCATION:Idaho Springs Public Library\, 219 14th Avenue\, Idaho Springs\, CO\, 80452\, United States
CATEGORIES:Library Events
GEO:39.742052;-105.5183552
X-APPLE-STRUCTURED-LOCATION;VALUE=URI;X-ADDRESS=Idaho Springs Public Library 219 14th Avenue Idaho Springs CO 80452 United States;X-APPLE-RADIUS=500;X-TITLE=219 14th Avenue:geo:-105.5183552,39.742052
END:VEVENT
BEGIN:VEVENT
DTSTART;TZID=America/Denver:20190301T170000
DTEND;TZID=America/Denver:20190301T190000
DTSTAMP:20260423T032720
CREATED:20190129T185215Z
LAST-MODIFIED:20190301T000459Z
UID:10004388-1551459600-1551466800@cccld.org
SUMMARY:JTML Movie Night: The Nutcracker and the Four Realms
DESCRIPTION:Enjoy a free\, family-friendly movie on the big screen at your library! Satisfy your cravings with snacks and freshly popped popcorn available for sale at our mini concessions stand. \nMarch movie selection: The Nutcracker and the Four Realms
URL:https://cccld.org/event/movie-night-up/
LOCATION:Old School House\, 809 Taos St\, Georgetown\, CO\, United States
CATEGORIES:Library Events
GEO:39.707368;-105.695645
X-APPLE-STRUCTURED-LOCATION;VALUE=URI;X-ADDRESS=Old School House 809 Taos St Georgetown CO United States;X-APPLE-RADIUS=500;X-TITLE=809 Taos St:geo:-105.695645,39.707368
END:VEVENT
BEGIN:VEVENT
DTSTART;TZID=America/Denver:20190308T170000
DTEND;TZID=America/Denver:20190308T190000
DTSTAMP:20260423T032720
CREATED:20190129T185256Z
LAST-MODIFIED:20190301T000522Z
UID:10004389-1552064400-1552071600@cccld.org
SUMMARY:ISPL Movie Night: The Nutcracker and the Four Realms
DESCRIPTION:Enjoy a free\, family-friendly movie on the big screen at your library! Satisfy your cravings with snacks and freshly popped popcorn available for sale at our mini concessions stand. \nMarch movie selection: The Nutcracker and the Four Realms
URL:https://cccld.org/event/movie-night-up-2/
LOCATION:Idaho Springs Public Library\, 219 14th Avenue\, Idaho Springs\, CO\, 80452\, United States
CATEGORIES:Library Events
GEO:39.742052;-105.5183552
X-APPLE-STRUCTURED-LOCATION;VALUE=URI;X-ADDRESS=Idaho Springs Public Library 219 14th Avenue Idaho Springs CO 80452 United States;X-APPLE-RADIUS=500;X-TITLE=219 14th Avenue:geo:-105.5183552,39.742052
END:VEVENT
BEGIN:VEVENT
DTSTART;TZID=America/Denver:20190311T170000
DTEND;TZID=America/Denver:20190311T170000
DTSTAMP:20260423T032720
CREATED:20190129T185523Z
LAST-MODIFIED:20190225T213626Z
UID:10004390-1552323600-1552323600@cccld.org
SUMMARY:Adult Craft
DESCRIPTION:Do you love to craft? Or are you craft-curious? Get creative and connect with other crafty patrons at our monthly craft workshops! No experience is necessary and all workshops are free\, but registration is required for each session. Please email holly@cccld.org to sign up. \nMarch craft: Pinwheel Wreaths
URL:https://cccld.org/event/adult-craft/
LOCATION:Idaho Springs Public Library\, 219 14th Avenue\, Idaho Springs\, CO\, 80452\, United States
CATEGORIES:Adults,Library Events
GEO:39.742052;-105.5183552
X-APPLE-STRUCTURED-LOCATION;VALUE=URI;X-ADDRESS=Idaho Springs Public Library 219 14th Avenue Idaho Springs CO 80452 United States;X-APPLE-RADIUS=500;X-TITLE=219 14th Avenue:geo:-105.5183552,39.742052
END:VEVENT
BEGIN:VEVENT
DTSTART;TZID=America/Denver:20190314T173000
DTEND;TZID=America/Denver:20190314T173000
DTSTAMP:20260423T032720
CREATED:20190129T185609Z
LAST-MODIFIED:20190225T213553Z
UID:10004391-1552584600-1552584600@cccld.org
SUMMARY:Adult Craft
DESCRIPTION:Do you love to craft? Or are you craft-curious? Get creative and connect with other crafty patrons at our monthly craft workshops! No experience is necessary and all workshops are free\, but registration is required for each session. Please email holly@cccld.org to sign up. \nMarch craft: Pinwheel Wreaths
URL:https://cccld.org/event/adult-craft-2/
LOCATION:John Tomay Memorial Library\, 605 6th Street\, Georgetown\, CO\, 80444\, United States
CATEGORIES:Adults,Library Events
GEO:39.7061997;-105.6974142
X-APPLE-STRUCTURED-LOCATION;VALUE=URI;X-ADDRESS=John Tomay Memorial Library 605 6th Street Georgetown CO 80444 United States;X-APPLE-RADIUS=500;X-TITLE=605 6th Street:geo:-105.6974142,39.7061997
END:VEVENT
BEGIN:VEVENT
DTSTART;TZID=America/Denver:20190318T180000
DTEND;TZID=America/Denver:20190318T193000
DTSTAMP:20260423T032720
CREATED:20190129T185800Z
LAST-MODIFIED:20190212T193607Z
UID:10004392-1552932000-1552937400@cccld.org
SUMMARY:Adult Book Connection
DESCRIPTION:Connect with other readers in our community at monthly library book meetups. Share your ideas and discover new stories. New readers are always welcome! Please contact holly@cccld.org for more information. \nIn March we will be discussing You Think It\, I’ll Say It by Curtis Sittenfeld.
URL:https://cccld.org/event/adult-book-group/
LOCATION:Idaho Springs Public Library\, 219 14th Avenue\, Idaho Springs\, CO\, 80452\, United States
CATEGORIES:Adults,Library Events
GEO:39.742052;-105.5183552
X-APPLE-STRUCTURED-LOCATION;VALUE=URI;X-ADDRESS=Idaho Springs Public Library 219 14th Avenue Idaho Springs CO 80452 United States;X-APPLE-RADIUS=500;X-TITLE=219 14th Avenue:geo:-105.5183552,39.742052
END:VEVENT
BEGIN:VEVENT
DTSTART;TZID=America/Denver:20190321T180000
DTEND;TZID=America/Denver:20190321T180000
DTSTAMP:20260423T032720
CREATED:20190311T221551Z
LAST-MODIFIED:20190311T221551Z
UID:10004300-1553191200-1553191200@cccld.org
SUMMARY:Friends of the Idaho Springs Public Library Annual Meeting
DESCRIPTION:Join the Friends of the Idaho Springs Public Library for their annual meeting on March 21 at 6 pm. A local history program will be presented by Don Allan. Refreshments will be provided.
URL:https://cccld.org/event/friends-of-the-idaho-springs-public-library-annual-meeting/
LOCATION:Idaho Springs Public Library\, 219 14th Avenue\, Idaho Springs\, CO\, 80452\, United States
CATEGORIES:Library Events
GEO:39.742052;-105.5183552
X-APPLE-STRUCTURED-LOCATION;VALUE=URI;X-ADDRESS=Idaho Springs Public Library 219 14th Avenue Idaho Springs CO 80452 United States;X-APPLE-RADIUS=500;X-TITLE=219 14th Avenue:geo:-105.5183552,39.742052
END:VEVENT
BEGIN:VEVENT
DTSTART;TZID=America/Denver:20190321T190000
DTEND;TZID=America/Denver:20190321T203000
DTSTAMP:20260423T032720
CREATED:20190129T185842Z
LAST-MODIFIED:20190212T193540Z
UID:10004393-1553194800-1553200200@cccld.org
SUMMARY:Adult Book Connection
DESCRIPTION:Connect with other readers in our community at monthly library book meetups. Share your ideas  and discover new stories. New readers are always welcome! Please contact holly@cccld.org for more information. \nIn March we will be discussing Beartown by Frederik Backman.
URL:https://cccld.org/event/adult-book-group-2/
LOCATION:John Tomay Memorial Library\, 605 6th Street\, Georgetown\, CO\, 80444\, United States
CATEGORIES:Adults,Library Events
GEO:39.7061997;-105.6974142
X-APPLE-STRUCTURED-LOCATION;VALUE=URI;X-ADDRESS=John Tomay Memorial Library 605 6th Street Georgetown CO 80444 United States;X-APPLE-RADIUS=500;X-TITLE=605 6th Street:geo:-105.6974142,39.7061997
END:VEVENT
BEGIN:VEVENT
DTSTART;VALUE=DATE:20190323
DTEND;VALUE=DATE:20190324
DTSTAMP:20260423T032720
CREATED:20190227T000456Z
LAST-MODIFIED:20190323T161951Z
UID:10004474-1553299200-1553385599@cccld.org
SUMMARY:Chopin's Birthday concert
DESCRIPTION:
URL:https://cccld.org/event/chopins-birthday-concert/
LOCATION:CO
CATEGORIES:Community Events,Library Events
END:VEVENT
END:VCALENDAR