BEGIN:VCALENDAR
VERSION:2.0
PRODID:-//Clear Creek County Library District - ECPv6.15.16//NONSGML v1.0//EN
CALSCALE:GREGORIAN
METHOD:PUBLISH
X-WR-CALNAME:Clear Creek County Library District
X-ORIGINAL-URL:https://cccld.org
X-WR-CALDESC:Events for Clear Creek County Library District
REFRESH-INTERVAL;VALUE=DURATION:PT1H
X-Robots-Tag:noindex
X-PUBLISHED-TTL:PT1H
BEGIN:VTIMEZONE
TZID:America/Denver
BEGIN:DAYLIGHT
TZOFFSETFROM:-0700
TZOFFSETTO:-0600
TZNAME:MDT
DTSTART:20210314T090000
END:DAYLIGHT
BEGIN:STANDARD
TZOFFSETFROM:-0600
TZOFFSETTO:-0700
TZNAME:MST
DTSTART:20211107T080000
END:STANDARD
BEGIN:DAYLIGHT
TZOFFSETFROM:-0700
TZOFFSETTO:-0600
TZNAME:MDT
DTSTART:20220313T090000
END:DAYLIGHT
BEGIN:STANDARD
TZOFFSETFROM:-0600
TZOFFSETTO:-0700
TZNAME:MST
DTSTART:20221106T080000
END:STANDARD
BEGIN:DAYLIGHT
TZOFFSETFROM:-0700
TZOFFSETTO:-0600
TZNAME:MDT
DTSTART:20230312T090000
END:DAYLIGHT
BEGIN:STANDARD
TZOFFSETFROM:-0600
TZOFFSETTO:-0700
TZNAME:MST
DTSTART:20231105T080000
END:STANDARD
END:VTIMEZONE
BEGIN:VEVENT
DTSTART;TZID=America/Denver:20221117T173000
DTEND;TZID=America/Denver:20221117T183000
DTSTAMP:20260422T163254
CREATED:20221006T164045Z
LAST-MODIFIED:20221107T174238Z
UID:10005975-1668706200-1668709800@cccld.org
SUMMARY:JTML Adult Craft
DESCRIPTION:Do you love to craft? Or are you craft-curious? Get creative and connect with other crafty patrons at our monthly craft workshops! No experience is necessary and all workshops are free. November’s craft is Giving Thanks Gift Jars. Please email chris@cccld.org to register and for additional information.
URL:https://cccld.org/event/jtml-adult-craft-7/
LOCATION:John Tomay Memorial Library\, 605 6th Street\, Georgetown\, CO\, 80444\, United States
CATEGORIES:Adults,Library Events
GEO:39.7061997;-105.6974142
X-APPLE-STRUCTURED-LOCATION;VALUE=URI;X-ADDRESS=John Tomay Memorial Library 605 6th Street Georgetown CO 80444 United States;X-APPLE-RADIUS=500;X-TITLE=605 6th Street:geo:-105.6974142,39.7061997
END:VEVENT
BEGIN:VEVENT
DTSTART;TZID=America/Denver:20221117T150000
DTEND;TZID=America/Denver:20221117T160000
DTSTAMP:20260422T163254
CREATED:20221006T165643Z
LAST-MODIFIED:20221006T165643Z
UID:10005985-1668697200-1668700800@cccld.org
SUMMARY:JTML Book Group
DESCRIPTION:Everyone is welcome. Email libby@cccld.org for more information.
URL:https://cccld.org/event/jtml-book-group-11/
LOCATION:John Tomay Memorial Library\, 605 6th Street\, Georgetown\, CO\, 80444\, United States
CATEGORIES:Adults,Library Events
GEO:39.7061997;-105.6974142
X-APPLE-STRUCTURED-LOCATION;VALUE=URI;X-ADDRESS=John Tomay Memorial Library 605 6th Street Georgetown CO 80444 United States;X-APPLE-RADIUS=500;X-TITLE=605 6th Street:geo:-105.6974142,39.7061997
END:VEVENT
BEGIN:VEVENT
DTSTART;TZID=America/Denver:20221116T173000
DTEND;TZID=America/Denver:20221116T193000
DTSTAMP:20260422T163254
CREATED:20221101T175655Z
LAST-MODIFIED:20221101T175655Z
UID:10005191-1668619800-1668627000@cccld.org
SUMMARY:Library District Board Meeting - Virtual
DESCRIPTION:The Clear Creek County Library District Board of Trustees meets on the third Wednesday of the month for the rest of 2022 at 5:30 pm\, with the exception of December’s budget meeting on 12/08/2022. Meetings are held at the Local History Archives in Georgetown in odd-numbered months and at the Idaho Springs Public Library in even-numbered months with the exception of the December meeting.
URL:https://cccld.org/event/library-district-board-meeting-virtual/
LOCATION:CO\, 80444\, United States
CATEGORIES:Adults,Community Events,Library Events
GEO:39.7104468;-105.6969788
END:VEVENT
BEGIN:VEVENT
DTSTART;TZID=America/Denver:20221115T173000
DTEND;TZID=America/Denver:20221115T183000
DTSTAMP:20260422T163254
CREATED:20221006T163945Z
LAST-MODIFIED:20221107T170935Z
UID:10005974-1668533400-1668537000@cccld.org
SUMMARY:ISPL Adult Craft
DESCRIPTION:Do you love to craft? Or are you craft-curious? Get creative and connect with other crafty patrons at our monthly craft workshops! No experience is necessary and all workshops are free. November’s craft is Giving Thanks Gift Jars. Please email chris@cccld.org to register and for additional information.
URL:https://cccld.org/event/ispl-adult-craft-7/
LOCATION:Idaho Springs Public Library\, 219 14th Avenue\, Idaho Springs\, CO\, 80452\, United States
CATEGORIES:Adults,Library Events
GEO:39.742052;-105.5183552
X-APPLE-STRUCTURED-LOCATION;VALUE=URI;X-ADDRESS=Idaho Springs Public Library 219 14th Avenue Idaho Springs CO 80452 United States;X-APPLE-RADIUS=500;X-TITLE=219 14th Avenue:geo:-105.5183552,39.742052
END:VEVENT
BEGIN:VEVENT
DTSTART;TZID=America/Denver:20221114T160000
DTEND;TZID=America/Denver:20221114T170000
DTSTAMP:20260422T163254
CREATED:20211112T223900Z
LAST-MODIFIED:20221115T184830Z
UID:10005696-1668441600-1668445200@cccld.org
SUMMARY:ISPL Book Group
DESCRIPTION:Everyone is welcome. Email libby@cccld.org for more information.
URL:https://cccld.org/event/ispl-book-group-5/2022-11-14/
LOCATION:Idaho Springs Public Library\, 219 14th Avenue\, Idaho Springs\, CO\, 80452\, United States
CATEGORIES:Adults,Library Events
GEO:39.742052;-105.5183552
X-APPLE-STRUCTURED-LOCATION;VALUE=URI;X-ADDRESS=Idaho Springs Public Library 219 14th Avenue Idaho Springs CO 80452 United States;X-APPLE-RADIUS=500;X-TITLE=219 14th Avenue:geo:-105.5183552,39.742052
END:VEVENT
BEGIN:VEVENT
DTSTART;TZID=America/Denver:20221114T160000
DTEND;TZID=America/Denver:20221114T170000
DTSTAMP:20260422T163254
CREATED:20221006T165046Z
LAST-MODIFIED:20221006T165046Z
UID:10005982-1668441600-1668445200@cccld.org
SUMMARY:ISPL Book Group
DESCRIPTION:Everyone is welcome. Email libby@cccld.org for more information.
URL:https://cccld.org/event/ispl-book-group-15/2022-11-14/
LOCATION:Idaho Springs Public Library\, 219 14th Avenue\, Idaho Springs\, CO\, 80452\, United States
CATEGORIES:Adults,Library Events
GEO:39.742052;-105.5183552
X-APPLE-STRUCTURED-LOCATION;VALUE=URI;X-ADDRESS=Idaho Springs Public Library 219 14th Avenue Idaho Springs CO 80452 United States;X-APPLE-RADIUS=500;X-TITLE=219 14th Avenue:geo:-105.5183552,39.742052
END:VEVENT
BEGIN:VEVENT
DTSTART;TZID=America/Denver:20221112T110000
DTEND;TZID=America/Denver:20221112T140000
DTSTAMP:20260422T163254
CREATED:20221006T164424Z
LAST-MODIFIED:20221006T164424Z
UID:10005977-1668250800-1668261600@cccld.org
SUMMARY:JTML Bighorn Sheep Festival
DESCRIPTION:Stop by the John Tomay Memorial Library for stories and crafts.
URL:https://cccld.org/event/jtml-bighorn-sheep-festival/
LOCATION:John Tomay Memorial Library\, 605 6th Street\, Georgetown\, CO\, 80444\, United States
CATEGORIES:Adults,Kids,Library Events,Teens
GEO:39.7061997;-105.6974142
X-APPLE-STRUCTURED-LOCATION;VALUE=URI;X-ADDRESS=John Tomay Memorial Library 605 6th Street Georgetown CO 80444 United States;X-APPLE-RADIUS=500;X-TITLE=605 6th Street:geo:-105.6974142,39.7061997
END:VEVENT
BEGIN:VEVENT
DTSTART;TZID=America/Denver:20221105T110000
DTEND;TZID=America/Denver:20221105T150000
DTSTAMP:20260422T163254
CREATED:20221006T163557Z
LAST-MODIFIED:20221006T182719Z
UID:10005973-1667646000-1667660400@cccld.org
SUMMARY:Pumpkin Smash
DESCRIPTION:Don’t trash it\, smash it at the annual Scraps to Soil Pumpkin Smash. Visit the Clear Creek County Library District table for s’mores!
URL:https://cccld.org/event/pumpkin-smash-2/
LOCATION:Idaho Springs Baseball Fields\, 101 East Idaho Springs Road\, Idaho Springs\, CO\, 80452\, United States
CATEGORIES:Adults,Community Events,Kids,Library Events,Teens
GEO:39.741215;-105.4945049
X-APPLE-STRUCTURED-LOCATION;VALUE=URI;X-ADDRESS=Idaho Springs Baseball Fields 101 East Idaho Springs Road Idaho Springs CO 80452 United States;X-APPLE-RADIUS=500;X-TITLE=101 East Idaho Springs Road:geo:-105.4945049,39.741215
END:VEVENT
BEGIN:VEVENT
DTSTART;TZID=America/Denver:20221031T170000
DTEND;TZID=America/Denver:20221031T190000
DTSTAMP:20260422T163254
CREATED:20220920T162821Z
LAST-MODIFIED:20220920T162833Z
UID:10005177-1667235600-1667242800@cccld.org
SUMMARY:ISPL & JTML BOOkfest
DESCRIPTION:Stop by the library for a FREE kids’ book and a sweet treat on Halloween night. Sponsored by Friends of the Idaho Springs Library and Friends of the Georgetown Library.
URL:https://cccld.org/event/ispl-jtml-bookfest/
LOCATION:CO\, 80444\, United States
CATEGORIES:Adults,Kids,Library Events,Teens
GEO:39.7104468;-105.6969788
END:VEVENT
BEGIN:VEVENT
DTSTART;TZID=America/Denver:20221026T173000
DTEND;TZID=America/Denver:20221026T193000
DTSTAMP:20260422T163254
CREATED:20220920T162410Z
LAST-MODIFIED:20220920T162410Z
UID:10005175-1666805400-1666812600@cccld.org
SUMMARY:Spooky Mixology
DESCRIPTION:Make a spooky cocktail with other adult crafters. Space is limited\, and reservations are required. Please email chris@cccld.org for reservations and additional information. Meet at Cooper’s on the Creek at 5:30 pm.
URL:https://cccld.org/event/spooky-mixology/
LOCATION:Cooper’s on the Creek\, 1500 Argentine Street\, Georgetown\, CO\, 80444\, United States
CATEGORIES:Adults,Library Events
GEO:39.7154476;-105.6946412
X-APPLE-STRUCTURED-LOCATION;VALUE=URI;X-ADDRESS=Cooper’s on the Creek 1500 Argentine Street Georgetown CO 80444 United States;X-APPLE-RADIUS=500;X-TITLE=1500 Argentine Street:geo:-105.6946412,39.7154476
END:VEVENT
BEGIN:VEVENT
DTSTART;TZID=America/Denver:20221025T150000
DTEND;TZID=America/Denver:20221025T160000
DTSTAMP:20260422T163254
CREATED:20221004T165000Z
LAST-MODIFIED:20221004T165953Z
UID:10005967-1666710000-1666713600@cccld.org
SUMMARY:Adult ASL@Project Support
DESCRIPTION:American Sign Language Classes for Adults–ages 15 and up–at Project Support Senior Center – 1402 Miner St. Please email joe@cccld.org for more information and to register.
URL:https://cccld.org/event/adult-asl-2/2022-10-25/
LOCATION:CO\, 80444\, United States
CATEGORIES:Adults,Library Events,Teens
GEO:39.7104468;-105.6969788
END:VEVENT
BEGIN:VEVENT
DTSTART;TZID=America/Denver:20221021T150000
DTEND;TZID=America/Denver:20221021T163000
DTSTAMP:20260422T163254
CREATED:20221004T171153Z
LAST-MODIFIED:20221004T171153Z
UID:10005972-1666364400-1666369800@cccld.org
SUMMARY:ISPL Friends - Margaret Robbins Birthday Celebration
DESCRIPTION:Join the Friends of the Idaho Springs Library to celebrate Margaret Robbins’ 164th Birthday. Margaret was the first Idaho Springs librarian. Cupcake Meet & Greet.
URL:https://cccld.org/event/ispl-friends-margaret-robbins-birthday-celebration/2022-10-21/
LOCATION:Idaho Springs Public Library\, 219 14th Avenue\, Idaho Springs\, CO\, 80452\, United States
CATEGORIES:Adults,Kids,Library Events,Teens
GEO:39.742052;-105.5183552
X-APPLE-STRUCTURED-LOCATION;VALUE=URI;X-ADDRESS=Idaho Springs Public Library 219 14th Avenue Idaho Springs CO 80452 United States;X-APPLE-RADIUS=500;X-TITLE=219 14th Avenue:geo:-105.5183552,39.742052
END:VEVENT
BEGIN:VEVENT
DTSTART;TZID=America/Denver:20221020T150000
DTEND;TZID=America/Denver:20221020T163000
DTSTAMP:20260422T163254
CREATED:20221004T171153Z
LAST-MODIFIED:20221004T171153Z
UID:10005971-1666278000-1666283400@cccld.org
SUMMARY:ISPL Friends - Margaret Robbins Birthday Celebration
DESCRIPTION:Join the Friends of the Idaho Springs Library to celebrate Margaret Robbins’ 164th Birthday. Margaret was the first Idaho Springs librarian. Cupcake Meet & Greet.
URL:https://cccld.org/event/ispl-friends-margaret-robbins-birthday-celebration/2022-10-20/
LOCATION:Idaho Springs Public Library\, 219 14th Avenue\, Idaho Springs\, CO\, 80452\, United States
CATEGORIES:Adults,Kids,Library Events,Teens
GEO:39.742052;-105.5183552
X-APPLE-STRUCTURED-LOCATION;VALUE=URI;X-ADDRESS=Idaho Springs Public Library 219 14th Avenue Idaho Springs CO 80452 United States;X-APPLE-RADIUS=500;X-TITLE=219 14th Avenue:geo:-105.5183552,39.742052
END:VEVENT
BEGIN:VEVENT
DTSTART;TZID=America/Denver:20221020T150000
DTEND;TZID=America/Denver:20221020T160000
DTSTAMP:20260422T163254
CREATED:20220920T162002Z
LAST-MODIFIED:20220920T162002Z
UID:10005173-1666278000-1666281600@cccld.org
SUMMARY:JTML Book Group
DESCRIPTION:Everyone is welcome. Email libby@cccld.org for more information.
URL:https://cccld.org/event/jtml-book-group-10/
LOCATION:John Tomay Memorial Library\, 605 6th Street\, Georgetown\, CO\, 80444\, United States
CATEGORIES:Adults,Library Events
GEO:39.7061997;-105.6974142
X-APPLE-STRUCTURED-LOCATION;VALUE=URI;X-ADDRESS=John Tomay Memorial Library 605 6th Street Georgetown CO 80444 United States;X-APPLE-RADIUS=500;X-TITLE=605 6th Street:geo:-105.6974142,39.7061997
END:VEVENT
BEGIN:VEVENT
DTSTART;TZID=America/Denver:20221019T150000
DTEND;TZID=America/Denver:20221019T163000
DTSTAMP:20260422T163254
CREATED:20221004T171153Z
LAST-MODIFIED:20221004T171153Z
UID:10005970-1666191600-1666197000@cccld.org
SUMMARY:ISPL Friends - Margaret Robbins Birthday Celebration
DESCRIPTION:Join the Friends of the Idaho Springs Library to celebrate Margaret Robbins’ 164th Birthday. Margaret was the first Idaho Springs librarian. Cupcake Meet & Greet.
URL:https://cccld.org/event/ispl-friends-margaret-robbins-birthday-celebration/2022-10-19/
LOCATION:Idaho Springs Public Library\, 219 14th Avenue\, Idaho Springs\, CO\, 80452\, United States
CATEGORIES:Adults,Kids,Library Events,Teens
GEO:39.742052;-105.5183552
X-APPLE-STRUCTURED-LOCATION;VALUE=URI;X-ADDRESS=Idaho Springs Public Library 219 14th Avenue Idaho Springs CO 80452 United States;X-APPLE-RADIUS=500;X-TITLE=219 14th Avenue:geo:-105.5183552,39.742052
END:VEVENT
BEGIN:VEVENT
DTSTART;TZID=America/Denver:20221018T150000
DTEND;TZID=America/Denver:20221018T163000
DTSTAMP:20260422T163254
CREATED:20221004T171153Z
LAST-MODIFIED:20221004T171153Z
UID:10005969-1666105200-1666110600@cccld.org
SUMMARY:ISPL Friends - Margaret Robbins Birthday Celebration
DESCRIPTION:Join the Friends of the Idaho Springs Library to celebrate Margaret Robbins’ 164th Birthday. Margaret was the first Idaho Springs librarian. Cupcake Meet & Greet.
URL:https://cccld.org/event/ispl-friends-margaret-robbins-birthday-celebration/2022-10-18/
LOCATION:Idaho Springs Public Library\, 219 14th Avenue\, Idaho Springs\, CO\, 80452\, United States
CATEGORIES:Adults,Kids,Library Events,Teens
GEO:39.742052;-105.5183552
X-APPLE-STRUCTURED-LOCATION;VALUE=URI;X-ADDRESS=Idaho Springs Public Library 219 14th Avenue Idaho Springs CO 80452 United States;X-APPLE-RADIUS=500;X-TITLE=219 14th Avenue:geo:-105.5183552,39.742052
END:VEVENT
BEGIN:VEVENT
DTSTART;TZID=America/Denver:20221018T150000
DTEND;TZID=America/Denver:20221018T160000
DTSTAMP:20260422T163254
CREATED:20221004T165000Z
LAST-MODIFIED:20221004T165953Z
UID:10005966-1666105200-1666108800@cccld.org
SUMMARY:Adult ASL@Project Support
DESCRIPTION:American Sign Language Classes for Adults–ages 15 and up–at Project Support Senior Center – 1402 Miner St. Please email joe@cccld.org for more information and to register.
URL:https://cccld.org/event/adult-asl-2/2022-10-18/
LOCATION:CO\, 80444\, United States
CATEGORIES:Adults,Library Events,Teens
GEO:39.7104468;-105.6969788
END:VEVENT
BEGIN:VEVENT
DTSTART;TZID=America/Denver:20221017T150000
DTEND;TZID=America/Denver:20221017T163000
DTSTAMP:20260422T163254
CREATED:20221004T171153Z
LAST-MODIFIED:20221004T171153Z
UID:10005968-1666018800-1666024200@cccld.org
SUMMARY:ISPL Friends - Margaret Robbins Birthday Celebration
DESCRIPTION:Join the Friends of the Idaho Springs Library to celebrate Margaret Robbins’ 164th Birthday. Margaret was the first Idaho Springs librarian. Cupcake Meet & Greet.
URL:https://cccld.org/event/ispl-friends-margaret-robbins-birthday-celebration/2022-10-17/
LOCATION:Idaho Springs Public Library\, 219 14th Avenue\, Idaho Springs\, CO\, 80452\, United States
CATEGORIES:Adults,Kids,Library Events,Teens
GEO:39.742052;-105.5183552
X-APPLE-STRUCTURED-LOCATION;VALUE=URI;X-ADDRESS=Idaho Springs Public Library 219 14th Avenue Idaho Springs CO 80452 United States;X-APPLE-RADIUS=500;X-TITLE=219 14th Avenue:geo:-105.5183552,39.742052
END:VEVENT
BEGIN:VEVENT
DTSTART;TZID=America/Denver:20221011T150000
DTEND;TZID=America/Denver:20221011T160000
DTSTAMP:20260422T163254
CREATED:20221004T165000Z
LAST-MODIFIED:20221004T165953Z
UID:10005965-1665500400-1665504000@cccld.org
SUMMARY:Adult ASL@Project Support
DESCRIPTION:American Sign Language Classes for Adults–ages 15 and up–at Project Support Senior Center – 1402 Miner St. Please email joe@cccld.org for more information and to register.
URL:https://cccld.org/event/adult-asl-2/2022-10-11/
LOCATION:CO\, 80444\, United States
CATEGORIES:Adults,Library Events,Teens
GEO:39.7104468;-105.6969788
END:VEVENT
BEGIN:VEVENT
DTSTART;TZID=America/Denver:20221010T160000
DTEND;TZID=America/Denver:20221010T170000
DTSTAMP:20260422T163254
CREATED:20220920T161858Z
LAST-MODIFIED:20220920T161858Z
UID:10005171-1665417600-1665421200@cccld.org
SUMMARY:ISPL Book Group
DESCRIPTION:Everyone is welcome. Email libby@cccld.org for more information.
URL:https://cccld.org/event/ispl-book-group-14/
LOCATION:Idaho Springs Public Library\, 219 14th Avenue\, Idaho Springs\, CO\, 80452\, United States
CATEGORIES:Adults,Library Events
GEO:39.742052;-105.5183552
X-APPLE-STRUCTURED-LOCATION;VALUE=URI;X-ADDRESS=Idaho Springs Public Library 219 14th Avenue Idaho Springs CO 80452 United States;X-APPLE-RADIUS=500;X-TITLE=219 14th Avenue:geo:-105.5183552,39.742052
END:VEVENT
BEGIN:VEVENT
DTSTART;TZID=America/Denver:20221010T160000
DTEND;TZID=America/Denver:20221010T170000
DTSTAMP:20260422T163254
CREATED:20211112T223900Z
LAST-MODIFIED:20221115T184830Z
UID:10005695-1665417600-1665421200@cccld.org
SUMMARY:ISPL Book Group
DESCRIPTION:Everyone is welcome. Email libby@cccld.org for more information.
URL:https://cccld.org/event/ispl-book-group-5/2022-10-10/
LOCATION:Idaho Springs Public Library\, 219 14th Avenue\, Idaho Springs\, CO\, 80452\, United States
CATEGORIES:Adults,Library Events
GEO:39.742052;-105.5183552
X-APPLE-STRUCTURED-LOCATION;VALUE=URI;X-ADDRESS=Idaho Springs Public Library 219 14th Avenue Idaho Springs CO 80452 United States;X-APPLE-RADIUS=500;X-TITLE=219 14th Avenue:geo:-105.5183552,39.742052
END:VEVENT
BEGIN:VEVENT
DTSTART;TZID=America/Denver:20221008T120000
DTEND;TZID=America/Denver:20221008T140000
DTSTAMP:20260422T163254
CREATED:20220920T161623Z
LAST-MODIFIED:20220920T161623Z
UID:10005169-1665230400-1665237600@cccld.org
SUMMARY:ISPL OMEGA
DESCRIPTION:Join us for food and fun at our new LBGTQ+ Social Group for kids ages 12-20. Held monthly at the Idaho Springs Public Library. For further information email joe@cccld.org.
URL:https://cccld.org/event/ispl-omega-2/
LOCATION:Idaho Springs Public Library\, 219 14th Avenue\, Idaho Springs\, CO\, 80452\, United States
CATEGORIES:Adults,Library Events,Teens
GEO:39.742052;-105.5183552
X-APPLE-STRUCTURED-LOCATION;VALUE=URI;X-ADDRESS=Idaho Springs Public Library 219 14th Avenue Idaho Springs CO 80452 United States;X-APPLE-RADIUS=500;X-TITLE=219 14th Avenue:geo:-105.5183552,39.742052
END:VEVENT
BEGIN:VEVENT
DTSTART;TZID=America/Denver:20221007T110000
DTEND;TZID=America/Denver:20221007T133000
DTSTAMP:20260422T163254
CREATED:20220922T215528Z
LAST-MODIFIED:20220922T215647Z
UID:10005179-1665140400-1665149400@cccld.org
SUMMARY:JTML - Friends of the Georgetown Library Annual Meeting & Soup Lunch
DESCRIPTION:Join the Friends of the Georgetown Library for their Annual Meeting & FREE Soup Lunch at the John Tomay Memorial Library. The meeting starts at 11 am\, and the free soup lunch begins directly after the meeting.
URL:https://cccld.org/event/jtml-friends-of-the-georgetown-library-annual-meeting-soup-lunch/
LOCATION:John Tomay Memorial Library\, 605 6th Street\, Georgetown\, CO\, 80444\, United States
CATEGORIES:Adults,Kids,Library Events,Teens
GEO:39.7061997;-105.6974142
X-APPLE-STRUCTURED-LOCATION;VALUE=URI;X-ADDRESS=John Tomay Memorial Library 605 6th Street Georgetown CO 80444 United States;X-APPLE-RADIUS=500;X-TITLE=605 6th Street:geo:-105.6974142,39.7061997
END:VEVENT
BEGIN:VEVENT
DTSTART;TZID=America/Denver:20221004T150000
DTEND;TZID=America/Denver:20221004T160000
DTSTAMP:20260422T163254
CREATED:20221004T165000Z
LAST-MODIFIED:20221004T165953Z
UID:10005964-1664895600-1664899200@cccld.org
SUMMARY:Adult ASL@Project Support
DESCRIPTION:American Sign Language Classes for Adults–ages 15 and up–at Project Support Senior Center – 1402 Miner St. Please email joe@cccld.org for more information and to register.
URL:https://cccld.org/event/adult-asl-2/2022-10-04/
LOCATION:CO\, 80444\, United States
CATEGORIES:Adults,Library Events,Teens
GEO:39.7104468;-105.6969788
END:VEVENT
BEGIN:VEVENT
DTSTART;TZID=America/Denver:20220928T130000
DTEND;TZID=America/Denver:20220928T150000
DTSTAMP:20260422T163254
CREATED:20220823T164202Z
LAST-MODIFIED:20220823T164202Z
UID:10005929-1664370000-1664377200@cccld.org
SUMMARY:Foot Care Clinic
DESCRIPTION:Free\, senior Foot Care Clinic. Reservations are required\, call Heather at 303-567-2020. All clinics are held at the Clear Creek Recreation Center.
URL:https://cccld.org/event/foot-care-clinic-7/
LOCATION:Clear Creek Metropolitan Recreation District\, 98 12th Avenue\, Idaho Springs\, CO\, 80452\, United States
CATEGORIES:Adults,Library Events
GEO:39.7419098;-105.5208484
X-APPLE-STRUCTURED-LOCATION;VALUE=URI;X-ADDRESS=Clear Creek Metropolitan Recreation District 98 12th Avenue Idaho Springs CO 80452 United States;X-APPLE-RADIUS=500;X-TITLE=98 12th Avenue:geo:-105.5208484,39.7419098
END:VEVENT
BEGIN:VEVENT
DTSTART;TZID=America/Denver:20220928T100000
DTEND;TZID=America/Denver:20220928T110000
DTSTAMP:20260422T163254
CREATED:20220823T162133Z
LAST-MODIFIED:20220823T162133Z
UID:10005915-1664359200-1664362800@cccld.org
SUMMARY:JTML Adult ASL
DESCRIPTION:American Sign Language Classes for Adults–ages 15 and up–at the John Tomay Memorial Library. Please email joe@cccld.org for more information and to register.
URL:https://cccld.org/event/jtml-adult-asl/2022-09-28/
LOCATION:CO\, 80444\, United States
CATEGORIES:Adults,Library Events
GEO:39.7104468;-105.6969788
END:VEVENT
BEGIN:VEVENT
DTSTART;TZID=America/Denver:20220921T100000
DTEND;TZID=America/Denver:20220921T110000
DTSTAMP:20260422T163254
CREATED:20220823T162133Z
LAST-MODIFIED:20220823T162133Z
UID:10005914-1663754400-1663758000@cccld.org
SUMMARY:JTML Adult ASL
DESCRIPTION:American Sign Language Classes for Adults–ages 15 and up–at the John Tomay Memorial Library. Please email joe@cccld.org for more information and to register.
URL:https://cccld.org/event/jtml-adult-asl/2022-09-21/
LOCATION:CO\, 80444\, United States
CATEGORIES:Adults,Library Events
GEO:39.7104468;-105.6969788
END:VEVENT
BEGIN:VEVENT
DTSTART;TZID=America/Denver:20220915T173000
DTEND;TZID=America/Denver:20220915T183000
DTSTAMP:20260422T163254
CREATED:20220823T164037Z
LAST-MODIFIED:20220823T164037Z
UID:10005928-1663263000-1663266600@cccld.org
SUMMARY:JTML Adult Craft
DESCRIPTION:Join us each month for a great adult craft at the John Tomay Memorial Library. This month’s craft is Beaded Earrings. For information and to register email chris@cccld.org
URL:https://cccld.org/event/jtml-adult-craft-6/
LOCATION:John Tomay Memorial Library\, 605 6th Street\, Georgetown\, CO\, 80444\, United States
CATEGORIES:Adults,Library Events
GEO:39.7061997;-105.6974142
X-APPLE-STRUCTURED-LOCATION;VALUE=URI;X-ADDRESS=John Tomay Memorial Library 605 6th Street Georgetown CO 80444 United States;X-APPLE-RADIUS=500;X-TITLE=605 6th Street:geo:-105.6974142,39.7061997
END:VEVENT
BEGIN:VEVENT
DTSTART;TZID=America/Denver:20220915T150000
DTEND;TZID=America/Denver:20220915T160000
DTSTAMP:20260422T163254
CREATED:20220823T162840Z
LAST-MODIFIED:20220823T162840Z
UID:10005925-1663254000-1663257600@cccld.org
SUMMARY:JTML Book Group
DESCRIPTION:Everyone is welcome. Email libby@cccld.org for more information.
URL:https://cccld.org/event/jtml-book-group-9/
LOCATION:John Tomay Memorial Library\, 605 6th Street\, Georgetown\, CO\, 80444\, United States
CATEGORIES:Adults,Library Events
GEO:39.7061997;-105.6974142
X-APPLE-STRUCTURED-LOCATION;VALUE=URI;X-ADDRESS=John Tomay Memorial Library 605 6th Street Georgetown CO 80444 United States;X-APPLE-RADIUS=500;X-TITLE=605 6th Street:geo:-105.6974142,39.7061997
END:VEVENT
BEGIN:VEVENT
DTSTART;TZID=America/Denver:20220914T100000
DTEND;TZID=America/Denver:20220914T110000
DTSTAMP:20260422T163254
CREATED:20220823T162133Z
LAST-MODIFIED:20220823T162133Z
UID:10005913-1663149600-1663153200@cccld.org
SUMMARY:JTML Adult ASL
DESCRIPTION:American Sign Language Classes for Adults–ages 15 and up–at the John Tomay Memorial Library. Please email joe@cccld.org for more information and to register.
URL:https://cccld.org/event/jtml-adult-asl/2022-09-14/
LOCATION:CO\, 80444\, United States
CATEGORIES:Adults,Library Events
GEO:39.7104468;-105.6969788
END:VEVENT
END:VCALENDAR