BEGIN:VCALENDAR
VERSION:2.0
PRODID:-//Clear Creek County Library District - ECPv6.15.16//NONSGML v1.0//EN
CALSCALE:GREGORIAN
METHOD:PUBLISH
X-ORIGINAL-URL:https://cccld.org
X-WR-CALDESC:Events for Clear Creek County Library District
REFRESH-INTERVAL;VALUE=DURATION:PT1H
X-Robots-Tag:noindex
X-PUBLISHED-TTL:PT1H
BEGIN:VTIMEZONE
TZID:America/Denver
BEGIN:DAYLIGHT
TZOFFSETFROM:-0700
TZOFFSETTO:-0600
TZNAME:MDT
DTSTART:20210314T090000
END:DAYLIGHT
BEGIN:STANDARD
TZOFFSETFROM:-0600
TZOFFSETTO:-0700
TZNAME:MST
DTSTART:20211107T080000
END:STANDARD
BEGIN:DAYLIGHT
TZOFFSETFROM:-0700
TZOFFSETTO:-0600
TZNAME:MDT
DTSTART:20220313T090000
END:DAYLIGHT
BEGIN:STANDARD
TZOFFSETFROM:-0600
TZOFFSETTO:-0700
TZNAME:MST
DTSTART:20221106T080000
END:STANDARD
BEGIN:DAYLIGHT
TZOFFSETFROM:-0700
TZOFFSETTO:-0600
TZNAME:MDT
DTSTART:20230312T090000
END:DAYLIGHT
BEGIN:STANDARD
TZOFFSETFROM:-0600
TZOFFSETTO:-0700
TZNAME:MST
DTSTART:20231105T080000
END:STANDARD
END:VTIMEZONE
BEGIN:VEVENT
DTSTART;TZID=America/Denver:20220427T173000
DTEND;TZID=America/Denver:20220427T183000
DTSTAMP:20260423T070818
CREATED:20220325T213549Z
LAST-MODIFIED:20220325T213656Z
UID:10005116-1651080600-1651084200@cccld.org
SUMMARY:Adult ASL
DESCRIPTION:American Sign Language Classes for Adults–ages 15 and up–at the Idaho Springs Public Library. Please email joe@cccld.org for more information and to register.
URL:https://cccld.org/event/adult-asl/2022-04-27/
LOCATION:Idaho Springs Public Library\, 219 14th Avenue\, Idaho Springs\, CO\, 80452\, United States
CATEGORIES:Adults,Library Events,Teens
GEO:39.742052;-105.5183552
X-APPLE-STRUCTURED-LOCATION;VALUE=URI;X-ADDRESS=Idaho Springs Public Library 219 14th Avenue Idaho Springs CO 80452 United States;X-APPLE-RADIUS=500;X-TITLE=219 14th Avenue:geo:-105.5183552,39.742052
END:VEVENT
BEGIN:VEVENT
DTSTART;TZID=America/Denver:20220427T130000
DTEND;TZID=America/Denver:20220427T150000
DTSTAMP:20260423T070818
CREATED:20220328T163629Z
LAST-MODIFIED:20220328T163629Z
UID:10005759-1651064400-1651071600@cccld.org
SUMMARY:Foot Care Clinic
DESCRIPTION:Free\, senior Foot Care Clinic. Reservations are required\, call Heather at 303-567-2020. All clinics are held at the Clear Creek Recreation Center.
URL:https://cccld.org/event/foot-care-clinic-2/
LOCATION:Clear Creek Metropolitan Recreation District\, 98 12th Avenue\, Idaho Springs\, CO\, 80452\, United States
CATEGORIES:Adults,Library Events
GEO:39.7419098;-105.5208484
X-APPLE-STRUCTURED-LOCATION;VALUE=URI;X-ADDRESS=Clear Creek Metropolitan Recreation District 98 12th Avenue Idaho Springs CO 80452 United States;X-APPLE-RADIUS=500;X-TITLE=98 12th Avenue:geo:-105.5208484,39.7419098
END:VEVENT
BEGIN:VEVENT
DTSTART;TZID=America/Denver:20220421T150000
DTEND;TZID=America/Denver:20220421T160000
DTSTAMP:20260423T070818
CREATED:20220328T161840Z
LAST-MODIFIED:20220328T161840Z
UID:10005755-1650553200-1650556800@cccld.org
SUMMARY:JTML Book Group
DESCRIPTION:Everyone is welcome. Email libby@cccld.org for more information.
URL:https://cccld.org/event/jtml-book-group-5/
LOCATION:CO\, 80444\, United States
CATEGORIES:Adults,Library Events
GEO:39.7104468;-105.6969788
END:VEVENT
BEGIN:VEVENT
DTSTART;TZID=America/Denver:20220420T173000
DTEND;TZID=America/Denver:20220420T183000
DTSTAMP:20260423T070818
CREATED:20220325T213549Z
LAST-MODIFIED:20220325T213656Z
UID:10005115-1650475800-1650479400@cccld.org
SUMMARY:Adult ASL
DESCRIPTION:American Sign Language Classes for Adults–ages 15 and up–at the Idaho Springs Public Library. Please email joe@cccld.org for more information and to register.
URL:https://cccld.org/event/adult-asl/2022-04-20/
LOCATION:Idaho Springs Public Library\, 219 14th Avenue\, Idaho Springs\, CO\, 80452\, United States
CATEGORIES:Adults,Library Events,Teens
GEO:39.742052;-105.5183552
X-APPLE-STRUCTURED-LOCATION;VALUE=URI;X-ADDRESS=Idaho Springs Public Library 219 14th Avenue Idaho Springs CO 80452 United States;X-APPLE-RADIUS=500;X-TITLE=219 14th Avenue:geo:-105.5183552,39.742052
END:VEVENT
BEGIN:VEVENT
DTSTART;TZID=America/Denver:20220414T173000
DTEND;TZID=America/Denver:20220414T183000
DTSTAMP:20260423T070818
CREATED:20220328T155417Z
LAST-MODIFIED:20220328T164551Z
UID:10005122-1649957400-1649961000@cccld.org
SUMMARY:JTML Adult Craft
DESCRIPTION:Join us each month for a great adult craft at the John Tomay Memorial Library. This month’s craft is a Victorian Collage. For information and to register email chris@cccld.org
URL:https://cccld.org/event/jtml-adult-craft-5/
LOCATION:John Tomay Memorial Library\, 605 6th Street\, Georgetown\, CO\, 80444\, United States
CATEGORIES:Adults,Library Events
GEO:39.7061997;-105.6974142
X-APPLE-STRUCTURED-LOCATION;VALUE=URI;X-ADDRESS=John Tomay Memorial Library 605 6th Street Georgetown CO 80444 United States;X-APPLE-RADIUS=500;X-TITLE=605 6th Street:geo:-105.6974142,39.7061997
END:VEVENT
BEGIN:VEVENT
DTSTART;TZID=America/Denver:20220413T173000
DTEND;TZID=America/Denver:20220413T183000
DTSTAMP:20260423T070818
CREATED:20220325T213549Z
LAST-MODIFIED:20220325T213656Z
UID:10005114-1649871000-1649874600@cccld.org
SUMMARY:Adult ASL
DESCRIPTION:American Sign Language Classes for Adults–ages 15 and up–at the Idaho Springs Public Library. Please email joe@cccld.org for more information and to register.
URL:https://cccld.org/event/adult-asl/2022-04-13/
LOCATION:Idaho Springs Public Library\, 219 14th Avenue\, Idaho Springs\, CO\, 80452\, United States
CATEGORIES:Adults,Library Events,Teens
GEO:39.742052;-105.5183552
X-APPLE-STRUCTURED-LOCATION;VALUE=URI;X-ADDRESS=Idaho Springs Public Library 219 14th Avenue Idaho Springs CO 80452 United States;X-APPLE-RADIUS=500;X-TITLE=219 14th Avenue:geo:-105.5183552,39.742052
END:VEVENT
BEGIN:VEVENT
DTSTART;TZID=America/Denver:20220412T080000
DTEND;TZID=America/Denver:20220412T173000
DTSTAMP:20260423T070818
CREATED:20220325T214921Z
LAST-MODIFIED:20220325T214921Z
UID:10005120-1649750400-1649784600@cccld.org
SUMMARY:ISPL Adult Craft
DESCRIPTION:Join us each month for a great adult craft at the Idaho Springs Public Library.  This month’s craft is a Victorian Collage. For information and to register email chris@cccld.org
URL:https://cccld.org/event/ispl-adult-craft-5/
LOCATION:Idaho Springs Public Library\, 219 14th Avenue\, Idaho Springs\, CO\, 80452\, United States
CATEGORIES:Adults,Library Events
GEO:39.742052;-105.5183552
X-APPLE-STRUCTURED-LOCATION;VALUE=URI;X-ADDRESS=Idaho Springs Public Library 219 14th Avenue Idaho Springs CO 80452 United States;X-APPLE-RADIUS=500;X-TITLE=219 14th Avenue:geo:-105.5183552,39.742052
END:VEVENT
BEGIN:VEVENT
DTSTART;VALUE=DATE:20220412
DTEND;VALUE=DATE:20220413
DTSTAMP:20260423T070818
CREATED:20220412T215729Z
LAST-MODIFIED:20220412T215916Z
UID:10005774-1649721600-1649807999@cccld.org
SUMMARY:LAST DAY OF SCHOOL
DESCRIPTION:
URL:https://cccld.org/event/last-day-of-school/
LOCATION:CO\, 80444\, United States
CATEGORIES:Adults,Kids,Library Events,Teens
GEO:39.7104468;-105.6969788
END:VEVENT
BEGIN:VEVENT
DTSTART;TZID=America/Denver:20220411T160000
DTEND;TZID=America/Denver:20220411T170000
DTSTAMP:20260423T070818
CREATED:20211112T223900Z
LAST-MODIFIED:20221115T184830Z
UID:10005689-1649692800-1649696400@cccld.org
SUMMARY:ISPL Book Group
DESCRIPTION:Everyone is welcome. Email libby@cccld.org for more information.
URL:https://cccld.org/event/ispl-book-group-5/2022-04-11/
LOCATION:Idaho Springs Public Library\, 219 14th Avenue\, Idaho Springs\, CO\, 80452\, United States
CATEGORIES:Adults,Library Events
GEO:39.742052;-105.5183552
X-APPLE-STRUCTURED-LOCATION;VALUE=URI;X-ADDRESS=Idaho Springs Public Library 219 14th Avenue Idaho Springs CO 80452 United States;X-APPLE-RADIUS=500;X-TITLE=219 14th Avenue:geo:-105.5183552,39.742052
END:VEVENT
BEGIN:VEVENT
DTSTART;TZID=America/Denver:20220411T160000
DTEND;TZID=America/Denver:20220411T160000
DTSTAMP:20260423T070818
CREATED:20220328T161710Z
LAST-MODIFIED:20220404T172401Z
UID:10005754-1649692800-1649692800@cccld.org
SUMMARY:ISPL Book Group
DESCRIPTION:Everyone is welcome. Email libby@cccld.org for more information.
URL:https://cccld.org/event/ispl-book-group-8/
LOCATION:Idaho Springs Public Library\, 219 14th Avenue\, Idaho Springs\, CO\, 80452\, United States
CATEGORIES:Adults,Library Events
GEO:39.742052;-105.5183552
X-APPLE-STRUCTURED-LOCATION;VALUE=URI;X-ADDRESS=Idaho Springs Public Library 219 14th Avenue Idaho Springs CO 80452 United States;X-APPLE-RADIUS=500;X-TITLE=219 14th Avenue:geo:-105.5183552,39.742052
END:VEVENT
BEGIN:VEVENT
DTSTART;TZID=America/Denver:20220406T173000
DTEND;TZID=America/Denver:20220406T183000
DTSTAMP:20260423T070818
CREATED:20220325T213549Z
LAST-MODIFIED:20220325T213656Z
UID:10005113-1649266200-1649269800@cccld.org
SUMMARY:Adult ASL
DESCRIPTION:American Sign Language Classes for Adults–ages 15 and up–at the Idaho Springs Public Library. Please email joe@cccld.org for more information and to register.
URL:https://cccld.org/event/adult-asl/2022-04-06/
LOCATION:Idaho Springs Public Library\, 219 14th Avenue\, Idaho Springs\, CO\, 80452\, United States
CATEGORIES:Adults,Library Events,Teens
GEO:39.742052;-105.5183552
X-APPLE-STRUCTURED-LOCATION;VALUE=URI;X-ADDRESS=Idaho Springs Public Library 219 14th Avenue Idaho Springs CO 80452 United States;X-APPLE-RADIUS=500;X-TITLE=219 14th Avenue:geo:-105.5183552,39.742052
END:VEVENT
BEGIN:VEVENT
DTSTART;TZID=America/Denver:20220405T133000
DTEND;TZID=America/Denver:20220405T160000
DTSTAMP:20260423T070818
CREATED:20220301T195620Z
LAST-MODIFIED:20220301T202340Z
UID:10005105-1649165400-1649174400@cccld.org
SUMMARY:ISPL Free Tax Help
DESCRIPTION:Free tax help at the Idaho Springs Public Library. Appointments are required\, please call 720-221-8354.
URL:https://cccld.org/event/ispl-free-tax-help/2022-04-05/
LOCATION:Idaho Springs Public Library\, 219 14th Avenue\, Idaho Springs\, CO\, 80452\, United States
CATEGORIES:Adults,Library Events
GEO:39.742052;-105.5183552
X-APPLE-STRUCTURED-LOCATION;VALUE=URI;X-ADDRESS=Idaho Springs Public Library 219 14th Avenue Idaho Springs CO 80452 United States;X-APPLE-RADIUS=500;X-TITLE=219 14th Avenue:geo:-105.5183552,39.742052
END:VEVENT
BEGIN:VEVENT
DTSTART;VALUE=DATE:20220404
DTEND;VALUE=DATE:20220410
DTSTAMP:20260423T070818
CREATED:20220325T213209Z
LAST-MODIFIED:20220329T172229Z
UID:10005111-1649030400-1649548799@cccld.org
SUMMARY:National Library Week @ Idaho Springs Public Library & John Tomay Memorial Library
DESCRIPTION:Join us April4-9 at the library for complimentary coffee\, cookies\, and prize drawings to celebrate National Library Week.
URL:https://cccld.org/event/national-library-week-idaho-springs-public-library-john-tomay-memorial-library/
LOCATION:CO\, 80444\, United States
CATEGORIES:Adults,Kids,Library Events,Teens
GEO:39.7104468;-105.6969788
END:VEVENT
BEGIN:VEVENT
DTSTART;TZID=America/Denver:20220329T133000
DTEND;TZID=America/Denver:20220329T160000
DTSTAMP:20260423T070818
CREATED:20220301T195620Z
LAST-MODIFIED:20220301T202340Z
UID:10005104-1648560600-1648569600@cccld.org
SUMMARY:ISPL Free Tax Help
DESCRIPTION:Free tax help at the Idaho Springs Public Library. Appointments are required\, please call 720-221-8354.
URL:https://cccld.org/event/ispl-free-tax-help/2022-03-29/
LOCATION:Idaho Springs Public Library\, 219 14th Avenue\, Idaho Springs\, CO\, 80452\, United States
CATEGORIES:Adults,Library Events
GEO:39.742052;-105.5183552
X-APPLE-STRUCTURED-LOCATION;VALUE=URI;X-ADDRESS=Idaho Springs Public Library 219 14th Avenue Idaho Springs CO 80452 United States;X-APPLE-RADIUS=500;X-TITLE=219 14th Avenue:geo:-105.5183552,39.742052
END:VEVENT
BEGIN:VEVENT
DTSTART;TZID=America/Denver:20220327T130000
DTEND;TZID=America/Denver:20220327T150000
DTSTAMP:20260423T070818
CREATED:20220301T215912Z
LAST-MODIFIED:20220301T215912Z
UID:10005107-1648386000-1648393200@cccld.org
SUMMARY:Family Snowshoe Adventure
DESCRIPTION:Join us for a guided snowshoe hike with Georgetown Outdoor Discovery. Ages 5 years and up\, beginners welcome\, snowshoes provided. FREE with Clear Creek County library card. To learn more and register\, please contact holly@cccld.org
URL:https://cccld.org/event/family-snowshoe-adventure/
LOCATION:CO\, 80444\, United States
CATEGORIES:Adults,Kids,Library Events,Teens
GEO:39.7104468;-105.6969788
END:VEVENT
BEGIN:VEVENT
DTSTART;TZID=America/Denver:20220324T173000
DTEND;TZID=America/Denver:20220324T183000
DTSTAMP:20260423T070818
CREATED:20220222T171807Z
LAST-MODIFIED:20220222T171807Z
UID:10005098-1648143000-1648146600@cccld.org
SUMMARY:JTML Adult Craft
DESCRIPTION:Join us each month for a great adult craft at the John Tomay Memorial Library. For information and to register email chris@cccld.org
URL:https://cccld.org/event/jtml-adult-craft-4/
LOCATION:John Tomay Memorial Library\, 605 6th Street\, Georgetown\, CO\, 80444\, United States
CATEGORIES:Adults,Library Events
GEO:39.7061997;-105.6974142
X-APPLE-STRUCTURED-LOCATION;VALUE=URI;X-ADDRESS=John Tomay Memorial Library 605 6th Street Georgetown CO 80444 United States;X-APPLE-RADIUS=500;X-TITLE=605 6th Street:geo:-105.6974142,39.7061997
END:VEVENT
BEGIN:VEVENT
DTSTART;TZID=America/Denver:20220323T130000
DTEND;TZID=America/Denver:20220323T150000
DTSTAMP:20260423T070818
CREATED:20220222T165727Z
LAST-MODIFIED:20220222T165727Z
UID:10005749-1648040400-1648047600@cccld.org
SUMMARY:Foot Care Clinic
DESCRIPTION:Free\, senior foot care clinic. Reservations are required\, call Heather at 303-567-2020. All clinics are held at the Clear Creek Recreation Center.
URL:https://cccld.org/event/foot-care-clinic/
LOCATION:Clear Creek Metropolitan Recreation District\, 98 12th Avenue\, Idaho Springs\, CO\, 80452\, United States
CATEGORIES:Adults,Community Events,Library Events
GEO:39.7419098;-105.5208484
X-APPLE-STRUCTURED-LOCATION;VALUE=URI;X-ADDRESS=Clear Creek Metropolitan Recreation District 98 12th Avenue Idaho Springs CO 80452 United States;X-APPLE-RADIUS=500;X-TITLE=98 12th Avenue:geo:-105.5208484,39.7419098
END:VEVENT
BEGIN:VEVENT
DTSTART;TZID=America/Denver:20220322T173000
DTEND;TZID=America/Denver:20220322T183000
DTSTAMP:20260423T070818
CREATED:20220222T171642Z
LAST-MODIFIED:20220222T171642Z
UID:10005752-1647970200-1647973800@cccld.org
SUMMARY:ISPL Adult Craft
DESCRIPTION:Join us each month for a great adult craft at the Idaho Springs Public Library. For information and to register email chris@cccld.org
URL:https://cccld.org/event/ispl-adult-craft-4/
LOCATION:Idaho Springs Public Library\, 219 14th Avenue\, Idaho Springs\, CO\, 80452\, United States
CATEGORIES:Adults,Library Events
GEO:39.742052;-105.5183552
X-APPLE-STRUCTURED-LOCATION;VALUE=URI;X-ADDRESS=Idaho Springs Public Library 219 14th Avenue Idaho Springs CO 80452 United States;X-APPLE-RADIUS=500;X-TITLE=219 14th Avenue:geo:-105.5183552,39.742052
END:VEVENT
BEGIN:VEVENT
DTSTART;TZID=America/Denver:20220322T160000
DTEND;TZID=America/Denver:20220322T170000
DTSTAMP:20260423T070818
CREATED:20220222T162407Z
LAST-MODIFIED:20220222T162407Z
UID:10005740-1647964800-1647968400@cccld.org
SUMMARY:ISPL Book Group
DESCRIPTION:Everyone is welcome. Email libby@cccld.org for more information.
URL:https://cccld.org/event/ispl-book-group-7/
LOCATION:CO\, 80444\, United States
CATEGORIES:Adults,Library Events
GEO:39.7104468;-105.6969788
END:VEVENT
BEGIN:VEVENT
DTSTART;TZID=America/Denver:20220322T133000
DTEND;TZID=America/Denver:20220322T160000
DTSTAMP:20260423T070818
CREATED:20220301T195620Z
LAST-MODIFIED:20220301T202340Z
UID:10005103-1647955800-1647964800@cccld.org
SUMMARY:ISPL Free Tax Help
DESCRIPTION:Free tax help at the Idaho Springs Public Library. Appointments are required\, please call 720-221-8354.
URL:https://cccld.org/event/ispl-free-tax-help/2022-03-22/
LOCATION:Idaho Springs Public Library\, 219 14th Avenue\, Idaho Springs\, CO\, 80452\, United States
CATEGORIES:Adults,Library Events
GEO:39.742052;-105.5183552
X-APPLE-STRUCTURED-LOCATION;VALUE=URI;X-ADDRESS=Idaho Springs Public Library 219 14th Avenue Idaho Springs CO 80452 United States;X-APPLE-RADIUS=500;X-TITLE=219 14th Avenue:geo:-105.5183552,39.742052
END:VEVENT
BEGIN:VEVENT
DTSTART;TZID=America/Denver:20220317T150000
DTEND;TZID=America/Denver:20220317T160000
DTSTAMP:20260423T070818
CREATED:20220222T162519Z
LAST-MODIFIED:20220222T162519Z
UID:10005741-1647529200-1647532800@cccld.org
SUMMARY:JTML Book Group
DESCRIPTION:Everyone is welcome. Email libby@cccld.org for more information.
URL:https://cccld.org/event/jtml-book-group-4/
LOCATION:CO\, 80444\, United States
CATEGORIES:Adults,Library Events
GEO:39.7104468;-105.6969788
END:VEVENT
BEGIN:VEVENT
DTSTART;TZID=America/Denver:20220315T133000
DTEND;TZID=America/Denver:20220315T160000
DTSTAMP:20260423T070818
CREATED:20220301T195620Z
LAST-MODIFIED:20220301T202340Z
UID:10005102-1647351000-1647360000@cccld.org
SUMMARY:ISPL Free Tax Help
DESCRIPTION:Free tax help at the Idaho Springs Public Library. Appointments are required\, please call 720-221-8354.
URL:https://cccld.org/event/ispl-free-tax-help/2022-03-15/
LOCATION:Idaho Springs Public Library\, 219 14th Avenue\, Idaho Springs\, CO\, 80452\, United States
CATEGORIES:Adults,Library Events
GEO:39.742052;-105.5183552
X-APPLE-STRUCTURED-LOCATION;VALUE=URI;X-ADDRESS=Idaho Springs Public Library 219 14th Avenue Idaho Springs CO 80452 United States;X-APPLE-RADIUS=500;X-TITLE=219 14th Avenue:geo:-105.5183552,39.742052
END:VEVENT
BEGIN:VEVENT
DTSTART;TZID=America/Denver:20220314T160000
DTEND;TZID=America/Denver:20220314T170000
DTSTAMP:20260423T070818
CREATED:20211112T223900Z
LAST-MODIFIED:20221115T184830Z
UID:10005688-1647273600-1647277200@cccld.org
SUMMARY:ISPL Book Group
DESCRIPTION:Everyone is welcome. Email libby@cccld.org for more information.
URL:https://cccld.org/event/ispl-book-group-5/2022-03-14/
LOCATION:Idaho Springs Public Library\, 219 14th Avenue\, Idaho Springs\, CO\, 80452\, United States
CATEGORIES:Adults,Library Events
GEO:39.742052;-105.5183552
X-APPLE-STRUCTURED-LOCATION;VALUE=URI;X-ADDRESS=Idaho Springs Public Library 219 14th Avenue Idaho Springs CO 80452 United States;X-APPLE-RADIUS=500;X-TITLE=219 14th Avenue:geo:-105.5183552,39.742052
END:VEVENT
BEGIN:VEVENT
DTSTART;TZID=America/Denver:20220313T130000
DTEND;TZID=America/Denver:20220313T150000
DTSTAMP:20260423T070818
CREATED:20220301T220442Z
LAST-MODIFIED:20220301T220521Z
UID:10005109-1647176400-1647183600@cccld.org
SUMMARY:Adult Snowshoe Adventure
DESCRIPTION:Join us for a guided snowshoe hike with Georgetown Outdoor Discovery. Ages 16 years and over\, beginners welcome\, snowshoes provided. FREE with Clear Creek County library card. To learn more and register\, please contact holly@cccld.org
URL:https://cccld.org/event/adult-snowshoe-adventure/
LOCATION:CO\, 80444\, United States
CATEGORIES:Adults,Library Events
GEO:39.7104468;-105.6969788
END:VEVENT
BEGIN:VEVENT
DTSTART;TZID=America/Denver:20220308T133000
DTEND;TZID=America/Denver:20220308T160000
DTSTAMP:20260423T070818
CREATED:20220301T195620Z
LAST-MODIFIED:20220301T202340Z
UID:10005101-1646746200-1646755200@cccld.org
SUMMARY:ISPL Free Tax Help
DESCRIPTION:Free tax help at the Idaho Springs Public Library. Appointments are required\, please call 720-221-8354.
URL:https://cccld.org/event/ispl-free-tax-help/2022-03-08/
LOCATION:Idaho Springs Public Library\, 219 14th Avenue\, Idaho Springs\, CO\, 80452\, United States
CATEGORIES:Adults,Library Events
GEO:39.742052;-105.5183552
X-APPLE-STRUCTURED-LOCATION;VALUE=URI;X-ADDRESS=Idaho Springs Public Library 219 14th Avenue Idaho Springs CO 80452 United States;X-APPLE-RADIUS=500;X-TITLE=219 14th Avenue:geo:-105.5183552,39.742052
END:VEVENT
BEGIN:VEVENT
DTSTART;TZID=America/Denver:20220301T133000
DTEND;TZID=America/Denver:20220301T160000
DTSTAMP:20260423T070818
CREATED:20220301T195620Z
LAST-MODIFIED:20220301T202340Z
UID:10005100-1646141400-1646150400@cccld.org
SUMMARY:ISPL Free Tax Help
DESCRIPTION:Free tax help at the Idaho Springs Public Library. Appointments are required\, please call 720-221-8354.
URL:https://cccld.org/event/ispl-free-tax-help/2022-03-01/
LOCATION:Idaho Springs Public Library\, 219 14th Avenue\, Idaho Springs\, CO\, 80452\, United States
CATEGORIES:Adults,Library Events
GEO:39.742052;-105.5183552
X-APPLE-STRUCTURED-LOCATION;VALUE=URI;X-ADDRESS=Idaho Springs Public Library 219 14th Avenue Idaho Springs CO 80452 United States;X-APPLE-RADIUS=500;X-TITLE=219 14th Avenue:geo:-105.5183552,39.742052
END:VEVENT
BEGIN:VEVENT
DTSTART;TZID=America/Denver:20220221T160000
DTEND;TZID=America/Denver:20220221T170000
DTSTAMP:20260423T070818
CREATED:20220222T162042Z
LAST-MODIFIED:20220222T162042Z
UID:10005739-1645459200-1645462800@cccld.org
SUMMARY:ISPL Book Group
DESCRIPTION:Everyone is welcome. Email libby@cccld.org for more information.
URL:https://cccld.org/event/ispl-book-group-6/
LOCATION:CO\, 80444\, United States
CATEGORIES:Adults,Library Events
GEO:39.7104468;-105.6969788
END:VEVENT
BEGIN:VEVENT
DTSTART;TZID=America/Denver:20220217T173000
DTEND;TZID=America/Denver:20220217T183000
DTSTAMP:20260423T070818
CREATED:20220201T164859Z
LAST-MODIFIED:20220201T170716Z
UID:10005737-1645119000-1645122600@cccld.org
SUMMARY:Virtual Adult Craft
DESCRIPTION:Scrabble Coasters – Virtual Workshop. All supplies are provided and available for pickup at both library locations. Reservations are required. Please email chris@cccld.org to reserve your spot.
URL:https://cccld.org/event/virtual-adult-craft/
LOCATION:CO\, 80444\, United States
CATEGORIES:Adults,Library Events
GEO:39.7104468;-105.6969788
END:VEVENT
BEGIN:VEVENT
DTSTART;TZID=America/Denver:20220217T150000
DTEND;TZID=America/Denver:20220217T160000
DTSTAMP:20260423T070818
CREATED:20220201T163922Z
LAST-MODIFIED:20220201T163931Z
UID:10005736-1645110000-1645113600@cccld.org
SUMMARY:Virtual JTML Book Group
DESCRIPTION:Everyone is welcome. Email libby@cccld.org for more information.
URL:https://cccld.org/event/virtual-jtml-book-group-10/
LOCATION:CO\, 80444\, United States
CATEGORIES:Adults,Library Events
GEO:39.7104468;-105.6969788
END:VEVENT
BEGIN:VEVENT
DTSTART;TZID=America/Denver:20220214T160000
DTEND;TZID=America/Denver:20220214T170000
DTSTAMP:20260423T070818
CREATED:20211112T223900Z
LAST-MODIFIED:20221115T184830Z
UID:10005687-1644854400-1644858000@cccld.org
SUMMARY:ISPL Book Group
DESCRIPTION:Everyone is welcome. Email libby@cccld.org for more information.
URL:https://cccld.org/event/ispl-book-group-5/2022-02-14/
LOCATION:Idaho Springs Public Library\, 219 14th Avenue\, Idaho Springs\, CO\, 80452\, United States
CATEGORIES:Adults,Library Events
GEO:39.742052;-105.5183552
X-APPLE-STRUCTURED-LOCATION;VALUE=URI;X-ADDRESS=Idaho Springs Public Library 219 14th Avenue Idaho Springs CO 80452 United States;X-APPLE-RADIUS=500;X-TITLE=219 14th Avenue:geo:-105.5183552,39.742052
END:VEVENT
END:VCALENDAR