BEGIN:VCALENDAR
VERSION:2.0
PRODID:-//Clear Creek County Library District - ECPv6.15.16//NONSGML v1.0//EN
CALSCALE:GREGORIAN
METHOD:PUBLISH
X-ORIGINAL-URL:https://cccld.org
X-WR-CALDESC:Events for Clear Creek County Library District
REFRESH-INTERVAL;VALUE=DURATION:PT1H
X-Robots-Tag:noindex
X-PUBLISHED-TTL:PT1H
BEGIN:VTIMEZONE
TZID:America/Denver
BEGIN:DAYLIGHT
TZOFFSETFROM:-0700
TZOFFSETTO:-0600
TZNAME:MDT
DTSTART:20240310T090000
END:DAYLIGHT
BEGIN:STANDARD
TZOFFSETFROM:-0600
TZOFFSETTO:-0700
TZNAME:MST
DTSTART:20241103T080000
END:STANDARD
BEGIN:DAYLIGHT
TZOFFSETFROM:-0700
TZOFFSETTO:-0600
TZNAME:MDT
DTSTART:20250309T090000
END:DAYLIGHT
BEGIN:STANDARD
TZOFFSETFROM:-0600
TZOFFSETTO:-0700
TZNAME:MST
DTSTART:20251102T080000
END:STANDARD
BEGIN:DAYLIGHT
TZOFFSETFROM:-0700
TZOFFSETTO:-0600
TZNAME:MDT
DTSTART:20260308T090000
END:DAYLIGHT
BEGIN:STANDARD
TZOFFSETFROM:-0600
TZOFFSETTO:-0700
TZNAME:MST
DTSTART:20261101T080000
END:STANDARD
END:VTIMEZONE
BEGIN:VEVENT
DTSTART;TZID=America/Denver:20251016T150000
DTEND;TZID=America/Denver:20251016T163000
DTSTAMP:20260421T055024
CREATED:20230424T155339Z
LAST-MODIFIED:20250811T205707Z
UID:10006795-1760626800-1760632200@cccld.org
SUMMARY:JTML Book Group
DESCRIPTION:Everyone is welcome. Email libby@cccld.org for more information.
URL:https://cccld.org/event/jtml-book-group-13/2025-10-16/
LOCATION:CO
CATEGORIES:Adults,Library Events
END:VEVENT
BEGIN:VEVENT
DTSTART;VALUE=DATE:20251013
DTEND;VALUE=DATE:20251014
DTSTAMP:20260421T055024
CREATED:20251003T203349Z
LAST-MODIFIED:20251003T203356Z
UID:10006826-1760313600-1760399999@cccld.org
SUMMARY:LIBRARY CLOSED
DESCRIPTION:In observance of Indigenous Peoples’ Day\, all Clear Creek County Library branches will be closed Monday\, October 13.
URL:https://cccld.org/event/library-closed-30/
LOCATION:CO
CATEGORIES:Adults,Kids,Library Events,Teens
END:VEVENT
BEGIN:VEVENT
DTSTART;TZID=America/Denver:20250924T130000
DTEND;TZID=America/Denver:20250924T150000
DTSTAMP:20260421T055024
CREATED:20250811T205858Z
LAST-MODIFIED:20260211T211924Z
UID:10006797-1758718800-1758726000@cccld.org
SUMMARY:Foot Care Clinic
DESCRIPTION:Senior Foot Care Clinic. Reservations are required\, call Heather at 303-567-2020. The clinic is held at the Clear Creek Recreation Center in the Moly room.
URL:https://cccld.org/event/foot-care-clinic-11-2/2025-09-24/
LOCATION:Clear Creek Metropolitan Recreation District\, 98 12th Avenue\, Idaho Springs\, CO\, 80452\, United States
CATEGORIES:Adults,Library Events
GEO:39.7419098;-105.5208484
X-APPLE-STRUCTURED-LOCATION;VALUE=URI;X-ADDRESS=Clear Creek Metropolitan Recreation District 98 12th Avenue Idaho Springs CO 80452 United States;X-APPLE-RADIUS=500;X-TITLE=98 12th Avenue:geo:-105.5208484,39.7419098
END:VEVENT
BEGIN:VEVENT
DTSTART;TZID=America/Denver:20250918T173000
DTEND;TZID=America/Denver:20250918T190000
DTSTAMP:20260421T055024
CREATED:20250829T213616Z
LAST-MODIFIED:20250829T213616Z
UID:10006807-1758216600-1758222000@cccld.org
SUMMARY:ISPL-Library Game Lounge
DESCRIPTION:Free fun for adults! Bring a game from home\, or play one of ours! Refreshments served.
URL:https://cccld.org/event/ispl-library-game-lounge/
LOCATION:Idaho Springs Public Library\, 219 14th Avenue\, Idaho Springs\, CO\, 80452\, United States
CATEGORIES:Adults,Library Events
GEO:39.742052;-105.5183552
X-APPLE-STRUCTURED-LOCATION;VALUE=URI;X-ADDRESS=Idaho Springs Public Library 219 14th Avenue Idaho Springs CO 80452 United States;X-APPLE-RADIUS=500;X-TITLE=219 14th Avenue:geo:-105.5183552,39.742052
END:VEVENT
BEGIN:VEVENT
DTSTART;TZID=America/Denver:20250918T150000
DTEND;TZID=America/Denver:20250918T163000
DTSTAMP:20260421T055024
CREATED:20230424T155339Z
LAST-MODIFIED:20250811T205707Z
UID:10006794-1758207600-1758213000@cccld.org
SUMMARY:JTML Book Group
DESCRIPTION:Everyone is welcome. Email libby@cccld.org for more information.
URL:https://cccld.org/event/jtml-book-group-13/2025-09-18/
LOCATION:CO
CATEGORIES:Adults,Library Events
END:VEVENT
BEGIN:VEVENT
DTSTART;TZID=America/Denver:20250913T110000
DTEND;TZID=America/Denver:20250913T150000
DTSTAMP:20260421T055024
CREATED:20250829T214357Z
LAST-MODIFIED:20250829T214428Z
UID:10006809-1757761200-1757775600@cccld.org
SUMMARY:ISPL-Club Connection Fair
DESCRIPTION:Idaho Springs Public Library Grounds. Connect with local groups! Mingle and find the perfect group(s) for you\, or start one of your own. Get involved.
URL:https://cccld.org/event/ispl-club-connection-fair/
LOCATION:Idaho Springs Public Library\, 219 14th Avenue\, Idaho Springs\, CO\, 80452\, United States
CATEGORIES:Adults,Community Events,Kids,Library Events,Teens
GEO:39.742052;-105.5183552
X-APPLE-STRUCTURED-LOCATION;VALUE=URI;X-ADDRESS=Idaho Springs Public Library 219 14th Avenue Idaho Springs CO 80452 United States;X-APPLE-RADIUS=500;X-TITLE=219 14th Avenue:geo:-105.5183552,39.742052
END:VEVENT
BEGIN:VEVENT
DTSTART;TZID=America/Denver:20250910T180000
DTEND;TZID=America/Denver:20250910T200000
DTSTAMP:20260421T055024
CREATED:20250829T214802Z
LAST-MODIFIED:20250829T214802Z
UID:10006810-1757527200-1757534400@cccld.org
SUMMARY:Community Read & Book Discussion
DESCRIPTION:Visit your Clear Creek County Library to pick up your FREE copy of The Art of Gathering. Read the book\, then join the talk @ Tommyknocker Brewery. Refreshments served!
URL:https://cccld.org/event/community-read-book-discussion/
LOCATION:Tommyknocker Brewery\, 1401 Miner Street\, Idaho Springs\, CO\, 80452\, United States
CATEGORIES:Adults,Library Events,Teens
GEO:39.7416267;-105.5177181
X-APPLE-STRUCTURED-LOCATION;VALUE=URI;X-ADDRESS=Tommyknocker Brewery 1401 Miner Street Idaho Springs CO 80452 United States;X-APPLE-RADIUS=500;X-TITLE=1401 Miner Street:geo:-105.5177181,39.7416267
END:VEVENT
BEGIN:VEVENT
DTSTART;TZID=America/Denver:20250908T160000
DTEND;TZID=America/Denver:20250908T170000
DTSTAMP:20260421T055024
CREATED:20240610T171053Z
LAST-MODIFIED:20260116T185121Z
UID:10006783-1757347200-1757350800@cccld.org
SUMMARY:ISPL Book Group
DESCRIPTION:Everyone is welcome. Email libby@cccld.org for more information.
URL:https://cccld.org/event/ispl-book-group-16-2/2025-09-08/
LOCATION:Idaho Springs Public Library\, 219 14th Avenue\, Idaho Springs\, CO\, 80452\, United States
CATEGORIES:Adults,Library Events
GEO:39.742052;-105.5183552
X-APPLE-STRUCTURED-LOCATION;VALUE=URI;X-ADDRESS=Idaho Springs Public Library 219 14th Avenue Idaho Springs CO 80452 United States;X-APPLE-RADIUS=500;X-TITLE=219 14th Avenue:geo:-105.5183552,39.742052
END:VEVENT
BEGIN:VEVENT
DTSTART;TZID=America/Denver:20250904T190000
DTEND;TZID=America/Denver:20250904T210000
DTSTAMP:20260421T055024
CREATED:20250829T215101Z
LAST-MODIFIED:20250829T215101Z
UID:10006811-1757012400-1757019600@cccld.org
SUMMARY:Join or Die Film Screening
DESCRIPTION:Join us for a FREE SCREENING of this celebrated documentary about the individual and community benefits of social clubs @ The Old School\, 809 Taos Street\, Georgetown. Refreshments served!
URL:https://cccld.org/event/join-or-die-film-screening/
LOCATION:Old School House\, 809 Taos St\, Georgetown\, CO\, United States
CATEGORIES:Adults,Library Events,Teens
GEO:39.707368;-105.695645
X-APPLE-STRUCTURED-LOCATION;VALUE=URI;X-ADDRESS=Old School House 809 Taos St Georgetown CO United States;X-APPLE-RADIUS=500;X-TITLE=809 Taos St:geo:-105.695645,39.707368
END:VEVENT
BEGIN:VEVENT
DTSTART;TZID=America/Denver:20250902T170000
DTEND;TZID=America/Denver:20250902T183000
DTSTAMP:20260421T055024
CREATED:20250829T220049Z
LAST-MODIFIED:20250829T220049Z
UID:10006812-1756832400-1756837800@cccld.org
SUMMARY:Special Library District Board Meeting
DESCRIPTION:Hybrid Special Meeting – Local History Archives\nInstructions for submitting public comments can be found in the agenda. https://drive.google.com/file/d/10JCnlcu3vq-AxD8tMeUy2cZbKJR3F5Aa/view
URL:https://cccld.org/event/special-library-district-board-meeting/
LOCATION:Archives Library\, 809 Taos Street\, Georgetown\, CO\, 80444\, United States
CATEGORIES:Adults,Community Events,Library Events,Teens
GEO:39.7076439;-105.6959246
X-APPLE-STRUCTURED-LOCATION;VALUE=URI;X-ADDRESS=Archives Library 809 Taos Street Georgetown CO 80444 United States;X-APPLE-RADIUS=500;X-TITLE=809 Taos Street:geo:-105.6959246,39.7076439
END:VEVENT
BEGIN:VEVENT
DTSTART;TZID=America/Denver:20250815T100000
DTEND;TZID=America/Denver:20250815T113000
DTSTAMP:20260421T055024
CREATED:20230424T155339Z
LAST-MODIFIED:20250811T205707Z
UID:10006748-1755252000-1755257400@cccld.org
SUMMARY:JTML Book Group
DESCRIPTION:Everyone is welcome. Email libby@cccld.org for more information.
URL:https://cccld.org/event/jtml-book-group-13/2025-08-15/
LOCATION:CO
CATEGORIES:Adults,Library Events
END:VEVENT
BEGIN:VEVENT
DTSTART;VALUE=DATE:20250813
DTEND;VALUE=DATE:20250814
DTSTAMP:20260421T055024
CREATED:20250731T170027Z
LAST-MODIFIED:20250731T170119Z
UID:10006792-1755043200-1755129599@cccld.org
SUMMARY:Back to School
DESCRIPTION:
URL:https://cccld.org/event/back-to-school/
LOCATION:CO
CATEGORIES:Adults,Kids,Library Events,Teens
END:VEVENT
BEGIN:VEVENT
DTSTART;TZID=America/Denver:20250811T160000
DTEND;TZID=America/Denver:20250811T170000
DTSTAMP:20260421T055024
CREATED:20240610T171053Z
LAST-MODIFIED:20260116T185121Z
UID:10006782-1754928000-1754931600@cccld.org
SUMMARY:ISPL Book Group
DESCRIPTION:Everyone is welcome. Email libby@cccld.org for more information.
URL:https://cccld.org/event/ispl-book-group-16-2/2025-08-11/
LOCATION:Idaho Springs Public Library\, 219 14th Avenue\, Idaho Springs\, CO\, 80452\, United States
CATEGORIES:Adults,Library Events
GEO:39.742052;-105.5183552
X-APPLE-STRUCTURED-LOCATION;VALUE=URI;X-ADDRESS=Idaho Springs Public Library 219 14th Avenue Idaho Springs CO 80452 United States;X-APPLE-RADIUS=500;X-TITLE=219 14th Avenue:geo:-105.5183552,39.742052
END:VEVENT
BEGIN:VEVENT
DTSTART;TZID=America/Denver:20250730T130000
DTEND;TZID=America/Denver:20250730T150000
DTSTAMP:20260421T055024
CREATED:20250811T205858Z
LAST-MODIFIED:20260211T211924Z
UID:10006777-1753880400-1753887600@cccld.org
SUMMARY:Foot Care Clinic
DESCRIPTION:Senior Foot Care Clinic. Reservations are required\, call Heather at 303-567-2020. The clinic is held at the Clear Creek Recreation Center in the Moly room.
URL:https://cccld.org/event/foot-care-clinic-11-2/2025-07-30/
LOCATION:Clear Creek Metropolitan Recreation District\, 98 12th Avenue\, Idaho Springs\, CO\, 80452\, United States
CATEGORIES:Adults,Library Events
GEO:39.7419098;-105.5208484
X-APPLE-STRUCTURED-LOCATION;VALUE=URI;X-ADDRESS=Clear Creek Metropolitan Recreation District 98 12th Avenue Idaho Springs CO 80452 United States;X-APPLE-RADIUS=500;X-TITLE=98 12th Avenue:geo:-105.5208484,39.7419098
END:VEVENT
BEGIN:VEVENT
DTSTART;TZID=America/Denver:20250718T100000
DTEND;TZID=America/Denver:20250718T113000
DTSTAMP:20260421T055024
CREATED:20230424T155339Z
LAST-MODIFIED:20250811T205707Z
UID:10006747-1752832800-1752838200@cccld.org
SUMMARY:JTML Book Group
DESCRIPTION:Everyone is welcome. Email libby@cccld.org for more information.
URL:https://cccld.org/event/jtml-book-group-13/2025-07-18/
LOCATION:CO
CATEGORIES:Adults,Library Events
END:VEVENT
BEGIN:VEVENT
DTSTART;TZID=America/Denver:20250715T100000
DTEND;TZID=America/Denver:20250715T110000
DTSTAMP:20260421T055024
CREATED:20250515T211343Z
LAST-MODIFIED:20250515T211343Z
UID:10006761-1752573600-1752577200@cccld.org
SUMMARY:ISPL-Summer Reading
DESCRIPTION:Review complete reading groups and times at cccld.org/summer-reading/ Join us for Summer Reading 2025–Color Our World! Read\, imagine\, create-make this summer a masterpiece. Connect with other Clear Creek learners\, and read your way to wonderful prizes! Like all Library District programs\, Summer Reading is 100% free.
URL:https://cccld.org/event/ispl-summer-reading-4/2025-07-15/
LOCATION:Idaho Springs Public Library\, 219 14th Avenue\, Idaho Springs\, CO\, 80452\, United States
CATEGORIES:Adults,Kids,Library Events,Teens
GEO:39.742052;-105.5183552
X-APPLE-STRUCTURED-LOCATION;VALUE=URI;X-ADDRESS=Idaho Springs Public Library 219 14th Avenue Idaho Springs CO 80452 United States;X-APPLE-RADIUS=500;X-TITLE=219 14th Avenue:geo:-105.5183552,39.742052
END:VEVENT
BEGIN:VEVENT
DTSTART;TZID=America/Denver:20250714T160000
DTEND;TZID=America/Denver:20250714T170000
DTSTAMP:20260421T055024
CREATED:20240610T171053Z
LAST-MODIFIED:20260116T185121Z
UID:10006781-1752508800-1752512400@cccld.org
SUMMARY:ISPL Book Group
DESCRIPTION:Everyone is welcome. Email libby@cccld.org for more information.
URL:https://cccld.org/event/ispl-book-group-16-2/2025-07-14/
LOCATION:Idaho Springs Public Library\, 219 14th Avenue\, Idaho Springs\, CO\, 80452\, United States
CATEGORIES:Adults,Library Events
GEO:39.742052;-105.5183552
X-APPLE-STRUCTURED-LOCATION;VALUE=URI;X-ADDRESS=Idaho Springs Public Library 219 14th Avenue Idaho Springs CO 80452 United States;X-APPLE-RADIUS=500;X-TITLE=219 14th Avenue:geo:-105.5183552,39.742052
END:VEVENT
BEGIN:VEVENT
DTSTART;TZID=America/Denver:20250708T100000
DTEND;TZID=America/Denver:20250708T110000
DTSTAMP:20260421T055024
CREATED:20250515T211343Z
LAST-MODIFIED:20250515T211343Z
UID:10006760-1751968800-1751972400@cccld.org
SUMMARY:ISPL-Summer Reading
DESCRIPTION:Review complete reading groups and times at cccld.org/summer-reading/ Join us for Summer Reading 2025–Color Our World! Read\, imagine\, create-make this summer a masterpiece. Connect with other Clear Creek learners\, and read your way to wonderful prizes! Like all Library District programs\, Summer Reading is 100% free.
URL:https://cccld.org/event/ispl-summer-reading-4/2025-07-08/
LOCATION:Idaho Springs Public Library\, 219 14th Avenue\, Idaho Springs\, CO\, 80452\, United States
CATEGORIES:Adults,Kids,Library Events,Teens
GEO:39.742052;-105.5183552
X-APPLE-STRUCTURED-LOCATION;VALUE=URI;X-ADDRESS=Idaho Springs Public Library 219 14th Avenue Idaho Springs CO 80452 United States;X-APPLE-RADIUS=500;X-TITLE=219 14th Avenue:geo:-105.5183552,39.742052
END:VEVENT
BEGIN:VEVENT
DTSTART;TZID=America/Denver:20250704T100000
DTEND;TZID=America/Denver:20250706T160000
DTSTAMP:20260421T055024
CREATED:20210618T213151Z
LAST-MODIFIED:20250618T161704Z
UID:10005624-1751623200-1751817600@cccld.org
SUMMARY:JTML Friends BOOK SALE
DESCRIPTION:Friends of the Georgetown Library Book Sale. July 4-5 – 10 am – 4 pm @ John Tomay Memorial Library – 605 6th St.\, Georgetown\, CO.
URL:https://cccld.org/event/book-sale/
LOCATION:CO
CATEGORIES:Adults,Community Events,Kids,Library Events,Teens
END:VEVENT
BEGIN:VEVENT
DTSTART;VALUE=DATE:20250704
DTEND;VALUE=DATE:20250705
DTSTAMP:20260421T055024
CREATED:20250603T221047Z
LAST-MODIFIED:20250603T221047Z
UID:10006776-1751587200-1751673599@cccld.org
SUMMARY:LIBRARY CLOSED
DESCRIPTION:
URL:https://cccld.org/event/library-closed-29/
LOCATION:CO
CATEGORIES:Adults,Community Events,Kids,Library Events,Summer Reading
END:VEVENT
BEGIN:VEVENT
DTSTART;TZID=America/Denver:20250701T100000
DTEND;TZID=America/Denver:20250701T110000
DTSTAMP:20260421T055024
CREATED:20250515T211343Z
LAST-MODIFIED:20250515T211343Z
UID:10006759-1751364000-1751367600@cccld.org
SUMMARY:ISPL-Summer Reading
DESCRIPTION:Review complete reading groups and times at cccld.org/summer-reading/ Join us for Summer Reading 2025–Color Our World! Read\, imagine\, create-make this summer a masterpiece. Connect with other Clear Creek learners\, and read your way to wonderful prizes! Like all Library District programs\, Summer Reading is 100% free.
URL:https://cccld.org/event/ispl-summer-reading-4/2025-07-01/
LOCATION:Idaho Springs Public Library\, 219 14th Avenue\, Idaho Springs\, CO\, 80452\, United States
CATEGORIES:Adults,Kids,Library Events,Teens
GEO:39.742052;-105.5183552
X-APPLE-STRUCTURED-LOCATION;VALUE=URI;X-ADDRESS=Idaho Springs Public Library 219 14th Avenue Idaho Springs CO 80452 United States;X-APPLE-RADIUS=500;X-TITLE=219 14th Avenue:geo:-105.5183552,39.742052
END:VEVENT
BEGIN:VEVENT
DTSTART;TZID=America/Denver:20250624T100000
DTEND;TZID=America/Denver:20250624T110000
DTSTAMP:20260421T055024
CREATED:20250515T211343Z
LAST-MODIFIED:20250515T211343Z
UID:10006758-1750759200-1750762800@cccld.org
SUMMARY:ISPL-Summer Reading
DESCRIPTION:Review complete reading groups and times at cccld.org/summer-reading/ Join us for Summer Reading 2025–Color Our World! Read\, imagine\, create-make this summer a masterpiece. Connect with other Clear Creek learners\, and read your way to wonderful prizes! Like all Library District programs\, Summer Reading is 100% free.
URL:https://cccld.org/event/ispl-summer-reading-4/2025-06-24/
LOCATION:Idaho Springs Public Library\, 219 14th Avenue\, Idaho Springs\, CO\, 80452\, United States
CATEGORIES:Adults,Kids,Library Events,Teens
GEO:39.742052;-105.5183552
X-APPLE-STRUCTURED-LOCATION;VALUE=URI;X-ADDRESS=Idaho Springs Public Library 219 14th Avenue Idaho Springs CO 80452 United States;X-APPLE-RADIUS=500;X-TITLE=219 14th Avenue:geo:-105.5183552,39.742052
END:VEVENT
BEGIN:VEVENT
DTSTART;TZID=America/Denver:20250620T100000
DTEND;TZID=America/Denver:20250620T113000
DTSTAMP:20260421T055024
CREATED:20230424T155339Z
LAST-MODIFIED:20250811T205707Z
UID:10006746-1750413600-1750419000@cccld.org
SUMMARY:JTML Book Group
DESCRIPTION:Everyone is welcome. Email libby@cccld.org for more information.
URL:https://cccld.org/event/jtml-book-group-13/2025-06-20/
LOCATION:CO
CATEGORIES:Adults,Library Events
END:VEVENT
BEGIN:VEVENT
DTSTART;TZID=America/Denver:20250617T100000
DTEND;TZID=America/Denver:20250617T110000
DTSTAMP:20260421T055024
CREATED:20250515T211343Z
LAST-MODIFIED:20250515T211343Z
UID:10006757-1750154400-1750158000@cccld.org
SUMMARY:ISPL-Summer Reading
DESCRIPTION:Review complete reading groups and times at cccld.org/summer-reading/ Join us for Summer Reading 2025–Color Our World! Read\, imagine\, create-make this summer a masterpiece. Connect with other Clear Creek learners\, and read your way to wonderful prizes! Like all Library District programs\, Summer Reading is 100% free.
URL:https://cccld.org/event/ispl-summer-reading-4/2025-06-17/
LOCATION:Idaho Springs Public Library\, 219 14th Avenue\, Idaho Springs\, CO\, 80452\, United States
CATEGORIES:Adults,Kids,Library Events,Teens
GEO:39.742052;-105.5183552
X-APPLE-STRUCTURED-LOCATION;VALUE=URI;X-ADDRESS=Idaho Springs Public Library 219 14th Avenue Idaho Springs CO 80452 United States;X-APPLE-RADIUS=500;X-TITLE=219 14th Avenue:geo:-105.5183552,39.742052
END:VEVENT
BEGIN:VEVENT
DTSTART;TZID=America/Denver:20250609T160000
DTEND;TZID=America/Denver:20250609T170000
DTSTAMP:20260421T055024
CREATED:20240610T171053Z
LAST-MODIFIED:20260116T185121Z
UID:10006595-1749484800-1749488400@cccld.org
SUMMARY:ISPL Book Group
DESCRIPTION:Everyone is welcome. Email libby@cccld.org for more information.
URL:https://cccld.org/event/ispl-book-group-16-2/2025-06-09/
LOCATION:Idaho Springs Public Library\, 219 14th Avenue\, Idaho Springs\, CO\, 80452\, United States
CATEGORIES:Adults,Library Events
GEO:39.742052;-105.5183552
X-APPLE-STRUCTURED-LOCATION;VALUE=URI;X-ADDRESS=Idaho Springs Public Library 219 14th Avenue Idaho Springs CO 80452 United States;X-APPLE-RADIUS=500;X-TITLE=219 14th Avenue:geo:-105.5183552,39.742052
END:VEVENT
BEGIN:VEVENT
DTSTART;TZID=America/Denver:20250528T173000
DTEND;TZID=America/Denver:20250528T190000
DTSTAMP:20260421T055024
CREATED:20250515T204817Z
LAST-MODIFIED:20250515T205047Z
UID:10006749-1748453400-1748458800@cccld.org
SUMMARY:Floral Arrangement Workshop
DESCRIPTION:Get creative and connect with other crafty patrons at our monthly workshops! No experience is necessary and all workshops are free. May’s craft is a Floral Arrangement Workshop. Registration is required. Meet at Marigold – 1620 Miner St.\, Idaho Springs. Please email courtney@cccld.org to register and for additional information.  \nMany thanks to Marigold for partnering with us for this special workshop!
URL:https://cccld.org/event/floral-arrangement-workshop-3/
LOCATION:CO
CATEGORIES:Adults,Library Events
END:VEVENT
BEGIN:VEVENT
DTSTART;TZID=America/Denver:20250524T100000
DTEND;TZID=America/Denver:20250526T160000
DTSTAMP:20260421T055024
CREATED:20250418T155519Z
LAST-MODIFIED:20250418T155519Z
UID:10006663-1748080800-1748275200@cccld.org
SUMMARY:JTML-Friends of Georgetown Library Book Sale
DESCRIPTION:Don’t miss the Friends of the Georgetown Library Memorial Day Book Sale\, at the John Tomay Memorial Library\, 605 6th Street\, Georgetown\, CO\, from Saturday\, May 24\, to Monday\, May 26\, 10 am—4 pm.
URL:https://cccld.org/event/jtml-friends-of-georgetown-library-book-sale/
LOCATION:John Tomay Memorial Library\, 605 6th Street\, Georgetown\, CO\, 80444\, United States
CATEGORIES:Adults,Community Events,Kids,Library Events,Teens
GEO:39.7061997;-105.6974142
X-APPLE-STRUCTURED-LOCATION;VALUE=URI;X-ADDRESS=John Tomay Memorial Library 605 6th Street Georgetown CO 80444 United States;X-APPLE-RADIUS=500;X-TITLE=605 6th Street:geo:-105.6974142,39.7061997
END:VEVENT
BEGIN:VEVENT
DTSTART;TZID=America/Denver:20250515T150000
DTEND;TZID=America/Denver:20250515T160000
DTSTAMP:20260421T055024
CREATED:20230424T155339Z
LAST-MODIFIED:20250811T205707Z
UID:10006512-1747321200-1747324800@cccld.org
SUMMARY:JTML Book Group
DESCRIPTION:Everyone is welcome. Email libby@cccld.org for more information.
URL:https://cccld.org/event/jtml-book-group-13/2025-05-15/
LOCATION:CO
CATEGORIES:Adults,Library Events
END:VEVENT
BEGIN:VEVENT
DTSTART;TZID=America/Denver:20250512T160000
DTEND;TZID=America/Denver:20250512T170000
DTSTAMP:20260421T055024
CREATED:20240610T171053Z
LAST-MODIFIED:20260116T185121Z
UID:10006594-1747065600-1747069200@cccld.org
SUMMARY:ISPL Book Group
DESCRIPTION:Everyone is welcome. Email libby@cccld.org for more information.
URL:https://cccld.org/event/ispl-book-group-16-2/2025-05-12/
LOCATION:Idaho Springs Public Library\, 219 14th Avenue\, Idaho Springs\, CO\, 80452\, United States
CATEGORIES:Adults,Library Events
GEO:39.742052;-105.5183552
X-APPLE-STRUCTURED-LOCATION;VALUE=URI;X-ADDRESS=Idaho Springs Public Library 219 14th Avenue Idaho Springs CO 80452 United States;X-APPLE-RADIUS=500;X-TITLE=219 14th Avenue:geo:-105.5183552,39.742052
END:VEVENT
BEGIN:VEVENT
DTSTART;TZID=America/Denver:20250430T153000
DTEND;TZID=America/Denver:20250430T173000
DTSTAMP:20260421T055024
CREATED:20250326T161841Z
LAST-MODIFIED:20260320T202402Z
UID:10006642-1746027000-1746034200@cccld.org
SUMMARY:Día de los Niños Party
DESCRIPTION:Celebrate children\, families\, and literacy at our annual Día party! Refreshments\, traditional dance performances\, and a storytime en Español promise a lively time at this after-school fiesta.
URL:https://cccld.org/event/dia-de-los-ninos-4-2/2025-04-30/
LOCATION:Idaho Springs Public Library\, 219 14th Avenue\, Idaho Springs\, CO\, 80452\, United States
CATEGORIES:Adults,Kids,Library Events,Teens
GEO:39.742052;-105.5183552
X-APPLE-STRUCTURED-LOCATION;VALUE=URI;X-ADDRESS=Idaho Springs Public Library 219 14th Avenue Idaho Springs CO 80452 United States;X-APPLE-RADIUS=500;X-TITLE=219 14th Avenue:geo:-105.5183552,39.742052
END:VEVENT
END:VCALENDAR