BEGIN:VCALENDAR
VERSION:2.0
PRODID:-//Clear Creek County Library District - ECPv6.15.16//NONSGML v1.0//EN
CALSCALE:GREGORIAN
METHOD:PUBLISH
X-WR-CALNAME:Clear Creek County Library District
X-ORIGINAL-URL:https://cccld.org
X-WR-CALDESC:Events for Clear Creek County Library District
REFRESH-INTERVAL;VALUE=DURATION:PT1H
X-Robots-Tag:noindex
X-PUBLISHED-TTL:PT1H
BEGIN:VTIMEZONE
TZID:America/Denver
BEGIN:DAYLIGHT
TZOFFSETFROM:-0700
TZOFFSETTO:-0600
TZNAME:MDT
DTSTART:20200308T090000
END:DAYLIGHT
BEGIN:STANDARD
TZOFFSETFROM:-0600
TZOFFSETTO:-0700
TZNAME:MST
DTSTART:20201101T080000
END:STANDARD
BEGIN:DAYLIGHT
TZOFFSETFROM:-0700
TZOFFSETTO:-0600
TZNAME:MDT
DTSTART:20210314T090000
END:DAYLIGHT
BEGIN:STANDARD
TZOFFSETFROM:-0600
TZOFFSETTO:-0700
TZNAME:MST
DTSTART:20211107T080000
END:STANDARD
BEGIN:DAYLIGHT
TZOFFSETFROM:-0700
TZOFFSETTO:-0600
TZNAME:MDT
DTSTART:20220313T090000
END:DAYLIGHT
BEGIN:STANDARD
TZOFFSETFROM:-0600
TZOFFSETTO:-0700
TZNAME:MST
DTSTART:20221106T080000
END:STANDARD
BEGIN:DAYLIGHT
TZOFFSETFROM:-0700
TZOFFSETTO:-0600
TZNAME:MDT
DTSTART:20230312T090000
END:DAYLIGHT
BEGIN:STANDARD
TZOFFSETFROM:-0600
TZOFFSETTO:-0700
TZNAME:MST
DTSTART:20231105T080000
END:STANDARD
END:VTIMEZONE
BEGIN:VEVENT
DTSTART;TZID=America/Denver:20220214T160000
DTEND;TZID=America/Denver:20220214T170000
DTSTAMP:20260423T120851
CREATED:20220201T163826Z
LAST-MODIFIED:20220201T163826Z
UID:10005735-1644854400-1644858000@cccld.org
SUMMARY:Virtual ISPL Book Group
DESCRIPTION:Everyone is welcome. Email libby@cccld.org for more information.
URL:https://cccld.org/event/virtual-ispl-book-group-9/
LOCATION:CO\, 80444\, United States
CATEGORIES:Adults,Library Events
GEO:39.7104468;-105.6969788
END:VEVENT
BEGIN:VEVENT
DTSTART;TZID=America/Denver:20220212T090000
DTEND;TZID=America/Denver:20220212T110000
DTSTAMP:20260423T120851
CREATED:20220128T164804Z
LAST-MODIFIED:20220128T164804Z
UID:10005734-1644656400-1644663600@cccld.org
SUMMARY:Adult Snowshoe Tour
DESCRIPTION:Ages 16 and up. Join us for a guided snowshoe hike with Georgetown Outdoor Adventure. To learn more and register please contact holly@cccld.org
URL:https://cccld.org/event/adult-snowshoe-tour/
LOCATION:CO\, 80444\, United States
CATEGORIES:Adults,Library Events,Teens
GEO:39.7104468;-105.6969788
END:VEVENT
BEGIN:VEVENT
DTSTART;TZID=America/Denver:20220120T150000
DTEND;TZID=America/Denver:20220120T160000
DTSTAMP:20260423T120851
CREATED:20220103T165310Z
LAST-MODIFIED:20220103T165326Z
UID:10005710-1642690800-1642694400@cccld.org
SUMMARY:Virtual JTML Book Group
DESCRIPTION:Everyone is welcome. Email libby@cccld.org for more information.
URL:https://cccld.org/event/virtual-jtml-book-group-9/
LOCATION:CO\, 80444\, United States
CATEGORIES:Adults,Library Events
GEO:39.7104468;-105.6969788
END:VEVENT
BEGIN:VEVENT
DTSTART;TZID=America/Denver:20220117T130000
DTEND;TZID=America/Denver:20220117T130000
DTSTAMP:20260423T120851
CREATED:20220114T174205Z
LAST-MODIFIED:20220114T174205Z
UID:10005724-1642424400-1642424400@cccld.org
SUMMARY:Reservation Test
DESCRIPTION:This is a test reservation event.
URL:https://cccld.org/event/reservation-test/
LOCATION:Idaho Springs Public Library\, 219 14th Avenue\, Idaho Springs\, CO\, 80452\, United States
CATEGORIES:Adults,Library Events
ORGANIZER;CN="Clear Creek County Library District":MAILTO:director@cccld.org
GEO:39.742052;-105.5183552
X-APPLE-STRUCTURED-LOCATION;VALUE=URI;X-ADDRESS=Idaho Springs Public Library 219 14th Avenue Idaho Springs CO 80452 United States;X-APPLE-RADIUS=500;X-TITLE=219 14th Avenue:geo:-105.5183552,39.742052
END:VEVENT
BEGIN:VEVENT
DTSTART;TZID=America/Denver:20220110T160000
DTEND;TZID=America/Denver:20220110T170000
DTSTAMP:20260423T120851
CREATED:20211112T223900Z
LAST-MODIFIED:20221115T184830Z
UID:10005686-1641830400-1641834000@cccld.org
SUMMARY:ISPL Book Group
DESCRIPTION:Everyone is welcome. Email libby@cccld.org for more information.
URL:https://cccld.org/event/ispl-book-group-5/2022-01-10/
LOCATION:Idaho Springs Public Library\, 219 14th Avenue\, Idaho Springs\, CO\, 80452\, United States
CATEGORIES:Adults,Library Events
GEO:39.742052;-105.5183552
X-APPLE-STRUCTURED-LOCATION;VALUE=URI;X-ADDRESS=Idaho Springs Public Library 219 14th Avenue Idaho Springs CO 80452 United States;X-APPLE-RADIUS=500;X-TITLE=219 14th Avenue:geo:-105.5183552,39.742052
END:VEVENT
BEGIN:VEVENT
DTSTART;TZID=America/Denver:20220110T160000
DTEND;TZID=America/Denver:20220110T170000
DTSTAMP:20260423T120851
CREATED:20220103T165650Z
LAST-MODIFIED:20220103T165742Z
UID:10005711-1641830400-1641834000@cccld.org
SUMMARY:Virtual ISPL Book Group
DESCRIPTION:Everyone is welcome. Email libby@cccld.org for more information.
URL:https://cccld.org/event/virtual-ispl-book-group-8/
LOCATION:CO\, 80444\, United States
CATEGORIES:Adults,Library Events
GEO:39.7104468;-105.6969788
END:VEVENT
BEGIN:VEVENT
DTSTART;TZID=America/Denver:20211216T170000
DTEND;TZID=America/Denver:20211216T183000
DTSTAMP:20260423T120851
CREATED:20211112T230559Z
LAST-MODIFIED:20211123T210153Z
UID:10005707-1639674000-1639679400@cccld.org
SUMMARY:Adult Craft
DESCRIPTION:“Creativity is a continual surprise.”–Ray Bradbury. December’s craft is Holiday Wreaths. Email chris@cccld.org to learn more and register.
URL:https://cccld.org/event/creative-connection-jtml-2/
LOCATION:Old School House\, 809 Taos St\, Georgetown\, CO\, United States
CATEGORIES:Adults,Library Events
GEO:39.707368;-105.695645
X-APPLE-STRUCTURED-LOCATION;VALUE=URI;X-ADDRESS=Old School House 809 Taos St Georgetown CO United States;X-APPLE-RADIUS=500;X-TITLE=809 Taos St:geo:-105.695645,39.707368
END:VEVENT
BEGIN:VEVENT
DTSTART;TZID=America/Denver:20211215T170000
DTEND;TZID=America/Denver:20211215T183000
DTSTAMP:20260423T120851
CREATED:20211123T210255Z
LAST-MODIFIED:20211123T210255Z
UID:10005709-1639587600-1639593000@cccld.org
SUMMARY:Adult Craft
DESCRIPTION:“Creativity is a continual surprise.”–Ray Bradbury. December’s craft is Holiday Wreaths. Email chris@cccld.org to learn more and register.
URL:https://cccld.org/event/adult-craft-5/
LOCATION:Old School House\, 809 Taos St\, Georgetown\, CO\, United States
CATEGORIES:Adults,Library Events
GEO:39.707368;-105.695645
X-APPLE-STRUCTURED-LOCATION;VALUE=URI;X-ADDRESS=Old School House 809 Taos St Georgetown CO United States;X-APPLE-RADIUS=500;X-TITLE=809 Taos St:geo:-105.695645,39.707368
END:VEVENT
BEGIN:VEVENT
DTSTART;TZID=America/Denver:20211213T160000
DTEND;TZID=America/Denver:20211213T170000
DTSTAMP:20260423T120851
CREATED:20211112T223900Z
LAST-MODIFIED:20221115T184830Z
UID:10005685-1639411200-1639414800@cccld.org
SUMMARY:ISPL Book Group
DESCRIPTION:Everyone is welcome. Email libby@cccld.org for more information.
URL:https://cccld.org/event/ispl-book-group-5/2021-12-13/
LOCATION:Idaho Springs Public Library\, 219 14th Avenue\, Idaho Springs\, CO\, 80452\, United States
CATEGORIES:Adults,Library Events
GEO:39.742052;-105.5183552
X-APPLE-STRUCTURED-LOCATION;VALUE=URI;X-ADDRESS=Idaho Springs Public Library 219 14th Avenue Idaho Springs CO 80452 United States;X-APPLE-RADIUS=500;X-TITLE=219 14th Avenue:geo:-105.5183552,39.742052
END:VEVENT
BEGIN:VEVENT
DTSTART;TZID=America/Denver:20211212T090000
DTEND;TZID=America/Denver:20211212T140000
DTSTAMP:20260423T120851
CREATED:20211112T223313Z
LAST-MODIFIED:20211123T211206Z
UID:10005684-1639299600-1639317600@cccld.org
SUMMARY:Winter Craft Workshops - Georgetown Christmas Market
DESCRIPTION:Free creative fun for kids during the Georgetown Christmas Market.
URL:https://cccld.org/event/georgetown-christmas-market-2/2021-12-12/
LOCATION:John Tomay Memorial Library\, 605 6th Street\, Georgetown\, CO\, 80444\, United States
CATEGORIES:Adults,Community Events,Kids,Library Events,Teens
GEO:39.7061997;-105.6974142
X-APPLE-STRUCTURED-LOCATION;VALUE=URI;X-ADDRESS=John Tomay Memorial Library 605 6th Street Georgetown CO 80444 United States;X-APPLE-RADIUS=500;X-TITLE=605 6th Street:geo:-105.6974142,39.7061997
END:VEVENT
BEGIN:VEVENT
DTSTART;TZID=America/Denver:20211211T090000
DTEND;TZID=America/Denver:20211211T130000
DTSTAMP:20260423T120851
CREATED:20211112T223200Z
LAST-MODIFIED:20221117T201617Z
UID:10005682-1639213200-1639227600@cccld.org
SUMMARY:Winter Craft Workshops - Georgetown Christmas Market
DESCRIPTION:Free creative fun for kids during the Georgetown Christmas Market.
URL:https://cccld.org/event/georgetown-christmas-market/2021-12-11/
LOCATION:CO\, 80444\, United States
CATEGORIES:Adults,Community Events,Kids,Library Events,Teens
GEO:39.7104468;-105.6969788
END:VEVENT
BEGIN:VEVENT
DTSTART;TZID=America/Denver:20211207T103000
DTEND;TZID=America/Denver:20211207T113000
DTSTAMP:20260423T120851
CREATED:20211006T214330Z
LAST-MODIFIED:20211006T214330Z
UID:10005044-1638873000-1638876600@cccld.org
SUMMARY:Financial Advisor Workshops
DESCRIPTION:Financial Advisor Zach Pitman Workshops.
URL:https://cccld.org/event/financial-advisor-workshops/
LOCATION:CO\, 80444\, United States
CATEGORIES:Adults,Library Events
GEO:39.7104468;-105.6969788
END:VEVENT
BEGIN:VEVENT
DTSTART;TZID=America/Denver:20211205T090000
DTEND;TZID=America/Denver:20211205T140000
DTSTAMP:20260423T120851
CREATED:20211112T223313Z
LAST-MODIFIED:20211123T211206Z
UID:10005683-1638694800-1638712800@cccld.org
SUMMARY:Winter Craft Workshops - Georgetown Christmas Market
DESCRIPTION:Free creative fun for kids during the Georgetown Christmas Market.
URL:https://cccld.org/event/georgetown-christmas-market-2/2021-12-05/
LOCATION:John Tomay Memorial Library\, 605 6th Street\, Georgetown\, CO\, 80444\, United States
CATEGORIES:Adults,Community Events,Kids,Library Events,Teens
GEO:39.7061997;-105.6974142
X-APPLE-STRUCTURED-LOCATION;VALUE=URI;X-ADDRESS=John Tomay Memorial Library 605 6th Street Georgetown CO 80444 United States;X-APPLE-RADIUS=500;X-TITLE=605 6th Street:geo:-105.6974142,39.7061997
END:VEVENT
BEGIN:VEVENT
DTSTART;TZID=America/Denver:20211204T090000
DTEND;TZID=America/Denver:20211204T130000
DTSTAMP:20260423T120851
CREATED:20211112T223200Z
LAST-MODIFIED:20221117T201617Z
UID:10005681-1638608400-1638622800@cccld.org
SUMMARY:Winter Craft Workshops - Georgetown Christmas Market
DESCRIPTION:Free creative fun for kids during the Georgetown Christmas Market.
URL:https://cccld.org/event/georgetown-christmas-market/2021-12-04/
LOCATION:CO\, 80444\, United States
CATEGORIES:Adults,Community Events,Kids,Library Events,Teens
GEO:39.7104468;-105.6969788
END:VEVENT
BEGIN:VEVENT
DTSTART;TZID=America/Denver:20211127T170000
DTEND;TZID=America/Denver:20211127T180000
DTSTAMP:20260423T120851
CREATED:20211119T175727Z
LAST-MODIFIED:20211119T175922Z
UID:10005708-1638032400-1638036000@cccld.org
SUMMARY:Take & Make Cookie Kits
DESCRIPTION:Take & Make Cookie Kits at Georgetown Tree Lighting. Strousse Park Georgetown.
URL:https://cccld.org/event/take-make-cookie-kits/
LOCATION:CO\, 80444\, United States
CATEGORIES:Adults,Kids,Library Events,Teens
GEO:39.7104468;-105.6969788
END:VEVENT
BEGIN:VEVENT
DTSTART;TZID=America/Denver:20211125T080000
DTEND;TZID=America/Denver:20211127T170000
DTSTAMP:20260423T120851
CREATED:20211026T220522Z
LAST-MODIFIED:20211026T220953Z
UID:10005678-1637827200-1638032400@cccld.org
SUMMARY:CCCLD CLOSED
DESCRIPTION:In observance of Thanksgiving\, all Clear Creek County libraries will be closed.
URL:https://cccld.org/event/library-closed-2/
LOCATION:CO\, 80444\, United States
CATEGORIES:Adults,Library Events
GEO:39.7104468;-105.6969788
END:VEVENT
BEGIN:VEVENT
DTSTART;TZID=America/Denver:20211118T170000
DTEND;TZID=America/Denver:20211118T180000
DTSTAMP:20260423T120851
CREATED:20211026T212756Z
LAST-MODIFIED:20211026T222750Z
UID:10005046-1637254800-1637258400@cccld.org
SUMMARY:Creative Connection-JTML
DESCRIPTION:“Creativity is a continual surprise.”–Ray Bradbury. November’s craft is Feather Earrings. Email courtney@cccld.org to learn more and register.
URL:https://cccld.org/event/virtual-creative-connection-10/
LOCATION:CO\, 80444\, United States
CATEGORIES:Adults,Library Events
GEO:39.7104468;-105.6969788
END:VEVENT
BEGIN:VEVENT
DTSTART;TZID=America/Denver:20211118T150000
DTEND;TZID=America/Denver:20211118T160000
DTSTAMP:20260423T120851
CREATED:20211026T214213Z
LAST-MODIFIED:20211026T214227Z
UID:10005050-1637247600-1637251200@cccld.org
SUMMARY:Virtual JTML Book Group
DESCRIPTION:Everyone is welcome. Email libby@cccld.org for more information.
URL:https://cccld.org/event/virtual-jtml-book-group-8/
LOCATION:CO\, 80444\, United States
CATEGORIES:Adults,Library Events
GEO:39.7104468;-105.6969788
END:VEVENT
BEGIN:VEVENT
DTSTART;TZID=America/Denver:20211116T053000
DTEND;TZID=America/Denver:20211116T183000
DTSTAMP:20260423T120851
CREATED:20211112T224438Z
LAST-MODIFIED:20211112T224500Z
UID:10005703-1637040600-1637087400@cccld.org
SUMMARY:Creative Connection - JTML
DESCRIPTION:“Creativity is a continual surprise.”–Ray Bradbury. November’s craft is Holiday Wreaths. Email courtney@cccld.org to learn more and register.
URL:https://cccld.org/event/creative-connection-jtml/
LOCATION:CO\, 80444\, United States
CATEGORIES:Adults,Library Events
GEO:39.7104468;-105.6969788
END:VEVENT
BEGIN:VEVENT
DTSTART;TZID=America/Denver:20211115T170000
DTEND;TZID=America/Denver:20211115T180000
DTSTAMP:20260423T120851
CREATED:20211026T222859Z
LAST-MODIFIED:20211026T223134Z
UID:10005680-1636995600-1636999200@cccld.org
SUMMARY:Creative Connection-ISPL
DESCRIPTION:“Creativity is a continual surprise.”–Ray Bradbury. November’s craft is Feather Earrings. Email courtney@cccld.org to learn more and register.
URL:https://cccld.org/event/creative-connection-ispl/
LOCATION:CO\, 80444\, United States
CATEGORIES:Adults,Library Events
GEO:39.7104468;-105.6969788
END:VEVENT
BEGIN:VEVENT
DTSTART;TZID=America/Denver:20211115T160000
DTEND;TZID=America/Denver:20211115T170000
DTSTAMP:20260423T120851
CREATED:20211026T213044Z
LAST-MODIFIED:20211026T213044Z
UID:10005048-1636992000-1636995600@cccld.org
SUMMARY:Virtual ISPL Book Group
DESCRIPTION:Everyone is welcome. Email libby@cccld.org for more information.
URL:https://cccld.org/event/virtual-ispl-book-group-7/
LOCATION:CO\, 80444\, United States
CATEGORIES:Adults,Library Events
GEO:39.7104468;-105.6969788
END:VEVENT
BEGIN:VEVENT
DTSTART;VALUE=DATE:20211111
DTEND;VALUE=DATE:20211112
DTSTAMP:20260423T120851
CREATED:20211026T220421Z
LAST-MODIFIED:20211026T220858Z
UID:10005677-1636588800-1636675199@cccld.org
SUMMARY:CCCLD CLOSED
DESCRIPTION:In observance of Veterans Day\, all Clear Creek County libraries will be closed.
URL:https://cccld.org/event/library-closed/
LOCATION:CO\, 80444\, United States
CATEGORIES:Adults,Library Events
GEO:39.7104468;-105.6969788
END:VEVENT
BEGIN:VEVENT
DTSTART;TZID=America/Denver:20211027T180000
DTEND;TZID=America/Denver:20211027T190000
DTSTAMP:20260423T120851
CREATED:20210920T164101Z
LAST-MODIFIED:20211006T214541Z
UID:10005660-1635357600-1635361200@cccld.org
SUMMARY:Financial Coach Workshops
DESCRIPTION:Financial Coach Daria Stellwag Workshops.
URL:https://cccld.org/event/financial-coach/2021-10-27/
LOCATION:CO\, 80444\, United States
CATEGORIES:Adults,Library Events
GEO:39.7104468;-105.6969788
END:VEVENT
BEGIN:VEVENT
DTSTART;TZID=America/Denver:20211026T180000
DTEND;TZID=America/Denver:20211026T190000
DTSTAMP:20260423T120851
CREATED:20211006T213951Z
LAST-MODIFIED:20211006T215826Z
UID:10005043-1635271200-1635274800@cccld.org
SUMMARY:Financial Advisor Workshops
DESCRIPTION:Financial Advisor Zach Pitman Workshops.
URL:https://cccld.org/event/financial-advisor/2021-10-26/
LOCATION:CO\, 80444\, United States
CATEGORIES:Adults,Library Events
GEO:39.7104468;-105.6969788
END:VEVENT
BEGIN:VEVENT
DTSTART;TZID=America/Denver:20211021T173000
DTEND;TZID=America/Denver:20211021T183000
DTSTAMP:20260423T120851
CREATED:20210920T164628Z
LAST-MODIFIED:20211026T212553Z
UID:10005661-1634837400-1634841000@cccld.org
SUMMARY:Virtual Creative Connection
DESCRIPTION:“Creativity is a continual surprise.”–Ray Bradbury. October’s virtual craft is Spooky Cocktails. Email courtney@cccld.org to learn more and register.
URL:https://cccld.org/event/virtual-creative-connection-9/
LOCATION:CO\, 80444\, United States
CATEGORIES:Adults,Library Events
GEO:39.7104468;-105.6969788
END:VEVENT
BEGIN:VEVENT
DTSTART;TZID=America/Denver:20211021T150000
DTEND;TZID=America/Denver:20211021T160000
DTSTAMP:20260423T120851
CREATED:20210920T164924Z
LAST-MODIFIED:20210920T164924Z
UID:10005662-1634828400-1634832000@cccld.org
SUMMARY:Virtual JTML Book Group
DESCRIPTION:Everyone is welcome. Email libby@cccld.org for more information.
URL:https://cccld.org/event/virtual-jtml-book-group-7/
LOCATION:CO\, 80444\, United States
CATEGORIES:Adults,Library Events
GEO:39.7104468;-105.6969788
END:VEVENT
BEGIN:VEVENT
DTSTART;TZID=America/Denver:20211020T180000
DTEND;TZID=America/Denver:20211020T190000
DTSTAMP:20260423T120851
CREATED:20210920T164101Z
LAST-MODIFIED:20211006T214541Z
UID:10005659-1634752800-1634756400@cccld.org
SUMMARY:Financial Coach Workshops
DESCRIPTION:Financial Coach Daria Stellwag Workshops.
URL:https://cccld.org/event/financial-coach/2021-10-20/
LOCATION:CO\, 80444\, United States
CATEGORIES:Adults,Library Events
GEO:39.7104468;-105.6969788
END:VEVENT
BEGIN:VEVENT
DTSTART;TZID=America/Denver:20211018T130000
DTEND;TZID=America/Denver:20211018T140000
DTSTAMP:20260423T120851
CREATED:20210920T165047Z
LAST-MODIFIED:20210920T165047Z
UID:10005663-1634562000-1634565600@cccld.org
SUMMARY:Virtual ISPL Book Group
DESCRIPTION:Everyone is welcome. Email libby@cccld.org for more information.
URL:https://cccld.org/event/virtual-ispl-book-group-6/
LOCATION:CO\, 80444\, United States
CATEGORIES:Adults,Library Events
GEO:39.7104468;-105.6969788
END:VEVENT
BEGIN:VEVENT
DTSTART;TZID=America/Denver:20211013T180000
DTEND;TZID=America/Denver:20211013T190000
DTSTAMP:20260423T120851
CREATED:20210920T164101Z
LAST-MODIFIED:20211006T214541Z
UID:10005658-1634148000-1634151600@cccld.org
SUMMARY:Financial Coach Workshops
DESCRIPTION:Financial Coach Daria Stellwag Workshops.
URL:https://cccld.org/event/financial-coach/2021-10-13/
LOCATION:CO\, 80444\, United States
CATEGORIES:Adults,Library Events
GEO:39.7104468;-105.6969788
END:VEVENT
BEGIN:VEVENT
DTSTART;TZID=America/Denver:20211006T180000
DTEND;TZID=America/Denver:20211006T190000
DTSTAMP:20260423T120851
CREATED:20210920T164101Z
LAST-MODIFIED:20211006T214541Z
UID:10005657-1633543200-1633546800@cccld.org
SUMMARY:Financial Coach Workshops
DESCRIPTION:Financial Coach Daria Stellwag Workshops.
URL:https://cccld.org/event/financial-coach/2021-10-06/
LOCATION:CO\, 80444\, United States
CATEGORIES:Adults,Library Events
GEO:39.7104468;-105.6969788
END:VEVENT
END:VCALENDAR