BEGIN:VCALENDAR
VERSION:2.0
PRODID:-//Clear Creek County Library District - ECPv6.15.16//NONSGML v1.0//EN
CALSCALE:GREGORIAN
METHOD:PUBLISH
X-WR-CALNAME:Clear Creek County Library District
X-ORIGINAL-URL:https://cccld.org
X-WR-CALDESC:Events for Clear Creek County Library District
REFRESH-INTERVAL;VALUE=DURATION:PT1H
X-Robots-Tag:noindex
X-PUBLISHED-TTL:PT1H
BEGIN:VTIMEZONE
TZID:America/Denver
BEGIN:DAYLIGHT
TZOFFSETFROM:-0700
TZOFFSETTO:-0600
TZNAME:MDT
DTSTART:20200308T090000
END:DAYLIGHT
BEGIN:STANDARD
TZOFFSETFROM:-0600
TZOFFSETTO:-0700
TZNAME:MST
DTSTART:20201101T080000
END:STANDARD
BEGIN:DAYLIGHT
TZOFFSETFROM:-0700
TZOFFSETTO:-0600
TZNAME:MDT
DTSTART:20210314T090000
END:DAYLIGHT
BEGIN:STANDARD
TZOFFSETFROM:-0600
TZOFFSETTO:-0700
TZNAME:MST
DTSTART:20211107T080000
END:STANDARD
BEGIN:DAYLIGHT
TZOFFSETFROM:-0700
TZOFFSETTO:-0600
TZNAME:MDT
DTSTART:20220313T090000
END:DAYLIGHT
BEGIN:STANDARD
TZOFFSETFROM:-0600
TZOFFSETTO:-0700
TZNAME:MST
DTSTART:20221106T080000
END:STANDARD
END:VTIMEZONE
BEGIN:VEVENT
DTSTART;TZID=America/Denver:20210916T173000
DTEND;TZID=America/Denver:20210916T183000
DTSTAMP:20260423T165718
CREATED:20210820T194140Z
LAST-MODIFIED:20210820T194252Z
UID:10005653-1631813400-1631817000@cccld.org
SUMMARY:Virtual Creative Connection
DESCRIPTION:“Creativity is a continual surprise.”–Ray Bradbury. August’s virtual craft is Woven Wall Hanging. Email courtney@cccld.org to learn more and register.
URL:https://cccld.org/event/virtual-creative-connection-8/
LOCATION:CO\, 80444\, United States
CATEGORIES:Adults,Library Events
GEO:39.7104468;-105.6969788
END:VEVENT
BEGIN:VEVENT
DTSTART;TZID=America/Denver:20210916T150000
DTEND;TZID=America/Denver:20210916T160000
DTSTAMP:20260423T165718
CREATED:20210820T195422Z
LAST-MODIFIED:20210826T212422Z
UID:10005656-1631804400-1631808000@cccld.org
SUMMARY:Virtual JTML Book Group
DESCRIPTION:Everyone is welcome. Email libby@cccld.org for more information.
URL:https://cccld.org/event/jtml-book-group-3/
LOCATION:CO\, 80444\, United States
CATEGORIES:Adults,Library Events
GEO:39.7104468;-105.6969788
END:VEVENT
BEGIN:VEVENT
DTSTART;TZID=America/Denver:20210913T130000
DTEND;TZID=America/Denver:20210913T140000
DTSTAMP:20260423T165718
CREATED:20210820T194920Z
LAST-MODIFIED:20210820T195136Z
UID:10005655-1631538000-1631541600@cccld.org
SUMMARY:ISPL Book Group
DESCRIPTION:Everyone is welcome. Email libby@cccld.org for more information.
URL:https://cccld.org/event/ispl-book-group-4/
LOCATION:CO\, 80444\, United States
CATEGORIES:Adults,Library Events
GEO:39.7104468;-105.6969788
END:VEVENT
BEGIN:VEVENT
DTSTART;TZID=America/Denver:20210819T173000
DTEND;TZID=America/Denver:20210819T183000
DTSTAMP:20260423T165718
CREATED:20210719T170714Z
LAST-MODIFIED:20210719T170920Z
UID:10005643-1629394200-1629397800@cccld.org
SUMMARY:Virtual Creative Connection
DESCRIPTION:“Creativity is a continual surprise.”–Ray Bradbury. August’s virtual craft is Water Color Painting. Email courtney@cccld.org to learn more and register.
URL:https://cccld.org/event/virtual-creative-connection-7/
LOCATION:CO\, 80444\, United States
CATEGORIES:Adults,Library Events
GEO:39.7104468;-105.6969788
END:VEVENT
BEGIN:VEVENT
DTSTART;TZID=America/Denver:20210812T170000
DTEND;TZID=America/Denver:20210812T190000
DTSTAMP:20260423T165718
CREATED:20210730T220605Z
LAST-MODIFIED:20210730T220733Z
UID:10005644-1628787600-1628794800@cccld.org
SUMMARY:Back to School Community Picnic Boxes
DESCRIPTION:Join your friends and neighbors for a FREE picnic box\, sponsored by Friends of the Idaho Springs Public Library.
URL:https://cccld.org/event/back-to-school-community-picnic-boxes/
LOCATION:CO\, 80444\, United States
CATEGORIES:Adults,Community Events,Kids,Library Events,Teens
GEO:39.7104468;-105.6969788
END:VEVENT
BEGIN:VEVENT
DTSTART;TZID=America/Denver:20210809T160000
DTEND;TZID=America/Denver:20210809T170000
DTSTAMP:20260423T165718
CREATED:20210719T164917Z
LAST-MODIFIED:20210719T165005Z
UID:10005641-1628524800-1628528400@cccld.org
SUMMARY:ISPL Book Group
DESCRIPTION:Book Group will be held at the Frothy Cup–1510 Miner Street\, Idaho Springs. Everyone is welcome. Email libby@cccld.org for more information to attend in person\, or the Zoom link.
URL:https://cccld.org/event/ispl-book-group-3/
LOCATION:CO\, 80444\, United States
CATEGORIES:Adults,Library Events,Teens
GEO:39.7104468;-105.6969788
END:VEVENT
BEGIN:VEVENT
DTSTART;TZID=America/Denver:20210716T100000
DTEND;TZID=America/Denver:20210716T113000
DTSTAMP:20260423T165718
CREATED:20210623T201514Z
LAST-MODIFIED:20210623T201530Z
UID:10005628-1626429600-1626435000@cccld.org
SUMMARY:Virtual JTML Book Group
DESCRIPTION:Everyone is welcome. Email libby@cccld.org for more information and the Zoom link.
URL:https://cccld.org/event/virtual-jtml-book-group-6/
LOCATION:CO\, 80444\, United States
CATEGORIES:Adults,Library Events
GEO:39.7104468;-105.6969788
END:VEVENT
BEGIN:VEVENT
DTSTART;TZID=America/Denver:20210715T173000
DTEND;TZID=America/Denver:20210715T183000
DTSTAMP:20260423T165718
CREATED:20210618T215657Z
LAST-MODIFIED:20210618T215717Z
UID:10005626-1626370200-1626373800@cccld.org
SUMMARY:Virtual Creative Connection
DESCRIPTION:“Creativity is a continual surprise.”–Ray Bradbury. July’s virtual craft is Clay Jewelry Bowls. Email courtney@cccld.org to learn more and register.
URL:https://cccld.org/event/virtual-creative-connection-6/
LOCATION:CO\, 80444\, United States
CATEGORIES:Adults,Library Events
GEO:39.7104468;-105.6969788
END:VEVENT
BEGIN:VEVENT
DTSTART;TZID=America/Denver:20210712T160000
DTEND;TZID=America/Denver:20210712T170000
DTSTAMP:20260423T165718
CREATED:20210618T215914Z
LAST-MODIFIED:20210618T215914Z
UID:10005627-1626105600-1626109200@cccld.org
SUMMARY:Virtual ISPL Book Group
DESCRIPTION:Everyone is welcome. Email libby@cccld.org for more information and the Zoom link.
URL:https://cccld.org/event/virtual-ispl-book-group-5/
LOCATION:CO\, 80444\, United States
CATEGORIES:Adults,Library Events
GEO:39.7104468;-105.6969788
END:VEVENT
BEGIN:VEVENT
DTSTART;TZID=America/Denver:20210708T103000
DTEND;TZID=America/Denver:20210708T163000
DTSTAMP:20260423T165718
CREATED:20210603T230103Z
LAST-MODIFIED:20210604T173956Z
UID:10005619-1625740200-1625761800@cccld.org
SUMMARY:Virtual Summer Reading
DESCRIPTION:See full schedule here: http://cccldsummerreading.org/calendar
URL:https://cccld.org/event/virtual-summer-reading/2021-07-08/
LOCATION:CO\, 80444\, United States
CATEGORIES:Adults,Kids,Library Events,Teens
GEO:39.7104468;-105.6969788
END:VEVENT
BEGIN:VEVENT
DTSTART;TZID=America/Denver:20210704T103000
DTEND;TZID=America/Denver:20210704T113000
DTSTAMP:20260423T165718
CREATED:20210629T204036Z
LAST-MODIFIED:20210629T204036Z
UID:10005629-1625394600-1625398200@cccld.org
SUMMARY:Georgetown 4th of July Parade
DESCRIPTION:March with the library at the Georgetown Fourth of July Parade.
URL:https://cccld.org/event/georgetown-4th-of-july-parade/
LOCATION:CO\, 80444\, United States
CATEGORIES:Adults,Kids,Library Events,Teens
GEO:39.7104468;-105.6969788
END:VEVENT
BEGIN:VEVENT
DTSTART;TZID=America/Denver:20210701T103000
DTEND;TZID=America/Denver:20210701T163000
DTSTAMP:20260423T165718
CREATED:20210603T230103Z
LAST-MODIFIED:20210604T173956Z
UID:10005618-1625135400-1625157000@cccld.org
SUMMARY:Virtual Summer Reading
DESCRIPTION:See full schedule here: http://cccldsummerreading.org/calendar
URL:https://cccld.org/event/virtual-summer-reading/2021-07-01/
LOCATION:CO\, 80444\, United States
CATEGORIES:Adults,Kids,Library Events,Teens
GEO:39.7104468;-105.6969788
END:VEVENT
BEGIN:VEVENT
DTSTART;TZID=America/Denver:20210630T103000
DTEND;TZID=America/Denver:20210630T163000
DTSTAMP:20260423T165718
CREATED:20210603T230103Z
LAST-MODIFIED:20210604T173956Z
UID:10005617-1625049000-1625070600@cccld.org
SUMMARY:Virtual Summer Reading
DESCRIPTION:See full schedule here: http://cccldsummerreading.org/calendar
URL:https://cccld.org/event/virtual-summer-reading/2021-06-30/
LOCATION:CO\, 80444\, United States
CATEGORIES:Adults,Kids,Library Events,Teens
GEO:39.7104468;-105.6969788
END:VEVENT
BEGIN:VEVENT
DTSTART;TZID=America/Denver:20210624T103000
DTEND;TZID=America/Denver:20210624T163000
DTSTAMP:20260423T165718
CREATED:20210603T230103Z
LAST-MODIFIED:20210604T173956Z
UID:10005616-1624530600-1624552200@cccld.org
SUMMARY:Virtual Summer Reading
DESCRIPTION:See full schedule here: http://cccldsummerreading.org/calendar
URL:https://cccld.org/event/virtual-summer-reading/2021-06-24/
LOCATION:CO\, 80444\, United States
CATEGORIES:Adults,Kids,Library Events,Teens
GEO:39.7104468;-105.6969788
END:VEVENT
BEGIN:VEVENT
DTSTART;TZID=America/Denver:20210623T103000
DTEND;TZID=America/Denver:20210623T163000
DTSTAMP:20260423T165718
CREATED:20210603T230103Z
LAST-MODIFIED:20210604T173956Z
UID:10005615-1624444200-1624465800@cccld.org
SUMMARY:Virtual Summer Reading
DESCRIPTION:See full schedule here: http://cccldsummerreading.org/calendar
URL:https://cccld.org/event/virtual-summer-reading/2021-06-23/
LOCATION:CO\, 80444\, United States
CATEGORIES:Adults,Kids,Library Events,Teens
GEO:39.7104468;-105.6969788
END:VEVENT
BEGIN:VEVENT
DTSTART;TZID=America/Denver:20210622T180000
DTEND;TZID=America/Denver:20210622T200000
DTSTAMP:20260423T165718
CREATED:20210618T215328Z
LAST-MODIFIED:20210618T215349Z
UID:10005625-1624384800-1624392000@cccld.org
SUMMARY:Wildlife Photo Walk
DESCRIPTION:Join us for an evening walk with local photographer Douglas Glidden. Email holly@cccld.org to register.
URL:https://cccld.org/event/wildlife-photo-walk/
LOCATION:CO\, 80444\, United States
CATEGORIES:Adults,Library Events
GEO:39.7104468;-105.6969788
END:VEVENT
BEGIN:VEVENT
DTSTART;TZID=America/Denver:20210617T173000
DTEND;TZID=America/Denver:20210617T183000
DTSTAMP:20260423T165718
CREATED:20210603T223549Z
LAST-MODIFIED:20210603T223718Z
UID:10005021-1623951000-1623954600@cccld.org
SUMMARY:Virtual Creative Connection
DESCRIPTION:“Creativity is a continual surprise.”–Ray Bradbury. May’s virtual craft is Beeswax Wraps. Email courtney@cccld.org to learn more and register.
URL:https://cccld.org/event/virtual-creative/
LOCATION:CO\, 80444\, United States
CATEGORIES:Adults,Library Events
GEO:39.7104468;-105.6969788
END:VEVENT
BEGIN:VEVENT
DTSTART;TZID=America/Denver:20210617T150000
DTEND;TZID=America/Denver:20210617T160000
DTSTAMP:20260423T165718
CREATED:20210603T223956Z
LAST-MODIFIED:20210603T224111Z
UID:10005611-1623942000-1623945600@cccld.org
SUMMARY:Virtual JTML Book Group
DESCRIPTION:Everyone is welcome. Email libby@cccld.org for more information and the Zoom link.
URL:https://cccld.org/event/virtual-jtml-book-group-5/
LOCATION:CO\, 80444\, United States
CATEGORIES:Adults,Library Events
GEO:39.7104468;-105.6969788
END:VEVENT
BEGIN:VEVENT
DTSTART;TZID=America/Denver:20210617T103000
DTEND;TZID=America/Denver:20210617T163000
DTSTAMP:20260423T165718
CREATED:20210603T230103Z
LAST-MODIFIED:20210604T173956Z
UID:10005614-1623925800-1623947400@cccld.org
SUMMARY:Virtual Summer Reading
DESCRIPTION:See full schedule here: http://cccldsummerreading.org/calendar
URL:https://cccld.org/event/virtual-summer-reading/2021-06-17/
LOCATION:CO\, 80444\, United States
CATEGORIES:Adults,Kids,Library Events,Teens
GEO:39.7104468;-105.6969788
END:VEVENT
BEGIN:VEVENT
DTSTART;TZID=America/Denver:20210614T160000
DTEND;TZID=America/Denver:20210614T170000
DTSTAMP:20260423T165718
CREATED:20210603T223858Z
LAST-MODIFIED:20210603T223858Z
UID:10005023-1623686400-1623690000@cccld.org
SUMMARY:Virtual ISPL Book Group
DESCRIPTION:Everyone is welcome. Email libby@cccld.org for more information and the Zoom link.
URL:https://cccld.org/event/virtual-ispl-book-group-4/
LOCATION:CO\, 80444\, United States
CATEGORIES:Adults,Library Events
GEO:39.7104468;-105.6969788
END:VEVENT
BEGIN:VEVENT
DTSTART;TZID=America/Denver:20210610T103000
DTEND;TZID=America/Denver:20210610T163000
DTSTAMP:20260423T165718
CREATED:20210603T230103Z
LAST-MODIFIED:20210604T173956Z
UID:10005613-1623321000-1623342600@cccld.org
SUMMARY:Virtual Summer Reading
DESCRIPTION:See full schedule here: http://cccldsummerreading.org/calendar
URL:https://cccld.org/event/virtual-summer-reading/2021-06-10/
LOCATION:CO\, 80444\, United States
CATEGORIES:Adults,Kids,Library Events,Teens
GEO:39.7104468;-105.6969788
END:VEVENT
BEGIN:VEVENT
DTSTART;TZID=America/Denver:20210609T103000
DTEND;TZID=America/Denver:20210609T163000
DTSTAMP:20260423T165718
CREATED:20210603T230103Z
LAST-MODIFIED:20210604T173956Z
UID:10005612-1623234600-1623256200@cccld.org
SUMMARY:Virtual Summer Reading
DESCRIPTION:See full schedule here: http://cccldsummerreading.org/calendar
URL:https://cccld.org/event/virtual-summer-reading/2021-06-09/
LOCATION:CO\, 80444\, United States
CATEGORIES:Adults,Kids,Library Events,Teens
GEO:39.7104468;-105.6969788
END:VEVENT
BEGIN:VEVENT
DTSTART;TZID=America/Denver:20210526T173000
DTEND;TZID=America/Denver:20210526T183000
DTSTAMP:20260423T165718
CREATED:20210420T205652Z
LAST-MODIFIED:20210420T210632Z
UID:10005017-1622050200-1622053800@cccld.org
SUMMARY:Virtual YA Book Group
DESCRIPTION:Everyone is welcome to join. This month’s book is Children of Blood and Bone–Tomi Adeyemi. Contact caitlin@cccld.org for more details and to reserve your book.
URL:https://cccld.org/event/virtual-ya-book-group-5/
LOCATION:CO\, 80444\, United States
CATEGORIES:Adults,Library Events,Teens
GEO:39.7104468;-105.6969788
END:VEVENT
BEGIN:VEVENT
DTSTART;TZID=America/Denver:20210520T173000
DTEND;TZID=America/Denver:20210520T183000
DTSTAMP:20260423T165718
CREATED:20210420T203822Z
LAST-MODIFIED:20210420T203822Z
UID:10005009-1621531800-1621535400@cccld.org
SUMMARY:Virtual Creative Connection
DESCRIPTION:“Creativity is a continual surprise.”–Ray Bradbury. May’s virtual craft is Lemon Sugar Scrub. Email courtney@cccld.org to learn more and register.
URL:https://cccld.org/event/virtual-creative-connection-5/
LOCATION:CO\, 80444\, United States
CATEGORIES:Adults,Library Events
GEO:39.7104468;-105.6969788
END:VEVENT
BEGIN:VEVENT
DTSTART;TZID=America/Denver:20210520T150000
DTEND;TZID=America/Denver:20210520T160000
DTSTAMP:20260423T165718
CREATED:20210420T204756Z
LAST-MODIFIED:20210420T204949Z
UID:10005013-1621522800-1621526400@cccld.org
SUMMARY:Virtual JTML Book Group
DESCRIPTION:Everyone is welcome. Email libby@cccld.org for more information and the Zoom link.
URL:https://cccld.org/event/virtual-jtml-book-group-4/
LOCATION:CO\, 80444\, United States
CATEGORIES:Adults,Library Events
GEO:39.7104468;-105.6969788
END:VEVENT
BEGIN:VEVENT
DTSTART;TZID=America/Denver:20210514T190000
DTEND;TZID=America/Denver:20210514T210000
DTSTAMP:20260423T165718
CREATED:20210510T153434Z
LAST-MODIFIED:20210510T153603Z
UID:10005019-1621018800-1621026000@cccld.org
SUMMARY:Poet Tanaya Winder - Annual Meeting Friends of Georgetown Library
DESCRIPTION:Please join us for the Friends of the Georgetown Library Annual Meeting on Friday\, May 14th\, 2021 at 7 pm. Partnering with the Georgetown Virtual Arts Program\, we are pleased to present a virtual performance by Tanaya Winder\, a Native American Poet. \nEmail libby@cccld.org for the Zoom link. \nGet tickets – Eventbrite Link
URL:https://cccld.org/event/poet-tanaya-winder-annual-meeting-friends-of-georgetown-library/
LOCATION:CO\, 80444\, United States
CATEGORIES:Adults,Community Events,Kids,Library Events,Teens
GEO:39.7104468;-105.6969788
END:VEVENT
BEGIN:VEVENT
DTSTART;TZID=America/Denver:20210510T160000
DTEND;TZID=America/Denver:20210510T170000
DTSTAMP:20260423T165718
CREATED:20210420T203312Z
LAST-MODIFIED:20230322T224840Z
UID:10005007-1620662400-1620666000@cccld.org
SUMMARY:Virtual ISPL Book Group
DESCRIPTION:Everyone is welcome. Email libby@cccld.org for more information and the Zoom link.
URL:https://cccld.org/event/virtual-ispl-book-group-3/
LOCATION:CO\, 80444\, United States
CATEGORIES:Adults,Library Events
GEO:39.7104468;-105.6969788
END:VEVENT
BEGIN:VEVENT
DTSTART;TZID=America/Denver:20210428T173000
DTEND;TZID=America/Denver:20210428T183000
DTSTAMP:20260423T165718
CREATED:20210329T204838Z
LAST-MODIFIED:20210329T205030Z
UID:10005608-1619631000-1619634600@cccld.org
SUMMARY:Virtual YA Book Group
DESCRIPTION:Everyone is welcome to join. This month’s book is Code Name Verity–Elizabeth E. Wein. Contact caitlin@cccld.org for more details and to reserve your book.
URL:https://cccld.org/event/virtual-ya-book-group-4/
LOCATION:CO\, 80444\, United States
CATEGORIES:Adults,Library Events,Teens
GEO:39.7104468;-105.6969788
END:VEVENT
BEGIN:VEVENT
DTSTART;TZID=America/Denver:20210415T173000
DTEND;TZID=America/Denver:20210415T183000
DTSTAMP:20260423T165718
CREATED:20210329T201516Z
LAST-MODIFIED:20210329T201638Z
UID:10005605-1618507800-1618511400@cccld.org
SUMMARY:Virtual Creative Connection
DESCRIPTION:“Creativity is a continual surprise.”–Ray Bradbury. April’s virtual craft is Faux Flower Crowns. Email courtney@cccld.org to learn more and register.
URL:https://cccld.org/event/virtual-creative-connection-4/
LOCATION:CO\, 80444\, United States
CATEGORIES:Adults,Library Events
GEO:39.7104468;-105.6969788
END:VEVENT
BEGIN:VEVENT
DTSTART;TZID=America/Denver:20210415T150000
DTEND;TZID=America/Denver:20210415T160000
DTSTAMP:20260423T165718
CREATED:20210329T210309Z
LAST-MODIFIED:20210329T210309Z
UID:10005005-1618498800-1618502400@cccld.org
SUMMARY:Virtual JTML Book Group
DESCRIPTION:Everyone is welcome. Email libby@cccld.org for more information and the Zoom link.
URL:https://cccld.org/event/virtual-jtml-book-group-3/
LOCATION:CO\, 80444\, United States
CATEGORIES:Adults,Library Events
GEO:39.7104468;-105.6969788
END:VEVENT
END:VCALENDAR