BEGIN:VCALENDAR
VERSION:2.0
PRODID:-//Clear Creek County Library District - ECPv6.15.16//NONSGML v1.0//EN
CALSCALE:GREGORIAN
METHOD:PUBLISH
X-WR-CALNAME:Clear Creek County Library District
X-ORIGINAL-URL:https://cccld.org
X-WR-CALDESC:Events for Clear Creek County Library District
REFRESH-INTERVAL;VALUE=DURATION:PT1H
X-Robots-Tag:noindex
X-PUBLISHED-TTL:PT1H
BEGIN:VTIMEZONE
TZID:America/Denver
BEGIN:DAYLIGHT
TZOFFSETFROM:-0700
TZOFFSETTO:-0600
TZNAME:MDT
DTSTART:20190310T090000
END:DAYLIGHT
BEGIN:STANDARD
TZOFFSETFROM:-0600
TZOFFSETTO:-0700
TZNAME:MST
DTSTART:20191103T080000
END:STANDARD
BEGIN:DAYLIGHT
TZOFFSETFROM:-0700
TZOFFSETTO:-0600
TZNAME:MDT
DTSTART:20200308T090000
END:DAYLIGHT
BEGIN:STANDARD
TZOFFSETFROM:-0600
TZOFFSETTO:-0700
TZNAME:MST
DTSTART:20201101T080000
END:STANDARD
BEGIN:DAYLIGHT
TZOFFSETFROM:-0700
TZOFFSETTO:-0600
TZNAME:MDT
DTSTART:20210314T090000
END:DAYLIGHT
BEGIN:STANDARD
TZOFFSETFROM:-0600
TZOFFSETTO:-0700
TZNAME:MST
DTSTART:20211107T080000
END:STANDARD
BEGIN:DAYLIGHT
TZOFFSETFROM:-0700
TZOFFSETTO:-0600
TZNAME:MDT
DTSTART:20220313T090000
END:DAYLIGHT
BEGIN:STANDARD
TZOFFSETFROM:-0600
TZOFFSETTO:-0700
TZNAME:MST
DTSTART:20221106T080000
END:STANDARD
END:VTIMEZONE
BEGIN:VEVENT
DTSTART;TZID=America/Denver:20210412T160000
DTEND;TZID=America/Denver:20210412T170000
DTSTAMP:20260424T001434
CREATED:20210329T210200Z
LAST-MODIFIED:20210329T210211Z
UID:10005610-1618243200-1618246800@cccld.org
SUMMARY:Virtual ISPL Boook Group
DESCRIPTION:Everyone is welcome. Email libby@cccld.org for more information and the Zoom link.
URL:https://cccld.org/event/virtual-ispl-boook-group/
LOCATION:CO\, 80444\, United States
CATEGORIES:Adults,Library Events
GEO:39.7104468;-105.6969788
END:VEVENT
BEGIN:VEVENT
DTSTART;TZID=America/Denver:20210331T160000
DTEND;TZID=America/Denver:20210331T170000
DTSTAMP:20260424T001434
CREATED:20210223T214906Z
LAST-MODIFIED:20210223T214906Z
UID:10005603-1617206400-1617210000@cccld.org
SUMMARY:Virtual Juvenile Book Group
DESCRIPTION:Everyone is welcome to join us for the first annual Clear Creek Community Read! Connect with readers across the county to read and explore Jacqueline Woodson’s celebrated memoir\, Brown Girl Dreaming.
URL:https://cccld.org/event/virtual-juvenile-book-group/
LOCATION:CO\, 80444\, United States
CATEGORIES:Adults,Community Events,Kids,Library Events,Teens
GEO:39.7104468;-105.6969788
END:VEVENT
BEGIN:VEVENT
DTSTART;TZID=America/Denver:20210324T173000
DTEND;TZID=America/Denver:20210324T183000
DTSTAMP:20260424T001434
CREATED:20210223T214131Z
LAST-MODIFIED:20210223T214131Z
UID:10005602-1616607000-1616610600@cccld.org
SUMMARY:Virtual YA Book Group
DESCRIPTION:Everyone is welcome to join this virtual book group where we will discuss a young adult fiction book. This month’s book is All American Boys.
URL:https://cccld.org/event/virtual-ya-book-group-3/
LOCATION:CO\, 80444\, United States
CATEGORIES:Adults,Kids,Library Events,Teens
GEO:39.7104468;-105.6969788
END:VEVENT
BEGIN:VEVENT
DTSTART;TZID=America/Denver:20210318T173000
DTEND;TZID=America/Denver:20210318T183000
DTSTAMP:20260424T001434
CREATED:20210223T185919Z
LAST-MODIFIED:20210223T185919Z
UID:10005599-1616088600-1616092200@cccld.org
SUMMARY:Virtual Creative Connection
DESCRIPTION:“Creativity is a continual surprise.”–Ray Bradbury. March’s digital craft is a Macrame Plant Hanger. Email courtney@cccld.org to learn more and register.
URL:https://cccld.org/event/virtual-creative-connection-3/
LOCATION:CO\, 80444\, United States
CATEGORIES:Adults,Library Events
GEO:39.7104468;-105.6969788
END:VEVENT
BEGIN:VEVENT
DTSTART;TZID=America/Denver:20210318T150000
DTEND;TZID=America/Denver:20210318T170000
DTSTAMP:20260424T001434
CREATED:20210223T213417Z
LAST-MODIFIED:20210223T213417Z
UID:10005601-1616079600-1616086800@cccld.org
SUMMARY:Virtual JTML Book Group
DESCRIPTION:Everyone is welcome. This month we are reading\, Columbine–Dave Cullen.
URL:https://cccld.org/event/virtual-jtml-book-group-2/
LOCATION:CO\, 80444\, United States
CATEGORIES:Adults,Library Events
GEO:39.7104468;-105.6969788
END:VEVENT
BEGIN:VEVENT
DTSTART;TZID=America/Denver:20210308T160000
DTEND;TZID=America/Denver:20210308T170000
DTSTAMP:20260424T001434
CREATED:20210223T213049Z
LAST-MODIFIED:20210223T213136Z
UID:10005600-1615219200-1615222800@cccld.org
SUMMARY:Virtual ISPL Book Group
DESCRIPTION:Everyone is welcome. This month we are reading\, Poetry Books–Patron Selections
URL:https://cccld.org/event/virtual-ispl-book-group-2/
LOCATION:CO\, 80444\, United States
CATEGORIES:Adults,Library Events
GEO:39.7104468;-105.6969788
END:VEVENT
BEGIN:VEVENT
DTSTART;TZID=America/Denver:20210224T173000
DTEND;TZID=America/Denver:20210224T183000
DTSTAMP:20260424T001434
CREATED:20210122T231404Z
LAST-MODIFIED:20210201T165609Z
UID:10005594-1614187800-1614191400@cccld.org
SUMMARY:Virtual YA Book Group
DESCRIPTION:Everyone is welcome to join this virtual book group where we will discuss a young adult fiction book. This month’s book is The Hazel Wood–Melissa Albert. Contact caitlin@cccld.org for more details and to reserve your book.
URL:https://cccld.org/event/virtual-ya-book-group-2/
LOCATION:CO\, 80444\, United States
CATEGORIES:Adults,Library Events,Teens
GEO:39.7104468;-105.6969788
END:VEVENT
BEGIN:VEVENT
DTSTART;TZID=America/Denver:20210218T173000
DTEND;TZID=America/Denver:20210218T183000
DTSTAMP:20260424T001434
CREATED:20201102T183834Z
LAST-MODIFIED:20210201T163224Z
UID:10005590-1613669400-1613673000@cccld.org
SUMMARY:Virtual Creative Connection
DESCRIPTION:“Creativity is a continual surprise.”–Ray Bradbury. February’s digital craft is a Book Trinket Box. Email courtney@cccld.org by Feb. 11 to learn more and register.
URL:https://cccld.org/event/virtual-creative-connection-2/
LOCATION:CO\, 80444\, United States
CATEGORIES:Adults,Library Events
GEO:39.7104468;-105.6969788
END:VEVENT
BEGIN:VEVENT
DTSTART;TZID=America/Denver:20210218T150000
DTEND;TZID=America/Denver:20210218T163000
DTSTAMP:20260424T001434
CREATED:20201008T174728Z
LAST-MODIFIED:20210122T224946Z
UID:10004992-1613660400-1613665800@cccld.org
SUMMARY:Virtual JTML Book Group
DESCRIPTION:Everyone is welcome. This month we are reading\, Blowout:Rachel Maddow.
URL:https://cccld.org/event/virtual-jtml-book-group/
LOCATION:CO\, 80444\, United States
CATEGORIES:Adults,Library Events
GEO:39.7104468;-105.6969788
END:VEVENT
BEGIN:VEVENT
DTSTART;TZID=America/Denver:20210208T160000
DTEND;TZID=America/Denver:20210208T170000
DTSTAMP:20260424T001434
CREATED:20201008T175322Z
LAST-MODIFIED:20210127T182742Z
UID:10004993-1612800000-1612803600@cccld.org
SUMMARY:Virtual ISPL Book Group
DESCRIPTION:Everyone is welcome. This month we are reading\, The Vanishing: Brit Bennett.
URL:https://cccld.org/event/virtual-ispl-book-group/
LOCATION:CO\, 80444\, United States
CATEGORIES:Adults,Library Events
GEO:39.7104468;-105.6969788
END:VEVENT
BEGIN:VEVENT
DTSTART;TZID=America/Denver:20210127T173000
DTEND;TZID=America/Denver:20210127T183000
DTSTAMP:20260424T001434
CREATED:20201008T163919Z
LAST-MODIFIED:20201228T191623Z
UID:10004989-1611768600-1611772200@cccld.org
SUMMARY:Virtual YA Book Group
DESCRIPTION:
URL:https://cccld.org/event/virtual-ya-book-group/
LOCATION:CO\, 80444\, United States
CATEGORIES:Adults,Library Events,Teens
GEO:39.7104468;-105.6969788
END:VEVENT
BEGIN:VEVENT
DTSTART;TZID=America/Denver:20201216T130000
DTEND;TZID=America/Denver:20201216T140000
DTSTAMP:20260424T001434
CREATED:20200406T174603Z
LAST-MODIFIED:20201102T184507Z
UID:10004940-1608123600-1608127200@cccld.org
SUMMARY:Virtual Tech Time
DESCRIPTION:Join Heather for virtual tech basics! Learn basic tech skills over Zoom. If you have a specific tech issue you need assistance with\, you can book a librarian for a one-on-one appointment. Email heather@cccld.org for Zoom information.
URL:https://cccld.org/event/virtual-tech-time/2020-12-16/
LOCATION:CO\, 80444\, United States
CATEGORIES:Adults,Library Events
GEO:39.7104468;-105.6969788
END:VEVENT
BEGIN:VEVENT
DTSTART;TZID=America/Denver:20201209T130000
DTEND;TZID=America/Denver:20201209T140000
DTSTAMP:20260424T001434
CREATED:20200406T174603Z
LAST-MODIFIED:20201102T184507Z
UID:10004939-1607518800-1607522400@cccld.org
SUMMARY:Virtual Tech Time
DESCRIPTION:Join Heather for virtual tech basics! Learn basic tech skills over Zoom. If you have a specific tech issue you need assistance with\, you can book a librarian for a one-on-one appointment. Email heather@cccld.org for Zoom information.
URL:https://cccld.org/event/virtual-tech-time/2020-12-09/
LOCATION:CO\, 80444\, United States
CATEGORIES:Adults,Library Events
GEO:39.7104468;-105.6969788
END:VEVENT
BEGIN:VEVENT
DTSTART;TZID=America/Denver:20201202T130000
DTEND;TZID=America/Denver:20201202T140000
DTSTAMP:20260424T001434
CREATED:20200406T174603Z
LAST-MODIFIED:20201102T184507Z
UID:10004938-1606914000-1606917600@cccld.org
SUMMARY:Virtual Tech Time
DESCRIPTION:Join Heather for virtual tech basics! Learn basic tech skills over Zoom. If you have a specific tech issue you need assistance with\, you can book a librarian for a one-on-one appointment. Email heather@cccld.org for Zoom information.
URL:https://cccld.org/event/virtual-tech-time/2020-12-02/
LOCATION:CO\, 80444\, United States
CATEGORIES:Adults,Library Events
GEO:39.7104468;-105.6969788
END:VEVENT
BEGIN:VEVENT
DTSTART;TZID=America/Denver:20201125T130000
DTEND;TZID=America/Denver:20201125T140000
DTSTAMP:20260424T001434
CREATED:20200406T174603Z
LAST-MODIFIED:20201102T184507Z
UID:10004937-1606309200-1606312800@cccld.org
SUMMARY:Virtual Tech Time
DESCRIPTION:Join Heather for virtual tech basics! Learn basic tech skills over Zoom. If you have a specific tech issue you need assistance with\, you can book a librarian for a one-on-one appointment. Email heather@cccld.org for Zoom information.
URL:https://cccld.org/event/virtual-tech-time/2020-11-25/
LOCATION:CO\, 80444\, United States
CATEGORIES:Adults,Library Events
GEO:39.7104468;-105.6969788
END:VEVENT
BEGIN:VEVENT
DTSTART;TZID=America/Denver:20201118T130000
DTEND;TZID=America/Denver:20201118T140000
DTSTAMP:20260424T001434
CREATED:20200406T174603Z
LAST-MODIFIED:20201102T184507Z
UID:10004936-1605704400-1605708000@cccld.org
SUMMARY:Virtual Tech Time
DESCRIPTION:Join Heather for virtual tech basics! Learn basic tech skills over Zoom. If you have a specific tech issue you need assistance with\, you can book a librarian for a one-on-one appointment. Email heather@cccld.org for Zoom information.
URL:https://cccld.org/event/virtual-tech-time/2020-11-18/
LOCATION:CO\, 80444\, United States
CATEGORIES:Adults,Library Events
GEO:39.7104468;-105.6969788
END:VEVENT
BEGIN:VEVENT
DTSTART;TZID=America/Denver:20201111T130000
DTEND;TZID=America/Denver:20201111T140000
DTSTAMP:20260424T001434
CREATED:20200406T174603Z
LAST-MODIFIED:20201102T184507Z
UID:10004935-1605099600-1605103200@cccld.org
SUMMARY:Virtual Tech Time
DESCRIPTION:Join Heather for virtual tech basics! Learn basic tech skills over Zoom. If you have a specific tech issue you need assistance with\, you can book a librarian for a one-on-one appointment. Email heather@cccld.org for Zoom information.
URL:https://cccld.org/event/virtual-tech-time/2020-11-11/
LOCATION:CO\, 80444\, United States
CATEGORIES:Adults,Library Events
GEO:39.7104468;-105.6969788
END:VEVENT
BEGIN:VEVENT
DTSTART;TZID=America/Denver:20201104T130000
DTEND;TZID=America/Denver:20201104T140000
DTSTAMP:20260424T001434
CREATED:20200406T174603Z
LAST-MODIFIED:20201102T184507Z
UID:10004934-1604494800-1604498400@cccld.org
SUMMARY:Virtual Tech Time
DESCRIPTION:Join Heather for virtual tech basics! Learn basic tech skills over Zoom. If you have a specific tech issue you need assistance with\, you can book a librarian for a one-on-one appointment. Email heather@cccld.org for Zoom information.
URL:https://cccld.org/event/virtual-tech-time/2020-11-04/
LOCATION:CO\, 80444\, United States
CATEGORIES:Adults,Library Events
GEO:39.7104468;-105.6969788
END:VEVENT
BEGIN:VEVENT
DTSTART;VALUE=DATE:20201031
DTEND;VALUE=DATE:20201102
DTSTAMP:20260424T001434
CREATED:20201008T165405Z
LAST-MODIFIED:20201008T165405Z
UID:10004991-1604102400-1604275199@cccld.org
SUMMARY:Virtual Costume Contest
DESCRIPTION:Enter the costume contest by sending photos to holly@cccld.org by Nov. 1
URL:https://cccld.org/event/virtual-costume-contest/
LOCATION:CO\, 80444\, United States
CATEGORIES:Adults,Kids,Library Events,Teens
GEO:39.7104468;-105.6969788
END:VEVENT
BEGIN:VEVENT
DTSTART;TZID=America/Denver:20201030T160000
DTEND;TZID=America/Denver:20201030T200000
DTSTAMP:20260424T001434
CREATED:20201008T164747Z
LAST-MODIFIED:20201008T164747Z
UID:10004990-1604073600-1604088000@cccld.org
SUMMARY:Virtual Campfire Circle
DESCRIPTION:Gather round for virtual campfire stories! Sweet 4pm\, Spooky-5:30 pm and Scary-7pm! Email holly@cccld.org to register.
URL:https://cccld.org/event/virtual-campfire-circle/
LOCATION:CO\, 80444\, United States
CATEGORIES:Adults,Kids,Library Events,Teens
GEO:39.7104468;-105.6969788
END:VEVENT
BEGIN:VEVENT
DTSTART;TZID=America/Denver:20201015T170000
DTEND;TZID=America/Denver:20201015T180000
DTSTAMP:20260424T001434
CREATED:20201008T163230Z
LAST-MODIFIED:20201008T163300Z
UID:10004987-1602781200-1602784800@cccld.org
SUMMARY:Virtual Creative Connection
DESCRIPTION:Create a Cemeterrarium for Halloween. Digital Crafting with Courtney and Caitlin.
URL:https://cccld.org/event/virtual-creative-connection/
LOCATION:CO\, 80444\, United States
CATEGORIES:Adults,Library Events
GEO:39.7104468;-105.6969788
END:VEVENT
BEGIN:VEVENT
DTSTART;TZID=America/Denver:20200709T173000
DTEND;TZID=America/Denver:20200709T190000
DTSTAMP:20260424T001434
CREATED:20200625T221325Z
LAST-MODIFIED:20200625T221325Z
UID:10005577-1594315800-1594321200@cccld.org
SUMMARY:Virtual Creative Connection: Fairy Gardens
DESCRIPTION:In collaboration with Clear Creek County Extension\, we’re excited to bring you our next Virtual Creative Connection session. Make your very own fairy garden for your garden and get tips from a master gardener! Register for the event and reserve your supplies by emailing courtney@cccld.org.
URL:https://cccld.org/event/virtual-creative-connection-fairy-gardens/
LOCATION:CO\, 80444\, United States
CATEGORIES:Adults,Library Events
GEO:39.7104468;-105.6969788
END:VEVENT
BEGIN:VEVENT
DTSTART;TZID=America/Denver:20200420T130000
DTEND;TZID=America/Denver:20200420T150000
DTSTAMP:20260424T001434
CREATED:20200310T210329Z
LAST-MODIFIED:20200310T210329Z
UID:10005533-1587387600-1587394800@cccld.org
SUMMARY:Idaho Springs Adult Book Group
DESCRIPTION:Connect with other readers in our community at monthly library book meetups. Share your ideas and discover new stories. New readers are always welcome! Please contact lucy@cccld.org for more information. \nApril – The Call of the Wild by Jack London
URL:https://cccld.org/event/idaho-springs-adult-book-group-6/
LOCATION:Idaho Springs Public Library\, 219 14th Avenue\, Idaho Springs\, CO\, 80452\, United States
CATEGORIES:Adults,Library Events
GEO:39.742052;-105.5183552
X-APPLE-STRUCTURED-LOCATION;VALUE=URI;X-ADDRESS=Idaho Springs Public Library 219 14th Avenue Idaho Springs CO 80452 United States;X-APPLE-RADIUS=500;X-TITLE=219 14th Avenue:geo:-105.5183552,39.742052
END:VEVENT
BEGIN:VEVENT
DTSTART;VALUE=DATE:20200313
DTEND;VALUE=DATE:20200331
DTSTAMP:20260424T001434
CREATED:20200313T164515Z
LAST-MODIFIED:20200313T210555Z
UID:10005537-1584057600-1585612799@cccld.org
SUMMARY:Enjoy Our Online Resources
DESCRIPTION:Download the free app and browse ebooks and audio books.
URL:https://cccld.org/event/enjoy-our-online-resources/
LOCATION:CO\, 80444\, United States
CATEGORIES:Adults,Community Events
GEO:39.7104468;-105.6969788
END:VEVENT
BEGIN:VEVENT
DTSTART;VALUE=DATE:20200313
DTEND;VALUE=DATE:20200329
DTSTAMP:20260424T001434
CREATED:20200313T223458Z
LAST-MODIFIED:20200316T193811Z
UID:10005540-1584057600-1585439999@cccld.org
SUMMARY:Research Databases
DESCRIPTION:Our research databases can help you find information on a wide variety of topics. Find all research databases here.
URL:https://cccld.org/event/research-databases/
LOCATION:CO\, 80444\, United States
CATEGORIES:Adults,Community Events
GEO:39.7104468;-105.6969788
END:VEVENT
BEGIN:VEVENT
DTSTART;VALUE=DATE:20200313
DTEND;VALUE=DATE:20200324
DTSTAMP:20260424T001434
CREATED:20200313T223128Z
LAST-MODIFIED:20200313T223221Z
UID:10005539-1584057600-1585007999@cccld.org
SUMMARY:Brainfuse Online Homework Help
DESCRIPTION:Brainfuse provides online homework help through the HelpNow service. Take advantage of services like live online tutoring\,the writing lab\, collaborative study sessions\, and more.\nBrianfuse
URL:https://cccld.org/event/brainfuse-online-homework-help/
LOCATION:CO\, 80444\, United States
CATEGORIES:Adults,Community Events
GEO:39.7104468;-105.6969788
END:VEVENT
BEGIN:VEVENT
DTSTART;TZID=America/Denver:20200311T180000
DTEND;TZID=America/Denver:20200311T200000
DTSTAMP:20260424T001434
CREATED:20200302T164810Z
LAST-MODIFIED:20200302T164810Z
UID:10005518-1583949600-1583956800@cccld.org
SUMMARY:Friends of the Idaho Springs Public Library Annual Meeting
DESCRIPTION:Join the Friends of the Idaho Springs Public Library for their annual meeting on Wednesday\, March 11 at 6 pm at the library. Dean Clark will present a program on local library and school history.
URL:https://cccld.org/event/friends-of-the-idaho-springs-public-library-annual-meeting-2/
LOCATION:Idaho Springs Public Library\, 219 14th Avenue\, Idaho Springs\, CO\, 80452\, United States
CATEGORIES:Adults,Community Events,Kids,Library Events
GEO:39.742052;-105.5183552
X-APPLE-STRUCTURED-LOCATION;VALUE=URI;X-ADDRESS=Idaho Springs Public Library 219 14th Avenue Idaho Springs CO 80452 United States;X-APPLE-RADIUS=500;X-TITLE=219 14th Avenue:geo:-105.5183552,39.742052
END:VEVENT
BEGIN:VEVENT
DTSTART;TZID=America/Denver:20200306T170000
DTEND;TZID=America/Denver:20200306T170000
DTSTAMP:20260424T001434
CREATED:20200210T211550Z
LAST-MODIFIED:20200221T183324Z
UID:10004765-1583514000-1583514000@cccld.org
SUMMARY:Georgetown Movie Night
DESCRIPTION:Enjoy a free\, family-friendly movie on the big screen at your library! Satisfy your cravings with snacks and freshly-popped popcorn available for sale at our mini concessions stand. \nMarch Movie – Frozen II \n 
URL:https://cccld.org/event/georgetown-movie-night-6/
LOCATION:Old School House\, 809 Taos St\, Georgetown\, CO\, United States
CATEGORIES:Adults,Kids,Library Events
GEO:39.707368;-105.695645
X-APPLE-STRUCTURED-LOCATION;VALUE=URI;X-ADDRESS=Old School House 809 Taos St Georgetown CO United States;X-APPLE-RADIUS=500;X-TITLE=809 Taos St:geo:-105.695645,39.707368
END:VEVENT
BEGIN:VEVENT
DTSTART;TZID=America/Denver:20200302T173000
DTEND;TZID=America/Denver:20200302T173000
DTSTAMP:20260424T001434
CREATED:20200210T194451Z
LAST-MODIFIED:20200210T194451Z
UID:10004763-1583170200-1583170200@cccld.org
SUMMARY:Idaho Springs Adult Craft Night
DESCRIPTION:Do you love to craft? Or are you craft-curious? Get creative and connect with other crafty patrons at our monthly craft workshops! No experience is necessary and all workshops are free. \nMarch – Crocheting with Courtney
URL:https://cccld.org/event/idaho-springs-adult-craft-night-6/
LOCATION:Idaho Springs Public Library\, 219 14th Avenue\, Idaho Springs\, CO\, 80452\, United States
CATEGORIES:Adults,Library Events
GEO:39.742052;-105.5183552
X-APPLE-STRUCTURED-LOCATION;VALUE=URI;X-ADDRESS=Idaho Springs Public Library 219 14th Avenue Idaho Springs CO 80452 United States;X-APPLE-RADIUS=500;X-TITLE=219 14th Avenue:geo:-105.5183552,39.742052
END:VEVENT
BEGIN:VEVENT
DTSTART;TZID=America/Denver:20200228T140000
DTEND;TZID=America/Denver:20200228T160000
DTSTAMP:20260424T001434
CREATED:20200129T184719Z
LAST-MODIFIED:20200129T184719Z
UID:10005440-1582898400-1582905600@cccld.org
SUMMARY:Idaho Springs Virtual Reality
DESCRIPTION:Drop in to experience the virtual world with our virtual reality system!
URL:https://cccld.org/event/idaho-springs-virtual-reality/
LOCATION:Idaho Springs Public Library\, 219 14th Avenue\, Idaho Springs\, CO\, 80452\, United States
CATEGORIES:Adults,Kids,Library Events
GEO:39.742052;-105.5183552
X-APPLE-STRUCTURED-LOCATION;VALUE=URI;X-ADDRESS=Idaho Springs Public Library 219 14th Avenue Idaho Springs CO 80452 United States;X-APPLE-RADIUS=500;X-TITLE=219 14th Avenue:geo:-105.5183552,39.742052
END:VEVENT
END:VCALENDAR