BEGIN:VCALENDAR
VERSION:2.0
PRODID:-//Clear Creek County Library District - ECPv6.15.16//NONSGML v1.0//EN
CALSCALE:GREGORIAN
METHOD:PUBLISH
X-WR-CALNAME:Clear Creek County Library District
X-ORIGINAL-URL:https://cccld.org
X-WR-CALDESC:Events for Clear Creek County Library District
REFRESH-INTERVAL;VALUE=DURATION:PT1H
X-Robots-Tag:noindex
X-PUBLISHED-TTL:PT1H
BEGIN:VTIMEZONE
TZID:America/Denver
BEGIN:DAYLIGHT
TZOFFSETFROM:-0700
TZOFFSETTO:-0600
TZNAME:MDT
DTSTART:20180311T090000
END:DAYLIGHT
BEGIN:STANDARD
TZOFFSETFROM:-0600
TZOFFSETTO:-0700
TZNAME:MST
DTSTART:20181104T080000
END:STANDARD
BEGIN:DAYLIGHT
TZOFFSETFROM:-0700
TZOFFSETTO:-0600
TZNAME:MDT
DTSTART:20190310T090000
END:DAYLIGHT
BEGIN:STANDARD
TZOFFSETFROM:-0600
TZOFFSETTO:-0700
TZNAME:MST
DTSTART:20191103T080000
END:STANDARD
BEGIN:DAYLIGHT
TZOFFSETFROM:-0700
TZOFFSETTO:-0600
TZNAME:MDT
DTSTART:20200308T090000
END:DAYLIGHT
BEGIN:STANDARD
TZOFFSETFROM:-0600
TZOFFSETTO:-0700
TZNAME:MST
DTSTART:20201101T080000
END:STANDARD
BEGIN:DAYLIGHT
TZOFFSETFROM:-0700
TZOFFSETTO:-0600
TZNAME:MDT
DTSTART:20210314T090000
END:DAYLIGHT
BEGIN:STANDARD
TZOFFSETFROM:-0600
TZOFFSETTO:-0700
TZNAME:MST
DTSTART:20211107T080000
END:STANDARD
END:VTIMEZONE
BEGIN:VEVENT
DTSTART;TZID=America/Denver:20200224T130000
DTEND;TZID=America/Denver:20200224T150000
DTSTAMP:20260424T094812
CREATED:20200114T195841Z
LAST-MODIFIED:20200114T195841Z
UID:10005397-1582549200-1582556400@cccld.org
SUMMARY:Idaho Springs Adult Book Group
DESCRIPTION:Connect with other readers in our community at monthly library book meetups. Share your ideas and discover new stories. New readers are always welcome! Please contact lucy@cccld.org for more information. \nPlease note – we will be meeting on the fourth Monday of February rather than the usual third Monday due to the Presidents Day holiday. \nFebruary Book – TBD
URL:https://cccld.org/event/idaho-springs-adult-book-group-4/
LOCATION:Idaho Springs Public Library\, 219 14th Avenue\, Idaho Springs\, CO\, 80452\, United States
CATEGORIES:Adults,Library Events
GEO:39.742052;-105.5183552
X-APPLE-STRUCTURED-LOCATION;VALUE=URI;X-ADDRESS=Idaho Springs Public Library 219 14th Avenue Idaho Springs CO 80452 United States;X-APPLE-RADIUS=500;X-TITLE=219 14th Avenue:geo:-105.5183552,39.742052
END:VEVENT
BEGIN:VEVENT
DTSTART;TZID=America/Denver:20200220T190000
DTEND;TZID=America/Denver:20200220T190000
DTSTAMP:20260424T094812
CREATED:20200114T195614Z
LAST-MODIFIED:20200114T195655Z
UID:10005395-1582225200-1582225200@cccld.org
SUMMARY:Georgetown Adult Book Group
DESCRIPTION:Connect with other readers in our community at monthly library book meetups. Share your ideas and discover new stories. New readers are always welcome! Please contact holly@cccld.org for more information. \nFebruary Book – Becoming by Michelle Obama
URL:https://cccld.org/event/georgetown-book-group/
LOCATION:John Tomay Memorial Library\, 605 6th Street\, Georgetown\, CO\, 80444\, United States
CATEGORIES:Adults,Library Events
GEO:39.7061997;-105.6974142
X-APPLE-STRUCTURED-LOCATION;VALUE=URI;X-ADDRESS=John Tomay Memorial Library 605 6th Street Georgetown CO 80444 United States;X-APPLE-RADIUS=500;X-TITLE=605 6th Street:geo:-105.6974142,39.7061997
END:VEVENT
BEGIN:VEVENT
DTSTART;TZID=America/Denver:20200218T130000
DTEND;TZID=America/Denver:20200218T150000
DTSTAMP:20260424T094812
CREATED:20200129T183332Z
LAST-MODIFIED:20200129T183332Z
UID:10005432-1582030800-1582038000@cccld.org
SUMMARY:Idaho Springs Legal Advice Clinic
DESCRIPTION:Colorado Legal Services is offering a free legal advice clinic the third Tuesday of every month at the Idaho Springs Public Library. By videoconference\, attorneys can answer legal questions\, help with court forms\, and explain the law and procedure for civic legal issues (not criminal or traffic). \nContact the library at 303-567-2020 to complete an eligibility form ahead of time or arrive at 1 pm to complete the form then.
URL:https://cccld.org/event/idaho-springs-legal-advice-clinic/
LOCATION:Idaho Springs Public Library\, 219 14th Avenue\, Idaho Springs\, CO\, 80452\, United States
CATEGORIES:Adults,Community Events,Library Events
GEO:39.742052;-105.5183552
X-APPLE-STRUCTURED-LOCATION;VALUE=URI;X-ADDRESS=Idaho Springs Public Library 219 14th Avenue Idaho Springs CO 80452 United States;X-APPLE-RADIUS=500;X-TITLE=219 14th Avenue:geo:-105.5183552,39.742052
END:VEVENT
BEGIN:VEVENT
DTSTART;TZID=America/Denver:20200214T153000
DTEND;TZID=America/Denver:20200214T170000
DTSTAMP:20260424T094812
CREATED:20200114T200203Z
LAST-MODIFIED:20200114T200203Z
UID:10005401-1581694200-1581699600@cccld.org
SUMMARY:Idaho Springs Movie Night
DESCRIPTION:Enjoy a free\, family-friendly movie on the big screen at your library! Satisfy your cravings with snacks and freshly-popped popcorn available for sale at our mini concessions stand. \nFebruary Move – The Addams Family
URL:https://cccld.org/event/idaho-springs-movie-night-5/
LOCATION:Idaho Springs Public Library\, 219 14th Avenue\, Idaho Springs\, CO\, 80452\, United States
CATEGORIES:Adults,Kids,Library Events
GEO:39.742052;-105.5183552
X-APPLE-STRUCTURED-LOCATION;VALUE=URI;X-ADDRESS=Idaho Springs Public Library 219 14th Avenue Idaho Springs CO 80452 United States;X-APPLE-RADIUS=500;X-TITLE=219 14th Avenue:geo:-105.5183552,39.742052
END:VEVENT
BEGIN:VEVENT
DTSTART;TZID=America/Denver:20200214T133000
DTEND;TZID=America/Denver:20200214T153000
DTSTAMP:20260424T094812
CREATED:20200129T184637Z
LAST-MODIFIED:20200129T184637Z
UID:10005438-1581687000-1581694200@cccld.org
SUMMARY:Georgetown Virtual Reality
DESCRIPTION:Drop in to experience the virtual world with our virtual reality system!
URL:https://cccld.org/event/georgetown-virtual-reality/
LOCATION:John Tomay Memorial Library\, 605 6th Street\, Georgetown\, CO\, 80444\, United States
CATEGORIES:Adults,Kids,Library Events
GEO:39.7061997;-105.6974142
X-APPLE-STRUCTURED-LOCATION;VALUE=URI;X-ADDRESS=John Tomay Memorial Library 605 6th Street Georgetown CO 80444 United States;X-APPLE-RADIUS=500;X-TITLE=605 6th Street:geo:-105.6974142,39.7061997
END:VEVENT
BEGIN:VEVENT
DTSTART;TZID=America/Denver:20200213T173000
DTEND;TZID=America/Denver:20200213T173000
DTSTAMP:20260424T094812
CREATED:20200114T200944Z
LAST-MODIFIED:20200114T200944Z
UID:10005403-1581615000-1581615000@cccld.org
SUMMARY:Georgetown Adult Craft Night
DESCRIPTION:Do you love to craft? Or are you craft-curious? Get creative and connect with other crafty patrons at our monthly craft workshops! No experience is necessary and all workshops are free. \nFebruary Craft – Iris Fold Valentine Cards
URL:https://cccld.org/event/georgetown-adult-craft-night-5/
LOCATION:John Tomay Memorial Library\, 605 6th Street\, Georgetown\, CO\, 80444\, United States
CATEGORIES:Adults,Library Events
GEO:39.7061997;-105.6974142
X-APPLE-STRUCTURED-LOCATION;VALUE=URI;X-ADDRESS=John Tomay Memorial Library 605 6th Street Georgetown CO 80444 United States;X-APPLE-RADIUS=500;X-TITLE=605 6th Street:geo:-105.6974142,39.7061997
END:VEVENT
BEGIN:VEVENT
DTSTART;TZID=America/Denver:20200213T110000
DTEND;TZID=America/Denver:20200213T133000
DTSTAMP:20260424T094812
CREATED:20200129T183002Z
LAST-MODIFIED:20200129T183002Z
UID:10005431-1581591600-1581600600@cccld.org
SUMMARY:Friends of the Georgetown Library Annual Soup Lunch
DESCRIPTION:Join the Friends of the Georgetown Library for their annual soup lunch. The event is free and all are welcome!
URL:https://cccld.org/event/friends-of-the-georgetown-library-annual-soup-lunch/
LOCATION:John Tomay Memorial Library\, 605 6th Street\, Georgetown\, CO\, 80444\, United States
CATEGORIES:Adults,Community Events,Kids,Library Events
GEO:39.7061997;-105.6974142
X-APPLE-STRUCTURED-LOCATION;VALUE=URI;X-ADDRESS=John Tomay Memorial Library 605 6th Street Georgetown CO 80444 United States;X-APPLE-RADIUS=500;X-TITLE=605 6th Street:geo:-105.6974142,39.7061997
END:VEVENT
BEGIN:VEVENT
DTSTART;TZID=America/Denver:20200210T173000
DTEND;TZID=America/Denver:20200210T173000
DTSTAMP:20260424T094812
CREATED:20200114T200854Z
LAST-MODIFIED:20200114T200854Z
UID:10005402-1581355800-1581355800@cccld.org
SUMMARY:Idaho Springs Adult Craft Night
DESCRIPTION:Do you love to craft? Or are you craft-curious? Get creative and connect with other crafty patrons at our monthly craft workshops! No experience is necessary and all workshops are free. \nFebruary Craft – Iris Fold Valentine Cards
URL:https://cccld.org/event/idaho-springs-adult-craft-night-5/
LOCATION:Idaho Springs Public Library\, 219 14th Avenue\, Idaho Springs\, CO\, 80452\, United States
CATEGORIES:Adults,Library Events
GEO:39.742052;-105.5183552
X-APPLE-STRUCTURED-LOCATION;VALUE=URI;X-ADDRESS=Idaho Springs Public Library 219 14th Avenue Idaho Springs CO 80452 United States;X-APPLE-RADIUS=500;X-TITLE=219 14th Avenue:geo:-105.5183552,39.742052
END:VEVENT
BEGIN:VEVENT
DTSTART;TZID=America/Denver:20200207T170000
DTEND;TZID=America/Denver:20200207T190000
DTSTAMP:20260424T094812
CREATED:20200114T200041Z
LAST-MODIFIED:20200114T200041Z
UID:10005399-1581094800-1581102000@cccld.org
SUMMARY:Georgetown Movie Night
DESCRIPTION:Enjoy a free\, family-friendly movie on the big screen at your library! Satisfy your cravings with snacks and freshly-popped popcorn available for sale at our mini concessions stand. \nFebruary Movie – The Addams Family
URL:https://cccld.org/event/georgetown-movie-night-5/
LOCATION:Old School House\, 809 Taos St\, Georgetown\, CO\, United States
CATEGORIES:Adults,Kids,Library Events
GEO:39.707368;-105.695645
X-APPLE-STRUCTURED-LOCATION;VALUE=URI;X-ADDRESS=Old School House 809 Taos St Georgetown CO United States;X-APPLE-RADIUS=500;X-TITLE=809 Taos St:geo:-105.695645,39.707368
END:VEVENT
BEGIN:VEVENT
DTSTART;TZID=America/Denver:20200131T173000
DTEND;TZID=America/Denver:20200131T173000
DTSTAMP:20260424T094812
CREATED:20191223T220603Z
LAST-MODIFIED:20191223T220603Z
UID:10004691-1580491800-1580491800@cccld.org
SUMMARY:Sip & Spell - Georgetown
DESCRIPTION:Put your spelling skills to the test! Join us for a good old-fashioned spelling bee at The Alpine Restaurant & Bar in Georgetown. There will be prizes! Kids and adults are welcome. \nIf you plan to attend\, please call 303-569-2620 or email lucy@cccld.org.
URL:https://cccld.org/event/sip-spell-georgetown/
LOCATION:Alpine Restaurant and Bar\, 1106 Rose Street\, Georgetown\, CO\, 80444\, United States
CATEGORIES:Adults,Kids,Library Events
GEO:39.7114533;-105.6950996
X-APPLE-STRUCTURED-LOCATION;VALUE=URI;X-ADDRESS=Alpine Restaurant and Bar 1106 Rose Street Georgetown CO 80444 United States;X-APPLE-RADIUS=500;X-TITLE=1106 Rose Street:geo:-105.6950996,39.7114533
END:VEVENT
BEGIN:VEVENT
DTSTART;TZID=America/Denver:20200130T173000
DTEND;TZID=America/Denver:20200130T173000
DTSTAMP:20260424T094812
CREATED:20191223T220454Z
LAST-MODIFIED:20191223T220454Z
UID:10004689-1580405400-1580405400@cccld.org
SUMMARY:Sip & Spell - Idaho Springs
DESCRIPTION:Put your spelling skills to the test! Join us for a good old-fashioned spelling bee at Westbound & Down Brewing Company in Idaho Springs. There will be prizes! Kids and adults are welcome. \nIf you plan to attend\, please call 303-567-2020 or email lucy@cccld.org.
URL:https://cccld.org/event/sip-spell-idaho-springs/
LOCATION:Westbound & Down Brewing Company\, 1617 Miner Street\, Idaho Springs\, CO\, 80452\, United States
CATEGORIES:Adults,Kids,Library Events
GEO:39.7417922;-105.5154974
X-APPLE-STRUCTURED-LOCATION;VALUE=URI;X-ADDRESS=Westbound & Down Brewing Company 1617 Miner Street Idaho Springs CO 80452 United States;X-APPLE-RADIUS=500;X-TITLE=1617 Miner Street:geo:-105.5154974,39.7417922
END:VEVENT
BEGIN:VEVENT
DTSTART;TZID=America/Denver:20200127T130000
DTEND;TZID=America/Denver:20200127T150000
DTSTAMP:20260424T094812
CREATED:20200114T194051Z
LAST-MODIFIED:20200114T194051Z
UID:10005375-1580130000-1580137200@cccld.org
SUMMARY:Idaho Springs Adult Book Group
DESCRIPTION:Connect with other readers in our community at monthly library book meetups. Share your ideas and discover new stories. New readers are always welcome! Please contact lucy@cccld.org for more information. \nPlease note – we will be meeting on the fourth Monday of January rather than the usual third Monday due to the Martin Luther King Jr. holiday. \nJanuary Book – Prairie Fires: The American Dreams of Laura Ingalls Wilder by Caroline Fraser
URL:https://cccld.org/event/idaho-springs-adult-book-group-3/
LOCATION:Idaho Springs Public Library\, 219 14th Avenue\, Idaho Springs\, CO\, 80452\, United States
CATEGORIES:Adults,Library Events
GEO:39.742052;-105.5183552
X-APPLE-STRUCTURED-LOCATION;VALUE=URI;X-ADDRESS=Idaho Springs Public Library 219 14th Avenue Idaho Springs CO 80452 United States;X-APPLE-RADIUS=500;X-TITLE=219 14th Avenue:geo:-105.5183552,39.742052
END:VEVENT
BEGIN:VEVENT
DTSTART;TZID=America/Denver:20200116T190000
DTEND;TZID=America/Denver:20200116T190000
DTSTAMP:20260424T094812
CREATED:20200114T195338Z
LAST-MODIFIED:20200114T195338Z
UID:10005376-1579201200-1579201200@cccld.org
SUMMARY:Georgetown Adult Book Group
DESCRIPTION:Connect with other readers in our community at monthly library book meetups. Share your ideas and discover new stories. New readers are always welcome! Please contact holly@cccld.org for more information. \nJanuary Book – In the Country We Love by Diane Guerrero.
URL:https://cccld.org/event/georgetown-adult-book-group-3/
LOCATION:John Tomay Memorial Library\, 605 6th Street\, Georgetown\, CO\, 80444\, United States
CATEGORIES:Adults,Library Events
GEO:39.7061997;-105.6974142
X-APPLE-STRUCTURED-LOCATION;VALUE=URI;X-ADDRESS=John Tomay Memorial Library 605 6th Street Georgetown CO 80444 United States;X-APPLE-RADIUS=500;X-TITLE=605 6th Street:geo:-105.6974142,39.7061997
END:VEVENT
BEGIN:VEVENT
DTSTART;TZID=America/Denver:20200113T173000
DTEND;TZID=America/Denver:20200113T173000
DTSTAMP:20260424T094812
CREATED:20191218T221946Z
LAST-MODIFIED:20191218T221946Z
UID:10005321-1578936600-1578936600@cccld.org
SUMMARY:Idaho Springs Adult Craft Night
DESCRIPTION:Do you love to craft? Or are you craft-curious? Get creative and connect with other crafty patrons at our monthly craft workshops! No experience is necessary and all workshops are free.
URL:https://cccld.org/event/idaho-springs-adult-craft-night-4/
LOCATION:Idaho Springs Public Library\, 219 14th Avenue\, Idaho Springs\, CO\, 80452\, United States
CATEGORIES:Adults,Library Events
GEO:39.742052;-105.5183552
X-APPLE-STRUCTURED-LOCATION;VALUE=URI;X-ADDRESS=Idaho Springs Public Library 219 14th Avenue Idaho Springs CO 80452 United States;X-APPLE-RADIUS=500;X-TITLE=219 14th Avenue:geo:-105.5183552,39.742052
END:VEVENT
BEGIN:VEVENT
DTSTART;TZID=America/Denver:20200109T173000
DTEND;TZID=America/Denver:20200109T173000
DTSTAMP:20260424T094812
CREATED:20191218T221901Z
LAST-MODIFIED:20191218T221901Z
UID:10005320-1578591000-1578591000@cccld.org
SUMMARY:Georgetown Adult Craft Night
DESCRIPTION:Do you love to craft? Or are you craft-curious? Get creative and connect with other crafty patrons at our monthly craft workshops! No experience is necessary and all workshops are free.
URL:https://cccld.org/event/georgetown-adult-craft-night-4/
LOCATION:John Tomay Memorial Library\, 605 6th Street\, Georgetown\, CO\, 80444\, United States
CATEGORIES:Adults,Library Events
GEO:39.7061997;-105.6974142
X-APPLE-STRUCTURED-LOCATION;VALUE=URI;X-ADDRESS=John Tomay Memorial Library 605 6th Street Georgetown CO 80444 United States;X-APPLE-RADIUS=500;X-TITLE=605 6th Street:geo:-105.6974142,39.7061997
END:VEVENT
BEGIN:VEVENT
DTSTART;TZID=America/Denver:20191219T154500
DTEND;TZID=America/Denver:20191219T154500
DTSTAMP:20260424T094812
CREATED:20190815T211208Z
LAST-MODIFIED:20191122T223131Z
UID:10004509-1576770300-1576770300@cccld.org
SUMMARY:Niños Learning Español
DESCRIPTION:Learn basic\, conversational Spanish with our very own Señora Maria!
URL:https://cccld.org/event/ninos-learning-espanol-2/2019-12-19/
LOCATION:John Tomay Memorial Library\, 605 6th Street\, Georgetown\, CO\, 80444\, United States
CATEGORIES:Adults,Kids,Library Events
GEO:39.7061997;-105.6974142
X-APPLE-STRUCTURED-LOCATION;VALUE=URI;X-ADDRESS=John Tomay Memorial Library 605 6th Street Georgetown CO 80444 United States;X-APPLE-RADIUS=500;X-TITLE=605 6th Street:geo:-105.6974142,39.7061997
END:VEVENT
BEGIN:VEVENT
DTSTART;TZID=America/Denver:20191217T130000
DTEND;TZID=America/Denver:20191217T150000
DTSTAMP:20260424T094812
CREATED:20191029T210625Z
LAST-MODIFIED:20191029T210625Z
UID:10005225-1576587600-1576594800@cccld.org
SUMMARY:Legal Advice Clinic
DESCRIPTION:Colorado Legal Services is offering a free legal advice clinic the third Tuesday of every month at the Idaho Springs Public Library. By videoconference\, attorneys can answer legal questions\, help with court forms\, and explain the law and procedure for civic legal issues (not criminal or traffic). \nContact the library at 303-567-2020 to complete an eligibility form ahead of time or come right at 1 pm to complete the form then.
URL:https://cccld.org/event/legal-advice-clinic/2019-12-17/
LOCATION:Idaho Springs Public Library\, 219 14th Avenue\, Idaho Springs\, CO\, 80452\, United States
CATEGORIES:Adults,Community Events,Library Events
GEO:39.742052;-105.5183552
X-APPLE-STRUCTURED-LOCATION;VALUE=URI;X-ADDRESS=Idaho Springs Public Library 219 14th Avenue Idaho Springs CO 80452 United States;X-APPLE-RADIUS=500;X-TITLE=219 14th Avenue:geo:-105.5183552,39.742052
END:VEVENT
BEGIN:VEVENT
DTSTART;TZID=America/Denver:20191215T110000
DTEND;TZID=America/Denver:20191215T130000
DTSTAMP:20260424T094812
CREATED:20191125T185500Z
LAST-MODIFIED:20191125T185500Z
UID:10005277-1576407600-1576414800@cccld.org
SUMMARY:Santa's Workshop
DESCRIPTION:Visit the Georgetown Library during Georgetown’s Christmas Market for crafts and to visit with Santa!
URL:https://cccld.org/event/santas-workshop/2019-12-15/
LOCATION:John Tomay Memorial Library\, 605 6th Street\, Georgetown\, CO\, 80444\, United States
CATEGORIES:Adults,Community Events,Kids,Library Events
GEO:39.7061997;-105.6974142
X-APPLE-STRUCTURED-LOCATION;VALUE=URI;X-ADDRESS=John Tomay Memorial Library 605 6th Street Georgetown CO 80444 United States;X-APPLE-RADIUS=500;X-TITLE=605 6th Street:geo:-105.6974142,39.7061997
END:VEVENT
BEGIN:VEVENT
DTSTART;TZID=America/Denver:20191214T110000
DTEND;TZID=America/Denver:20191214T130000
DTSTAMP:20260424T094812
CREATED:20191125T185500Z
LAST-MODIFIED:20191125T185500Z
UID:10005276-1576321200-1576328400@cccld.org
SUMMARY:Santa's Workshop
DESCRIPTION:Visit the Georgetown Library during Georgetown’s Christmas Market for crafts and to visit with Santa!
URL:https://cccld.org/event/santas-workshop/2019-12-14/
LOCATION:John Tomay Memorial Library\, 605 6th Street\, Georgetown\, CO\, 80444\, United States
CATEGORIES:Adults,Community Events,Kids,Library Events
GEO:39.7061997;-105.6974142
X-APPLE-STRUCTURED-LOCATION;VALUE=URI;X-ADDRESS=John Tomay Memorial Library 605 6th Street Georgetown CO 80444 United States;X-APPLE-RADIUS=500;X-TITLE=605 6th Street:geo:-105.6974142,39.7061997
END:VEVENT
BEGIN:VEVENT
DTSTART;TZID=America/Denver:20191212T173000
DTEND;TZID=America/Denver:20191212T173000
DTSTAMP:20260424T094812
CREATED:20191125T190352Z
LAST-MODIFIED:20191125T190352Z
UID:10005281-1576171800-1576171800@cccld.org
SUMMARY:Georgetown Adult Craft Night
DESCRIPTION:Do you love to craft? Or are you craft-curious? Get creative and connect with other crafty patrons at our monthly craft workshops! No experience is necessary and all workshops are free. \nJoin us for our annual wreathmaking in December! Please email holly@cccld.org to register and to reserve your supplies.
URL:https://cccld.org/event/georgetown-adult-craft-night-3/
LOCATION:Old School House\, 809 Taos St\, Georgetown\, CO\, United States
CATEGORIES:Adults,Library Events
GEO:39.707368;-105.695645
X-APPLE-STRUCTURED-LOCATION;VALUE=URI;X-ADDRESS=Old School House 809 Taos St Georgetown CO United States;X-APPLE-RADIUS=500;X-TITLE=809 Taos St:geo:-105.695645,39.707368
END:VEVENT
BEGIN:VEVENT
DTSTART;TZID=America/Denver:20191212T154500
DTEND;TZID=America/Denver:20191212T154500
DTSTAMP:20260424T094812
CREATED:20190815T211208Z
LAST-MODIFIED:20191122T223131Z
UID:10004508-1576165500-1576165500@cccld.org
SUMMARY:Niños Learning Español
DESCRIPTION:Learn basic\, conversational Spanish with our very own Señora Maria!
URL:https://cccld.org/event/ninos-learning-espanol-2/2019-12-12/
LOCATION:John Tomay Memorial Library\, 605 6th Street\, Georgetown\, CO\, 80444\, United States
CATEGORIES:Adults,Kids,Library Events
GEO:39.7061997;-105.6974142
X-APPLE-STRUCTURED-LOCATION;VALUE=URI;X-ADDRESS=John Tomay Memorial Library 605 6th Street Georgetown CO 80444 United States;X-APPLE-RADIUS=500;X-TITLE=605 6th Street:geo:-105.6974142,39.7061997
END:VEVENT
BEGIN:VEVENT
DTSTART;TZID=America/Denver:20191209T173000
DTEND;TZID=America/Denver:20191209T173000
DTSTAMP:20260424T094812
CREATED:20191125T190226Z
LAST-MODIFIED:20191125T190226Z
UID:10005279-1575912600-1575912600@cccld.org
SUMMARY:Idaho Springs Adult Craft Night
DESCRIPTION:Do you love to craft? Or are you craft-curious? Get creative and connect with other crafty patrons at our monthly craft workshops! No experience is necessary and all workshops are free. \nJoin us for our annual wreathmaking in December! Please email holly@cccld.org to register and to reserve your supplies.
URL:https://cccld.org/event/idaho-springs-adult-craft-night-3/
LOCATION:Tommyknocker Brewery\, 1401 Miner Street\, Idaho Springs\, CO\, 80452\, United States
CATEGORIES:Adults,Library Events
GEO:39.7416267;-105.5177181
X-APPLE-STRUCTURED-LOCATION;VALUE=URI;X-ADDRESS=Tommyknocker Brewery 1401 Miner Street Idaho Springs CO 80452 United States;X-APPLE-RADIUS=500;X-TITLE=1401 Miner Street:geo:-105.5177181,39.7416267
END:VEVENT
BEGIN:VEVENT
DTSTART;TZID=America/Denver:20191208T110000
DTEND;TZID=America/Denver:20191208T130000
DTSTAMP:20260424T094812
CREATED:20191125T185500Z
LAST-MODIFIED:20191125T185500Z
UID:10005275-1575802800-1575810000@cccld.org
SUMMARY:Santa's Workshop
DESCRIPTION:Visit the Georgetown Library during Georgetown’s Christmas Market for crafts and to visit with Santa!
URL:https://cccld.org/event/santas-workshop/2019-12-08/
LOCATION:John Tomay Memorial Library\, 605 6th Street\, Georgetown\, CO\, 80444\, United States
CATEGORIES:Adults,Community Events,Kids,Library Events
GEO:39.7061997;-105.6974142
X-APPLE-STRUCTURED-LOCATION;VALUE=URI;X-ADDRESS=John Tomay Memorial Library 605 6th Street Georgetown CO 80444 United States;X-APPLE-RADIUS=500;X-TITLE=605 6th Street:geo:-105.6974142,39.7061997
END:VEVENT
BEGIN:VEVENT
DTSTART;TZID=America/Denver:20191207T110000
DTEND;TZID=America/Denver:20191207T130000
DTSTAMP:20260424T094812
CREATED:20191125T185500Z
LAST-MODIFIED:20191125T185500Z
UID:10005274-1575716400-1575723600@cccld.org
SUMMARY:Santa's Workshop
DESCRIPTION:Visit the Georgetown Library during Georgetown’s Christmas Market for crafts and to visit with Santa!
URL:https://cccld.org/event/santas-workshop/2019-12-07/
LOCATION:John Tomay Memorial Library\, 605 6th Street\, Georgetown\, CO\, 80444\, United States
CATEGORIES:Adults,Community Events,Kids,Library Events
GEO:39.7061997;-105.6974142
X-APPLE-STRUCTURED-LOCATION;VALUE=URI;X-ADDRESS=John Tomay Memorial Library 605 6th Street Georgetown CO 80444 United States;X-APPLE-RADIUS=500;X-TITLE=605 6th Street:geo:-105.6974142,39.7061997
END:VEVENT
BEGIN:VEVENT
DTSTART;TZID=America/Denver:20191205T154500
DTEND;TZID=America/Denver:20191205T154500
DTSTAMP:20260424T094812
CREATED:20190815T211208Z
LAST-MODIFIED:20191122T223131Z
UID:10004507-1575560700-1575560700@cccld.org
SUMMARY:Niños Learning Español
DESCRIPTION:Learn basic\, conversational Spanish with our very own Señora Maria!
URL:https://cccld.org/event/ninos-learning-espanol-2/2019-12-05/
LOCATION:John Tomay Memorial Library\, 605 6th Street\, Georgetown\, CO\, 80444\, United States
CATEGORIES:Adults,Kids,Library Events
GEO:39.7061997;-105.6974142
X-APPLE-STRUCTURED-LOCATION;VALUE=URI;X-ADDRESS=John Tomay Memorial Library 605 6th Street Georgetown CO 80444 United States;X-APPLE-RADIUS=500;X-TITLE=605 6th Street:geo:-105.6974142,39.7061997
END:VEVENT
BEGIN:VEVENT
DTSTART;TZID=America/Denver:20191130T170000
DTEND;TZID=America/Denver:20191130T170000
DTSTAMP:20260424T094812
CREATED:20191029T215402Z
LAST-MODIFIED:20191115T205422Z
UID:10005238-1575133200-1575133200@cccld.org
SUMMARY:Georgetown Tree Lighting & Cookie Decorating Workshop
DESCRIPTION:The annual tree lighting is a wonderful holiday event in Georgetown! There will be carols starting at 5 pm\, with the tree lighting occurring at 6 pm with a cookie decorating workshop to immediately follow at the Georgetown Library.
URL:https://cccld.org/event/georgetown-tree-lighting-cookie-decorating-workshop/
LOCATION:John Tomay Memorial Library\, 605 6th Street\, Georgetown\, CO\, 80444\, United States
CATEGORIES:Adults,Community Events,Kids,Library Events
GEO:39.7061997;-105.6974142
X-APPLE-STRUCTURED-LOCATION;VALUE=URI;X-ADDRESS=John Tomay Memorial Library 605 6th Street Georgetown CO 80444 United States;X-APPLE-RADIUS=500;X-TITLE=605 6th Street:geo:-105.6974142,39.7061997
END:VEVENT
BEGIN:VEVENT
DTSTART;TZID=America/Denver:20191126T130000
DTEND;TZID=America/Denver:20191126T150000
DTSTAMP:20260424T094812
CREATED:20191029T201941Z
LAST-MODIFIED:20191029T201941Z
UID:10005212-1574773200-1574780400@cccld.org
SUMMARY:Idaho Springs Computer Basics
DESCRIPTION:Drop in for assistance with learning basic computer skills.
URL:https://cccld.org/event/idaho-springs-computer-basics/2019-11-26/
LOCATION:Idaho Springs Public Library\, 219 14th Avenue\, Idaho Springs\, CO\, 80452\, United States
CATEGORIES:Adults,Library Events
GEO:39.742052;-105.5183552
X-APPLE-STRUCTURED-LOCATION;VALUE=URI;X-ADDRESS=Idaho Springs Public Library 219 14th Avenue Idaho Springs CO 80452 United States;X-APPLE-RADIUS=500;X-TITLE=219 14th Avenue:geo:-105.5183552,39.742052
END:VEVENT
BEGIN:VEVENT
DTSTART;TZID=America/Denver:20191125T130000
DTEND;TZID=America/Denver:20191125T160000
DTSTAMP:20260424T094812
CREATED:20191029T213136Z
LAST-MODIFIED:20191029T213136Z
UID:10005234-1574686800-1574697600@cccld.org
SUMMARY:Virtual Reality - in Georgetown!
DESCRIPTION:Virtual Reality is coming to Georgetown! Register to reserve your spot today by calling 303-569-2620.
URL:https://cccld.org/event/virtual-reality-in-georgetown/
LOCATION:John Tomay Memorial Library\, 605 6th Street\, Georgetown\, CO\, 80444\, United States
CATEGORIES:Adults,Kids,Library Events
GEO:39.7061997;-105.6974142
X-APPLE-STRUCTURED-LOCATION;VALUE=URI;X-ADDRESS=John Tomay Memorial Library 605 6th Street Georgetown CO 80444 United States;X-APPLE-RADIUS=500;X-TITLE=605 6th Street:geo:-105.6974142,39.7061997
END:VEVENT
BEGIN:VEVENT
DTSTART;TZID=America/Denver:20191122T140000
DTEND;TZID=America/Denver:20191122T163000
DTSTAMP:20260424T094812
CREATED:20190924T170053Z
LAST-MODIFIED:20191029T200956Z
UID:10005152-1574431200-1574440200@cccld.org
SUMMARY:Virtual Reality
DESCRIPTION:Explore the virtual gaming world! Adults and kids welcome – reserve your spot by calling the Idaho Springs Public Library at 303-567-2020.
URL:https://cccld.org/event/virtual-reality/2019-11-22/
LOCATION:Idaho Springs Public Library\, 219 14th Avenue\, Idaho Springs\, CO\, 80452\, United States
CATEGORIES:Adults,Kids,Library Events
GEO:39.742052;-105.5183552
X-APPLE-STRUCTURED-LOCATION;VALUE=URI;X-ADDRESS=Idaho Springs Public Library 219 14th Avenue Idaho Springs CO 80452 United States;X-APPLE-RADIUS=500;X-TITLE=219 14th Avenue:geo:-105.5183552,39.742052
END:VEVENT
BEGIN:VEVENT
DTSTART;TZID=America/Denver:20191121T190000
DTEND;TZID=America/Denver:20191121T190000
DTSTAMP:20260424T094812
CREATED:20191029T211902Z
LAST-MODIFIED:20191029T211902Z
UID:10005230-1574362800-1574362800@cccld.org
SUMMARY:Georgetown Adult Book Group
DESCRIPTION:Connect with other readers in our community at monthly library book meetups. Share your ideas and discover new stories. New readers are always welcome! Please contact holly@cccld.org for more information. \nNovember Book: The Ragged Edge of Night by Olivia Hawker
URL:https://cccld.org/event/georgetown-adult-book-group-2/
LOCATION:John Tomay Memorial Library\, 605 6th Street\, Georgetown\, CO\, 80444\, United States
CATEGORIES:Adults,Library Events
GEO:39.7061997;-105.6974142
X-APPLE-STRUCTURED-LOCATION;VALUE=URI;X-ADDRESS=John Tomay Memorial Library 605 6th Street Georgetown CO 80444 United States;X-APPLE-RADIUS=500;X-TITLE=605 6th Street:geo:-105.6974142,39.7061997
END:VEVENT
END:VCALENDAR