BEGIN:VCALENDAR
VERSION:2.0
PRODID:-//Clear Creek County Library District - ECPv6.15.16//NONSGML v1.0//EN
CALSCALE:GREGORIAN
METHOD:PUBLISH
X-ORIGINAL-URL:https://cccld.org
X-WR-CALDESC:Events for Clear Creek County Library District
REFRESH-INTERVAL;VALUE=DURATION:PT1H
X-Robots-Tag:noindex
X-PUBLISHED-TTL:PT1H
BEGIN:VTIMEZONE
TZID:America/Denver
BEGIN:DAYLIGHT
TZOFFSETFROM:-0700
TZOFFSETTO:-0600
TZNAME:MDT
DTSTART:20220313T090000
END:DAYLIGHT
BEGIN:STANDARD
TZOFFSETFROM:-0600
TZOFFSETTO:-0700
TZNAME:MST
DTSTART:20221106T080000
END:STANDARD
BEGIN:DAYLIGHT
TZOFFSETFROM:-0700
TZOFFSETTO:-0600
TZNAME:MDT
DTSTART:20230312T090000
END:DAYLIGHT
BEGIN:STANDARD
TZOFFSETFROM:-0600
TZOFFSETTO:-0700
TZNAME:MST
DTSTART:20231105T080000
END:STANDARD
BEGIN:DAYLIGHT
TZOFFSETFROM:-0700
TZOFFSETTO:-0600
TZNAME:MDT
DTSTART:20240310T090000
END:DAYLIGHT
BEGIN:STANDARD
TZOFFSETFROM:-0600
TZOFFSETTO:-0700
TZNAME:MST
DTSTART:20241103T080000
END:STANDARD
END:VTIMEZONE
BEGIN:VEVENT
DTSTART;TZID=America/Denver:20230707T090000
DTEND;TZID=America/Denver:20230707T120000
DTSTAMP:20260422T152353
CREATED:20230502T163005Z
LAST-MODIFIED:20230627T164220Z
UID:10006222-1688720400-1688731200@cccld.org
SUMMARY:Adult Craft -Trails & Ales Wildflower Hike
DESCRIPTION:The July Adult Craft will be a morning Trails & Ales hike with local Master Gardeners to learn about native wildflowers and other natural resources. Meet at local trailhead for a moderate hike which will take approximately 3 hours round trip; optional group meeting at local brewery following the hike. Space is limited ad details will be provided upon registration.\nThe rain date is July 21.
URL:https://cccld.org/event/adult-craft-trails-ale-wildflower-hike/
LOCATION:CO\, 80444\, United States
CATEGORIES:Adults,Library Events
GEO:39.7104468;-105.6969788
END:VEVENT
END:VCALENDAR