BEGIN:VCALENDAR
VERSION:2.0
PRODID:-//Clear Creek County Library District - ECPv6.15.16//NONSGML v1.0//EN
CALSCALE:GREGORIAN
METHOD:PUBLISH
X-ORIGINAL-URL:https://cccld.org
X-WR-CALDESC:Events for Clear Creek County Library District
REFRESH-INTERVAL;VALUE=DURATION:PT1H
X-Robots-Tag:noindex
X-PUBLISHED-TTL:PT1H
BEGIN:VTIMEZONE
TZID:America/Denver
BEGIN:DAYLIGHT
TZOFFSETFROM:-0700
TZOFFSETTO:-0600
TZNAME:MDT
DTSTART:20230312T090000
END:DAYLIGHT
BEGIN:STANDARD
TZOFFSETFROM:-0600
TZOFFSETTO:-0700
TZNAME:MST
DTSTART:20231105T080000
END:STANDARD
BEGIN:DAYLIGHT
TZOFFSETFROM:-0700
TZOFFSETTO:-0600
TZNAME:MDT
DTSTART:20240310T090000
END:DAYLIGHT
BEGIN:STANDARD
TZOFFSETFROM:-0600
TZOFFSETTO:-0700
TZNAME:MST
DTSTART:20241103T080000
END:STANDARD
BEGIN:DAYLIGHT
TZOFFSETFROM:-0700
TZOFFSETTO:-0600
TZNAME:MDT
DTSTART:20250309T090000
END:DAYLIGHT
BEGIN:STANDARD
TZOFFSETFROM:-0600
TZOFFSETTO:-0700
TZNAME:MST
DTSTART:20251102T080000
END:STANDARD
END:VTIMEZONE
BEGIN:VEVENT
DTSTART;TZID=America/Denver:20240211T100000
DTEND;TZID=America/Denver:20240211T113000
DTSTAMP:20260422T061014
CREATED:20231206T215026Z
LAST-MODIFIED:20240118T160118Z
UID:10006425-1707645600-1707651000@cccld.org
SUMMARY:Small Floral Arrangement Workshop
DESCRIPTION:Get creative and connect with other crafty patrons at our monthly workshops! No experience is necessary and all workshops are free. February’s craft is a Small Floral Arrangement Workshop. Registration is required. Meet at Marigold – 1620 Miner St.\, Idaho Springs. Please email chris@cccld.org to register and for additional information.  \nMany thanks to Marigold for partnering with us for this special workshop!
URL:https://cccld.org/event/floral-arrangement-workshop/
LOCATION:CO
CATEGORIES:Adults,Library Events
END:VEVENT
BEGIN:VEVENT
DTSTART;TZID=America/Denver:20240211T123000
DTEND;TZID=America/Denver:20240211T140000
DTSTAMP:20260422T061014
CREATED:20231206T215655Z
LAST-MODIFIED:20240118T184802Z
UID:10006426-1707654600-1707660000@cccld.org
SUMMARY:Small Floral Arrangement Workshop
DESCRIPTION:Get creative and connect with other crafty patrons at our monthly workshops! No experience is necessary and all workshops are free. February’s craft is a Small Floral Arrangement Workshop. Registration is required. Meet at Marigold – 1620 Miner St.\, Idaho Springs. Please email chris@cccld.org to register and for additional information.  \nMany thanks to Marigold for partnering with us for this special workshop!
URL:https://cccld.org/event/floral-arrangement-workshop-2/
LOCATION:CO
CATEGORIES:Adults,Library Events
END:VEVENT
END:VCALENDAR