BEGIN:VCALENDAR
VERSION:2.0
PRODID:-//Clear Creek County Library District - ECPv6.15.16//NONSGML v1.0//EN
CALSCALE:GREGORIAN
METHOD:PUBLISH
X-WR-CALNAME:Clear Creek County Library District
X-ORIGINAL-URL:https://cccld.org
X-WR-CALDESC:Events for Clear Creek County Library District
REFRESH-INTERVAL;VALUE=DURATION:PT1H
X-Robots-Tag:noindex
X-PUBLISHED-TTL:PT1H
BEGIN:VTIMEZONE
TZID:America/Denver
BEGIN:DAYLIGHT
TZOFFSETFROM:-0700
TZOFFSETTO:-0600
TZNAME:MDT
DTSTART:20200308T090000
END:DAYLIGHT
BEGIN:STANDARD
TZOFFSETFROM:-0600
TZOFFSETTO:-0700
TZNAME:MST
DTSTART:20201101T080000
END:STANDARD
BEGIN:DAYLIGHT
TZOFFSETFROM:-0700
TZOFFSETTO:-0600
TZNAME:MDT
DTSTART:20210314T090000
END:DAYLIGHT
BEGIN:STANDARD
TZOFFSETFROM:-0600
TZOFFSETTO:-0700
TZNAME:MST
DTSTART:20211107T080000
END:STANDARD
BEGIN:DAYLIGHT
TZOFFSETFROM:-0700
TZOFFSETTO:-0600
TZNAME:MDT
DTSTART:20220313T090000
END:DAYLIGHT
BEGIN:STANDARD
TZOFFSETFROM:-0600
TZOFFSETTO:-0700
TZNAME:MST
DTSTART:20221106T080000
END:STANDARD
END:VTIMEZONE
BEGIN:VEVENT
DTSTART;TZID=America/Denver:20210203T111500
DTEND;TZID=America/Denver:20210203T120000
DTSTAMP:20260423T203440
CREATED:20201008T161152Z
LAST-MODIFIED:20210114T230127Z
UID:10004975-1612350900-1612353600@cccld.org
SUMMARY:Virtual Storytime
DESCRIPTION:Hop into storytime with Miss Honeybun! Find Miss Honeybun on Facebook at www.facebook.com/clearcreeklibrarydistrict
URL:https://cccld.org/event/virtual-storytime-3/2021-02-03/
LOCATION:CO\, 80444\, United States
CATEGORIES:Kids,Library Events
GEO:39.7104468;-105.6969788
END:VEVENT
BEGIN:VEVENT
DTSTART;TZID=America/Denver:20210204T190000
DTEND;TZID=America/Denver:20210204T200000
DTSTAMP:20260423T203440
CREATED:20200406T173842Z
LAST-MODIFIED:20220328T213223Z
UID:10004868-1612465200-1612468800@cccld.org
SUMMARY:Virtual Goodnight Storytime
DESCRIPTION:Get ready for bed with Miss Holly and Miss Honeybun during our Virtual Goodnight Storytime. Join us live on our Facebook page at 7pm every Thursday.
URL:https://cccld.org/event/virtual-bedtime-storytime/2021-02-04/
LOCATION:CO\, 80444\, United States
CATEGORIES:Kids,Library Events
GEO:39.7104468;-105.6969788
END:VEVENT
BEGIN:VEVENT
DTSTART;TZID=America/Denver:20210209T173000
DTEND;TZID=America/Denver:20210209T183000
DTSTAMP:20260423T203440
CREATED:20210122T231922Z
LAST-MODIFIED:20210122T232305Z
UID:10005596-1612891800-1612895400@cccld.org
SUMMARY:Virtual Craft Club
DESCRIPTION:
URL:https://cccld.org/event/craft-club/
LOCATION:CO\, 80444\, United States
CATEGORIES:Kids,Library Events,Teens
GEO:39.7104468;-105.6969788
END:VEVENT
BEGIN:VEVENT
DTSTART;TZID=America/Denver:20210210T111500
DTEND;TZID=America/Denver:20210210T120000
DTSTAMP:20260423T203440
CREATED:20201008T161152Z
LAST-MODIFIED:20210114T230127Z
UID:10004976-1612955700-1612958400@cccld.org
SUMMARY:Virtual Storytime
DESCRIPTION:Hop into storytime with Miss Honeybun! Find Miss Honeybun on Facebook at www.facebook.com/clearcreeklibrarydistrict
URL:https://cccld.org/event/virtual-storytime-3/2021-02-10/
LOCATION:CO\, 80444\, United States
CATEGORIES:Kids,Library Events
GEO:39.7104468;-105.6969788
END:VEVENT
BEGIN:VEVENT
DTSTART;TZID=America/Denver:20210211T190000
DTEND;TZID=America/Denver:20210211T200000
DTSTAMP:20260423T203440
CREATED:20200406T173842Z
LAST-MODIFIED:20220328T213223Z
UID:10004869-1613070000-1613073600@cccld.org
SUMMARY:Virtual Goodnight Storytime
DESCRIPTION:Get ready for bed with Miss Holly and Miss Honeybun during our Virtual Goodnight Storytime. Join us live on our Facebook page at 7pm every Thursday.
URL:https://cccld.org/event/virtual-bedtime-storytime/2021-02-11/
LOCATION:CO\, 80444\, United States
CATEGORIES:Kids,Library Events
GEO:39.7104468;-105.6969788
END:VEVENT
BEGIN:VEVENT
DTSTART;TZID=America/Denver:20210212T160000
DTEND;TZID=America/Denver:20210212T170000
DTSTAMP:20260423T203440
CREATED:20210201T162012Z
LAST-MODIFIED:20210201T162012Z
UID:10005598-1613145600-1613149200@cccld.org
SUMMARY:Virtual Valentine Workshop
DESCRIPTION:Calling all crafty kiddos: join our Virtual Valentine Workshop on Friday\, February 12 to create a special card for your Valentine! Contact holly@cccld.org to learn more and reserve your supplies.
URL:https://cccld.org/event/virtual-valentine-workshop-2/
LOCATION:CO\, 80444\, United States
CATEGORIES:Kids,Library Events
GEO:39.7104468;-105.6969788
END:VEVENT
BEGIN:VEVENT
DTSTART;TZID=America/Denver:20210217T111500
DTEND;TZID=America/Denver:20210217T120000
DTSTAMP:20260423T203440
CREATED:20201008T161152Z
LAST-MODIFIED:20210114T230127Z
UID:10004977-1613560500-1613563200@cccld.org
SUMMARY:Virtual Storytime
DESCRIPTION:Hop into storytime with Miss Honeybun! Find Miss Honeybun on Facebook at www.facebook.com/clearcreeklibrarydistrict
URL:https://cccld.org/event/virtual-storytime-3/2021-02-17/
LOCATION:CO\, 80444\, United States
CATEGORIES:Kids,Library Events
GEO:39.7104468;-105.6969788
END:VEVENT
BEGIN:VEVENT
DTSTART;TZID=America/Denver:20210218T190000
DTEND;TZID=America/Denver:20210218T200000
DTSTAMP:20260423T203440
CREATED:20200406T173842Z
LAST-MODIFIED:20220328T213223Z
UID:10004870-1613674800-1613678400@cccld.org
SUMMARY:Virtual Goodnight Storytime
DESCRIPTION:Get ready for bed with Miss Holly and Miss Honeybun during our Virtual Goodnight Storytime. Join us live on our Facebook page at 7pm every Thursday.
URL:https://cccld.org/event/virtual-bedtime-storytime/2021-02-18/
LOCATION:CO\, 80444\, United States
CATEGORIES:Kids,Library Events
GEO:39.7104468;-105.6969788
END:VEVENT
BEGIN:VEVENT
DTSTART;TZID=America/Denver:20210224T111500
DTEND;TZID=America/Denver:20210224T120000
DTSTAMP:20260423T203440
CREATED:20201008T161152Z
LAST-MODIFIED:20210114T230127Z
UID:10004978-1614165300-1614168000@cccld.org
SUMMARY:Virtual Storytime
DESCRIPTION:Hop into storytime with Miss Honeybun! Find Miss Honeybun on Facebook at www.facebook.com/clearcreeklibrarydistrict
URL:https://cccld.org/event/virtual-storytime-3/2021-02-24/
LOCATION:CO\, 80444\, United States
CATEGORIES:Kids,Library Events
GEO:39.7104468;-105.6969788
END:VEVENT
BEGIN:VEVENT
DTSTART;TZID=America/Denver:20210224T160000
DTEND;TZID=America/Denver:20210224T170000
DTSTAMP:20260423T203440
CREATED:20210122T231725Z
LAST-MODIFIED:20210201T165004Z
UID:10005595-1614182400-1614186000@cccld.org
SUMMARY:Virtual Juvenile Fiction Book Group
DESCRIPTION:Everyone is welcome to join. This month’s book is Out of my Mind–Sharon M. Draper.\nContact caitlin@cccld.org for more details and to reserve your book.
URL:https://cccld.org/event/virtual-juvenile-fiction-book-group-2/
LOCATION:CO\, 80444\, United States
CATEGORIES:Kids,Library Events,Teens
GEO:39.7104468;-105.6969788
END:VEVENT
BEGIN:VEVENT
DTSTART;TZID=America/Denver:20210225T190000
DTEND;TZID=America/Denver:20210225T200000
DTSTAMP:20260423T203440
CREATED:20200406T173842Z
LAST-MODIFIED:20220328T213223Z
UID:10004871-1614279600-1614283200@cccld.org
SUMMARY:Virtual Goodnight Storytime
DESCRIPTION:Get ready for bed with Miss Holly and Miss Honeybun during our Virtual Goodnight Storytime. Join us live on our Facebook page at 7pm every Thursday.
URL:https://cccld.org/event/virtual-bedtime-storytime/2021-02-25/
LOCATION:CO\, 80444\, United States
CATEGORIES:Kids,Library Events
GEO:39.7104468;-105.6969788
END:VEVENT
END:VCALENDAR