BEGIN:VCALENDAR
VERSION:2.0
PRODID:-//Clear Creek County Library District - ECPv6.15.16//NONSGML v1.0//EN
CALSCALE:GREGORIAN
METHOD:PUBLISH
X-ORIGINAL-URL:https://cccld.org
X-WR-CALDESC:Events for Clear Creek County Library District
REFRESH-INTERVAL;VALUE=DURATION:PT1H
X-Robots-Tag:noindex
X-PUBLISHED-TTL:PT1H
BEGIN:VTIMEZONE
TZID:America/Denver
BEGIN:DAYLIGHT
TZOFFSETFROM:-0700
TZOFFSETTO:-0600
TZNAME:MDT
DTSTART:20200308T090000
END:DAYLIGHT
BEGIN:STANDARD
TZOFFSETFROM:-0600
TZOFFSETTO:-0700
TZNAME:MST
DTSTART:20201101T080000
END:STANDARD
BEGIN:DAYLIGHT
TZOFFSETFROM:-0700
TZOFFSETTO:-0600
TZNAME:MDT
DTSTART:20210314T090000
END:DAYLIGHT
BEGIN:STANDARD
TZOFFSETFROM:-0600
TZOFFSETTO:-0700
TZNAME:MST
DTSTART:20211107T080000
END:STANDARD
BEGIN:DAYLIGHT
TZOFFSETFROM:-0700
TZOFFSETTO:-0600
TZNAME:MDT
DTSTART:20220313T090000
END:DAYLIGHT
BEGIN:STANDARD
TZOFFSETFROM:-0600
TZOFFSETTO:-0700
TZNAME:MST
DTSTART:20221106T080000
END:STANDARD
END:VTIMEZONE
BEGIN:VEVENT
DTSTART;TZID=America/Denver:20210901T111500
DTEND;TZID=America/Denver:20210901T111500
DTSTAMP:20260423T124544
CREATED:20200406T172950Z
LAST-MODIFIED:20211207T224229Z
UID:10004836-1630494900-1630494900@cccld.org
SUMMARY:Virtual Storytime
DESCRIPTION:Hop into Storytime Miss Holly and Miss Honeybun join us live on our Facebook page at 11:15 am every Wednesday.
URL:https://cccld.org/event/virtual-storytime/2021-09-01/
LOCATION:CO\, 80444\, United States
CATEGORIES:Kids,Library Events
GEO:39.7104468;-105.6969788
END:VEVENT
BEGIN:VEVENT
DTSTART;TZID=America/Denver:20210902T190000
DTEND;TZID=America/Denver:20210902T200000
DTSTAMP:20260423T124544
CREATED:20200406T173842Z
LAST-MODIFIED:20220328T213223Z
UID:10004898-1630609200-1630612800@cccld.org
SUMMARY:Virtual Goodnight Storytime
DESCRIPTION:Get ready for bed with Miss Holly and Miss Honeybun during our Virtual Goodnight Storytime. Join us live on our Facebook page at 7pm every Thursday.
URL:https://cccld.org/event/virtual-bedtime-storytime/2021-09-02/
LOCATION:CO\, 80444\, United States
CATEGORIES:Kids,Library Events
GEO:39.7104468;-105.6969788
END:VEVENT
BEGIN:VEVENT
DTSTART;TZID=America/Denver:20210907T111500
DTEND;TZID=America/Denver:20210907T120000
DTSTAMP:20260423T124544
CREATED:20210820T193600Z
LAST-MODIFIED:20211001T210740Z
UID:10005645-1631013300-1631016000@cccld.org
SUMMARY:ISPL Stories & Sunshine
DESCRIPTION:Join us for outdoor storytime at the Idaho Springs Public Library.
URL:https://cccld.org/event/stories-sunshine-3/2021-09-07/
LOCATION:CO\, 80444\, United States
CATEGORIES:Kids,Library Events
GEO:39.7104468;-105.6969788
END:VEVENT
BEGIN:VEVENT
DTSTART;TZID=America/Denver:20210908T111500
DTEND;TZID=America/Denver:20210908T111500
DTSTAMP:20260423T124544
CREATED:20200406T172950Z
LAST-MODIFIED:20211207T224229Z
UID:10004837-1631099700-1631099700@cccld.org
SUMMARY:Virtual Storytime
DESCRIPTION:Hop into Storytime Miss Holly and Miss Honeybun join us live on our Facebook page at 11:15 am every Wednesday.
URL:https://cccld.org/event/virtual-storytime/2021-09-08/
LOCATION:CO\, 80444\, United States
CATEGORIES:Kids,Library Events
GEO:39.7104468;-105.6969788
END:VEVENT
BEGIN:VEVENT
DTSTART;TZID=America/Denver:20210909T190000
DTEND;TZID=America/Denver:20210909T200000
DTSTAMP:20260423T124544
CREATED:20200406T173842Z
LAST-MODIFIED:20220328T213223Z
UID:10004899-1631214000-1631217600@cccld.org
SUMMARY:Virtual Goodnight Storytime
DESCRIPTION:Get ready for bed with Miss Holly and Miss Honeybun during our Virtual Goodnight Storytime. Join us live on our Facebook page at 7pm every Thursday.
URL:https://cccld.org/event/virtual-bedtime-storytime/2021-09-09/
LOCATION:CO\, 80444\, United States
CATEGORIES:Kids,Library Events
GEO:39.7104468;-105.6969788
END:VEVENT
BEGIN:VEVENT
DTSTART;TZID=America/Denver:20210914T111500
DTEND;TZID=America/Denver:20210914T120000
DTSTAMP:20260423T124544
CREATED:20210820T193600Z
LAST-MODIFIED:20211001T210740Z
UID:10005646-1631618100-1631620800@cccld.org
SUMMARY:ISPL Stories & Sunshine
DESCRIPTION:Join us for outdoor storytime at the Idaho Springs Public Library.
URL:https://cccld.org/event/stories-sunshine-3/2021-09-14/
LOCATION:CO\, 80444\, United States
CATEGORIES:Kids,Library Events
GEO:39.7104468;-105.6969788
END:VEVENT
BEGIN:VEVENT
DTSTART;TZID=America/Denver:20210915T111500
DTEND;TZID=America/Denver:20210915T111500
DTSTAMP:20260423T124544
CREATED:20200406T172950Z
LAST-MODIFIED:20211207T224229Z
UID:10004838-1631704500-1631704500@cccld.org
SUMMARY:Virtual Storytime
DESCRIPTION:Hop into Storytime Miss Holly and Miss Honeybun join us live on our Facebook page at 11:15 am every Wednesday.
URL:https://cccld.org/event/virtual-storytime/2021-09-15/
LOCATION:CO\, 80444\, United States
CATEGORIES:Kids,Library Events
GEO:39.7104468;-105.6969788
END:VEVENT
BEGIN:VEVENT
DTSTART;TZID=America/Denver:20210916T190000
DTEND;TZID=America/Denver:20210916T200000
DTSTAMP:20260423T124544
CREATED:20200406T173842Z
LAST-MODIFIED:20220328T213223Z
UID:10004900-1631818800-1631822400@cccld.org
SUMMARY:Virtual Goodnight Storytime
DESCRIPTION:Get ready for bed with Miss Holly and Miss Honeybun during our Virtual Goodnight Storytime. Join us live on our Facebook page at 7pm every Thursday.
URL:https://cccld.org/event/virtual-bedtime-storytime/2021-09-16/
LOCATION:CO\, 80444\, United States
CATEGORIES:Kids,Library Events
GEO:39.7104468;-105.6969788
END:VEVENT
BEGIN:VEVENT
DTSTART;TZID=America/Denver:20210921T111500
DTEND;TZID=America/Denver:20210921T120000
DTSTAMP:20260423T124544
CREATED:20210820T193600Z
LAST-MODIFIED:20211001T210740Z
UID:10005647-1632222900-1632225600@cccld.org
SUMMARY:ISPL Stories & Sunshine
DESCRIPTION:Join us for outdoor storytime at the Idaho Springs Public Library.
URL:https://cccld.org/event/stories-sunshine-3/2021-09-21/
LOCATION:CO\, 80444\, United States
CATEGORIES:Kids,Library Events
GEO:39.7104468;-105.6969788
END:VEVENT
BEGIN:VEVENT
DTSTART;TZID=America/Denver:20210922T111500
DTEND;TZID=America/Denver:20210922T111500
DTSTAMP:20260423T124544
CREATED:20200406T172950Z
LAST-MODIFIED:20211207T224229Z
UID:10004839-1632309300-1632309300@cccld.org
SUMMARY:Virtual Storytime
DESCRIPTION:Hop into Storytime Miss Holly and Miss Honeybun join us live on our Facebook page at 11:15 am every Wednesday.
URL:https://cccld.org/event/virtual-storytime/2021-09-22/
LOCATION:CO\, 80444\, United States
CATEGORIES:Kids,Library Events
GEO:39.7104468;-105.6969788
END:VEVENT
BEGIN:VEVENT
DTSTART;TZID=America/Denver:20210923T190000
DTEND;TZID=America/Denver:20210923T200000
DTSTAMP:20260423T124544
CREATED:20200406T173842Z
LAST-MODIFIED:20220328T213223Z
UID:10004901-1632423600-1632427200@cccld.org
SUMMARY:Virtual Goodnight Storytime
DESCRIPTION:Get ready for bed with Miss Holly and Miss Honeybun during our Virtual Goodnight Storytime. Join us live on our Facebook page at 7pm every Thursday.
URL:https://cccld.org/event/virtual-bedtime-storytime/2021-09-23/
LOCATION:CO\, 80444\, United States
CATEGORIES:Kids,Library Events
GEO:39.7104468;-105.6969788
END:VEVENT
BEGIN:VEVENT
DTSTART;TZID=America/Denver:20210928T111500
DTEND;TZID=America/Denver:20210928T120000
DTSTAMP:20260423T124544
CREATED:20210820T193600Z
LAST-MODIFIED:20211001T210740Z
UID:10005648-1632827700-1632830400@cccld.org
SUMMARY:ISPL Stories & Sunshine
DESCRIPTION:Join us for outdoor storytime at the Idaho Springs Public Library.
URL:https://cccld.org/event/stories-sunshine-3/2021-09-28/
LOCATION:CO\, 80444\, United States
CATEGORIES:Kids,Library Events
GEO:39.7104468;-105.6969788
END:VEVENT
BEGIN:VEVENT
DTSTART;TZID=America/Denver:20210929T111500
DTEND;TZID=America/Denver:20210929T111500
DTSTAMP:20260423T124544
CREATED:20200406T172950Z
LAST-MODIFIED:20211207T224229Z
UID:10004840-1632914100-1632914100@cccld.org
SUMMARY:Virtual Storytime
DESCRIPTION:Hop into Storytime Miss Holly and Miss Honeybun join us live on our Facebook page at 11:15 am every Wednesday.
URL:https://cccld.org/event/virtual-storytime/2021-09-29/
LOCATION:CO\, 80444\, United States
CATEGORIES:Kids,Library Events
GEO:39.7104468;-105.6969788
END:VEVENT
BEGIN:VEVENT
DTSTART;TZID=America/Denver:20210930T190000
DTEND;TZID=America/Denver:20210930T200000
DTSTAMP:20260423T124544
CREATED:20200406T173842Z
LAST-MODIFIED:20220328T213223Z
UID:10004902-1633028400-1633032000@cccld.org
SUMMARY:Virtual Goodnight Storytime
DESCRIPTION:Get ready for bed with Miss Holly and Miss Honeybun during our Virtual Goodnight Storytime. Join us live on our Facebook page at 7pm every Thursday.
URL:https://cccld.org/event/virtual-bedtime-storytime/2021-09-30/
LOCATION:CO\, 80444\, United States
CATEGORIES:Kids,Library Events
GEO:39.7104468;-105.6969788
END:VEVENT
END:VCALENDAR