BEGIN:VCALENDAR
VERSION:2.0
PRODID:-//Clear Creek County Library District - ECPv6.15.16//NONSGML v1.0//EN
CALSCALE:GREGORIAN
METHOD:PUBLISH
X-WR-CALNAME:Clear Creek County Library District
X-ORIGINAL-URL:https://cccld.org
X-WR-CALDESC:Events for Clear Creek County Library District
REFRESH-INTERVAL;VALUE=DURATION:PT1H
X-Robots-Tag:noindex
X-PUBLISHED-TTL:PT1H
BEGIN:VTIMEZONE
TZID:America/Denver
BEGIN:DAYLIGHT
TZOFFSETFROM:-0700
TZOFFSETTO:-0600
TZNAME:MDT
DTSTART:20200308T090000
END:DAYLIGHT
BEGIN:STANDARD
TZOFFSETFROM:-0600
TZOFFSETTO:-0700
TZNAME:MST
DTSTART:20201101T080000
END:STANDARD
BEGIN:DAYLIGHT
TZOFFSETFROM:-0700
TZOFFSETTO:-0600
TZNAME:MDT
DTSTART:20210314T090000
END:DAYLIGHT
BEGIN:STANDARD
TZOFFSETFROM:-0600
TZOFFSETTO:-0700
TZNAME:MST
DTSTART:20211107T080000
END:STANDARD
BEGIN:DAYLIGHT
TZOFFSETFROM:-0700
TZOFFSETTO:-0600
TZNAME:MDT
DTSTART:20220313T090000
END:DAYLIGHT
BEGIN:STANDARD
TZOFFSETFROM:-0600
TZOFFSETTO:-0700
TZNAME:MST
DTSTART:20221106T080000
END:STANDARD
END:VTIMEZONE
BEGIN:VEVENT
DTSTART;TZID=America/Denver:20211103T111500
DTEND;TZID=America/Denver:20211103T111500
DTSTAMP:20260423T100908
CREATED:20200406T172950Z
LAST-MODIFIED:20211207T224229Z
UID:10004845-1635938100-1635938100@cccld.org
SUMMARY:Virtual Storytime
DESCRIPTION:Hop into Storytime Miss Holly and Miss Honeybun join us live on our Facebook page at 11:15 am every Wednesday.
URL:https://cccld.org/event/virtual-storytime/2021-11-03/
LOCATION:CO\, 80444\, United States
CATEGORIES:Kids,Library Events
GEO:39.7104468;-105.6969788
END:VEVENT
BEGIN:VEVENT
DTSTART;TZID=America/Denver:20211104T190000
DTEND;TZID=America/Denver:20211104T200000
DTSTAMP:20260423T100908
CREATED:20200406T173842Z
LAST-MODIFIED:20220328T213223Z
UID:10004907-1636052400-1636056000@cccld.org
SUMMARY:Virtual Goodnight Storytime
DESCRIPTION:Get ready for bed with Miss Holly and Miss Honeybun during our Virtual Goodnight Storytime. Join us live on our Facebook page at 7pm every Thursday.
URL:https://cccld.org/event/virtual-bedtime-storytime/2021-11-04/
LOCATION:CO\, 80444\, United States
CATEGORIES:Kids,Library Events
GEO:39.7104468;-105.6969788
END:VEVENT
BEGIN:VEVENT
DTSTART;TZID=America/Denver:20211110T111500
DTEND;TZID=America/Denver:20211110T111500
DTSTAMP:20260423T100908
CREATED:20200406T172950Z
LAST-MODIFIED:20211207T224229Z
UID:10004846-1636542900-1636542900@cccld.org
SUMMARY:Virtual Storytime
DESCRIPTION:Hop into Storytime Miss Holly and Miss Honeybun join us live on our Facebook page at 11:15 am every Wednesday.
URL:https://cccld.org/event/virtual-storytime/2021-11-10/
LOCATION:CO\, 80444\, United States
CATEGORIES:Kids,Library Events
GEO:39.7104468;-105.6969788
END:VEVENT
BEGIN:VEVENT
DTSTART;TZID=America/Denver:20211111T190000
DTEND;TZID=America/Denver:20211111T200000
DTSTAMP:20260423T100908
CREATED:20200406T173842Z
LAST-MODIFIED:20220328T213223Z
UID:10004908-1636657200-1636660800@cccld.org
SUMMARY:Virtual Goodnight Storytime
DESCRIPTION:Get ready for bed with Miss Holly and Miss Honeybun during our Virtual Goodnight Storytime. Join us live on our Facebook page at 7pm every Thursday.
URL:https://cccld.org/event/virtual-bedtime-storytime/2021-11-11/
LOCATION:CO\, 80444\, United States
CATEGORIES:Kids,Library Events
GEO:39.7104468;-105.6969788
END:VEVENT
BEGIN:VEVENT
DTSTART;TZID=America/Denver:20211117T111500
DTEND;TZID=America/Denver:20211117T111500
DTSTAMP:20260423T100908
CREATED:20200406T172950Z
LAST-MODIFIED:20211207T224229Z
UID:10004847-1637147700-1637147700@cccld.org
SUMMARY:Virtual Storytime
DESCRIPTION:Hop into Storytime Miss Holly and Miss Honeybun join us live on our Facebook page at 11:15 am every Wednesday.
URL:https://cccld.org/event/virtual-storytime/2021-11-17/
LOCATION:CO\, 80444\, United States
CATEGORIES:Kids,Library Events
GEO:39.7104468;-105.6969788
END:VEVENT
BEGIN:VEVENT
DTSTART;TZID=America/Denver:20211118T190000
DTEND;TZID=America/Denver:20211118T200000
DTSTAMP:20260423T100908
CREATED:20200406T173842Z
LAST-MODIFIED:20220328T213223Z
UID:10004909-1637262000-1637265600@cccld.org
SUMMARY:Virtual Goodnight Storytime
DESCRIPTION:Get ready for bed with Miss Holly and Miss Honeybun during our Virtual Goodnight Storytime. Join us live on our Facebook page at 7pm every Thursday.
URL:https://cccld.org/event/virtual-bedtime-storytime/2021-11-18/
LOCATION:CO\, 80444\, United States
CATEGORIES:Kids,Library Events
GEO:39.7104468;-105.6969788
END:VEVENT
BEGIN:VEVENT
DTSTART;TZID=America/Denver:20211124T111500
DTEND;TZID=America/Denver:20211124T111500
DTSTAMP:20260423T100908
CREATED:20200406T172950Z
LAST-MODIFIED:20211207T224229Z
UID:10004848-1637752500-1637752500@cccld.org
SUMMARY:Virtual Storytime
DESCRIPTION:Hop into Storytime Miss Holly and Miss Honeybun join us live on our Facebook page at 11:15 am every Wednesday.
URL:https://cccld.org/event/virtual-storytime/2021-11-24/
LOCATION:CO\, 80444\, United States
CATEGORIES:Kids,Library Events
GEO:39.7104468;-105.6969788
END:VEVENT
BEGIN:VEVENT
DTSTART;TZID=America/Denver:20211125T190000
DTEND;TZID=America/Denver:20211125T200000
DTSTAMP:20260423T100908
CREATED:20200406T173842Z
LAST-MODIFIED:20220328T213223Z
UID:10004910-1637866800-1637870400@cccld.org
SUMMARY:Virtual Goodnight Storytime
DESCRIPTION:Get ready for bed with Miss Holly and Miss Honeybun during our Virtual Goodnight Storytime. Join us live on our Facebook page at 7pm every Thursday.
URL:https://cccld.org/event/virtual-bedtime-storytime/2021-11-25/
LOCATION:CO\, 80444\, United States
CATEGORIES:Kids,Library Events
GEO:39.7104468;-105.6969788
END:VEVENT
BEGIN:VEVENT
DTSTART;TZID=America/Denver:20211127T170000
DTEND;TZID=America/Denver:20211127T180000
DTSTAMP:20260423T100908
CREATED:20211119T175727Z
LAST-MODIFIED:20211119T175922Z
UID:10005708-1638032400-1638036000@cccld.org
SUMMARY:Take & Make Cookie Kits
DESCRIPTION:Take & Make Cookie Kits at Georgetown Tree Lighting. Strousse Park Georgetown.
URL:https://cccld.org/event/take-make-cookie-kits/
LOCATION:CO\, 80444\, United States
CATEGORIES:Adults,Kids,Library Events,Teens
GEO:39.7104468;-105.6969788
END:VEVENT
END:VCALENDAR