BEGIN:VCALENDAR
VERSION:2.0
PRODID:-//Clear Creek County Library District - ECPv6.15.16//NONSGML v1.0//EN
CALSCALE:GREGORIAN
METHOD:PUBLISH
X-WR-CALNAME:Clear Creek County Library District
X-ORIGINAL-URL:https://cccld.org
X-WR-CALDESC:Events for Clear Creek County Library District
REFRESH-INTERVAL;VALUE=DURATION:PT1H
X-Robots-Tag:noindex
X-PUBLISHED-TTL:PT1H
BEGIN:VTIMEZONE
TZID:America/Denver
BEGIN:DAYLIGHT
TZOFFSETFROM:-0700
TZOFFSETTO:-0600
TZNAME:MDT
DTSTART:20200308T090000
END:DAYLIGHT
BEGIN:STANDARD
TZOFFSETFROM:-0600
TZOFFSETTO:-0700
TZNAME:MST
DTSTART:20201101T080000
END:STANDARD
BEGIN:DAYLIGHT
TZOFFSETFROM:-0700
TZOFFSETTO:-0600
TZNAME:MDT
DTSTART:20210314T090000
END:DAYLIGHT
BEGIN:STANDARD
TZOFFSETFROM:-0600
TZOFFSETTO:-0700
TZNAME:MST
DTSTART:20211107T080000
END:STANDARD
BEGIN:DAYLIGHT
TZOFFSETFROM:-0700
TZOFFSETTO:-0600
TZNAME:MDT
DTSTART:20220313T090000
END:DAYLIGHT
BEGIN:STANDARD
TZOFFSETFROM:-0600
TZOFFSETTO:-0700
TZNAME:MST
DTSTART:20221106T080000
END:STANDARD
END:VTIMEZONE
BEGIN:VEVENT
DTSTART;TZID=America/Denver:20211201T111500
DTEND;TZID=America/Denver:20211201T111500
DTSTAMP:20260423T085812
CREATED:20200406T172950Z
LAST-MODIFIED:20211207T224229Z
UID:10004849-1638357300-1638357300@cccld.org
SUMMARY:Virtual Storytime
DESCRIPTION:Hop into Storytime Miss Holly and Miss Honeybun join us live on our Facebook page at 11:15 am every Wednesday.
URL:https://cccld.org/event/virtual-storytime/2021-12-01/
LOCATION:CO\, 80444\, United States
CATEGORIES:Kids,Library Events
GEO:39.7104468;-105.6969788
END:VEVENT
BEGIN:VEVENT
DTSTART;TZID=America/Denver:20211202T190000
DTEND;TZID=America/Denver:20211202T200000
DTSTAMP:20260423T085812
CREATED:20200406T173842Z
LAST-MODIFIED:20220328T213223Z
UID:10004911-1638471600-1638475200@cccld.org
SUMMARY:Virtual Goodnight Storytime
DESCRIPTION:Get ready for bed with Miss Holly and Miss Honeybun during our Virtual Goodnight Storytime. Join us live on our Facebook page at 7pm every Thursday.
URL:https://cccld.org/event/virtual-bedtime-storytime/2021-12-02/
LOCATION:CO\, 80444\, United States
CATEGORIES:Kids,Library Events
GEO:39.7104468;-105.6969788
END:VEVENT
BEGIN:VEVENT
DTSTART;TZID=America/Denver:20211204T090000
DTEND;TZID=America/Denver:20211204T130000
DTSTAMP:20260423T085812
CREATED:20211112T223200Z
LAST-MODIFIED:20221117T201617Z
UID:10005681-1638608400-1638622800@cccld.org
SUMMARY:Winter Craft Workshops - Georgetown Christmas Market
DESCRIPTION:Free creative fun for kids during the Georgetown Christmas Market.
URL:https://cccld.org/event/georgetown-christmas-market/2021-12-04/
LOCATION:CO\, 80444\, United States
CATEGORIES:Adults,Community Events,Kids,Library Events,Teens
GEO:39.7104468;-105.6969788
END:VEVENT
BEGIN:VEVENT
DTSTART;TZID=America/Denver:20211205T090000
DTEND;TZID=America/Denver:20211205T140000
DTSTAMP:20260423T085812
CREATED:20211112T223313Z
LAST-MODIFIED:20211123T211206Z
UID:10005683-1638694800-1638712800@cccld.org
SUMMARY:Winter Craft Workshops - Georgetown Christmas Market
DESCRIPTION:Free creative fun for kids during the Georgetown Christmas Market.
URL:https://cccld.org/event/georgetown-christmas-market-2/2021-12-05/
LOCATION:John Tomay Memorial Library\, 605 6th Street\, Georgetown\, CO\, 80444\, United States
CATEGORIES:Adults,Community Events,Kids,Library Events,Teens
GEO:39.7061997;-105.6974142
X-APPLE-STRUCTURED-LOCATION;VALUE=URI;X-ADDRESS=John Tomay Memorial Library 605 6th Street Georgetown CO 80444 United States;X-APPLE-RADIUS=500;X-TITLE=605 6th Street:geo:-105.6974142,39.7061997
END:VEVENT
BEGIN:VEVENT
DTSTART;TZID=America/Denver:20211208T111500
DTEND;TZID=America/Denver:20211208T111500
DTSTAMP:20260423T085812
CREATED:20200406T172950Z
LAST-MODIFIED:20211207T224229Z
UID:10004850-1638962100-1638962100@cccld.org
SUMMARY:Virtual Storytime
DESCRIPTION:Hop into Storytime Miss Holly and Miss Honeybun join us live on our Facebook page at 11:15 am every Wednesday.
URL:https://cccld.org/event/virtual-storytime/2021-12-08/
LOCATION:CO\, 80444\, United States
CATEGORIES:Kids,Library Events
GEO:39.7104468;-105.6969788
END:VEVENT
BEGIN:VEVENT
DTSTART;TZID=America/Denver:20211209T190000
DTEND;TZID=America/Denver:20211209T200000
DTSTAMP:20260423T085812
CREATED:20200406T173842Z
LAST-MODIFIED:20220328T213223Z
UID:10004912-1639076400-1639080000@cccld.org
SUMMARY:Virtual Goodnight Storytime
DESCRIPTION:Get ready for bed with Miss Holly and Miss Honeybun during our Virtual Goodnight Storytime. Join us live on our Facebook page at 7pm every Thursday.
URL:https://cccld.org/event/virtual-bedtime-storytime/2021-12-09/
LOCATION:CO\, 80444\, United States
CATEGORIES:Kids,Library Events
GEO:39.7104468;-105.6969788
END:VEVENT
BEGIN:VEVENT
DTSTART;TZID=America/Denver:20211211T090000
DTEND;TZID=America/Denver:20211211T130000
DTSTAMP:20260423T085812
CREATED:20211112T223200Z
LAST-MODIFIED:20221117T201617Z
UID:10005682-1639213200-1639227600@cccld.org
SUMMARY:Winter Craft Workshops - Georgetown Christmas Market
DESCRIPTION:Free creative fun for kids during the Georgetown Christmas Market.
URL:https://cccld.org/event/georgetown-christmas-market/2021-12-11/
LOCATION:CO\, 80444\, United States
CATEGORIES:Adults,Community Events,Kids,Library Events,Teens
GEO:39.7104468;-105.6969788
END:VEVENT
BEGIN:VEVENT
DTSTART;TZID=America/Denver:20211212T090000
DTEND;TZID=America/Denver:20211212T140000
DTSTAMP:20260423T085812
CREATED:20211112T223313Z
LAST-MODIFIED:20211123T211206Z
UID:10005684-1639299600-1639317600@cccld.org
SUMMARY:Winter Craft Workshops - Georgetown Christmas Market
DESCRIPTION:Free creative fun for kids during the Georgetown Christmas Market.
URL:https://cccld.org/event/georgetown-christmas-market-2/2021-12-12/
LOCATION:John Tomay Memorial Library\, 605 6th Street\, Georgetown\, CO\, 80444\, United States
CATEGORIES:Adults,Community Events,Kids,Library Events,Teens
GEO:39.7061997;-105.6974142
X-APPLE-STRUCTURED-LOCATION;VALUE=URI;X-ADDRESS=John Tomay Memorial Library 605 6th Street Georgetown CO 80444 United States;X-APPLE-RADIUS=500;X-TITLE=605 6th Street:geo:-105.6974142,39.7061997
END:VEVENT
BEGIN:VEVENT
DTSTART;TZID=America/Denver:20211215T111500
DTEND;TZID=America/Denver:20211215T111500
DTSTAMP:20260423T085812
CREATED:20200406T172950Z
LAST-MODIFIED:20211207T224229Z
UID:10004851-1639566900-1639566900@cccld.org
SUMMARY:Virtual Storytime
DESCRIPTION:Hop into Storytime Miss Holly and Miss Honeybun join us live on our Facebook page at 11:15 am every Wednesday.
URL:https://cccld.org/event/virtual-storytime/2021-12-15/
LOCATION:CO\, 80444\, United States
CATEGORIES:Kids,Library Events
GEO:39.7104468;-105.6969788
END:VEVENT
BEGIN:VEVENT
DTSTART;TZID=America/Denver:20211216T190000
DTEND;TZID=America/Denver:20211216T200000
DTSTAMP:20260423T085812
CREATED:20200406T173842Z
LAST-MODIFIED:20220328T213223Z
UID:10004913-1639681200-1639684800@cccld.org
SUMMARY:Virtual Goodnight Storytime
DESCRIPTION:Get ready for bed with Miss Holly and Miss Honeybun during our Virtual Goodnight Storytime. Join us live on our Facebook page at 7pm every Thursday.
URL:https://cccld.org/event/virtual-bedtime-storytime/2021-12-16/
LOCATION:CO\, 80444\, United States
CATEGORIES:Kids,Library Events
GEO:39.7104468;-105.6969788
END:VEVENT
BEGIN:VEVENT
DTSTART;TZID=America/Denver:20211222T111500
DTEND;TZID=America/Denver:20211222T111500
DTSTAMP:20260423T085812
CREATED:20200406T172950Z
LAST-MODIFIED:20211207T224229Z
UID:10004852-1640171700-1640171700@cccld.org
SUMMARY:Virtual Storytime
DESCRIPTION:Hop into Storytime Miss Holly and Miss Honeybun join us live on our Facebook page at 11:15 am every Wednesday.
URL:https://cccld.org/event/virtual-storytime/2021-12-22/
LOCATION:CO\, 80444\, United States
CATEGORIES:Kids,Library Events
GEO:39.7104468;-105.6969788
END:VEVENT
BEGIN:VEVENT
DTSTART;TZID=America/Denver:20211223T190000
DTEND;TZID=America/Denver:20211223T200000
DTSTAMP:20260423T085812
CREATED:20200406T173842Z
LAST-MODIFIED:20220328T213223Z
UID:10004914-1640286000-1640289600@cccld.org
SUMMARY:Virtual Goodnight Storytime
DESCRIPTION:Get ready for bed with Miss Holly and Miss Honeybun during our Virtual Goodnight Storytime. Join us live on our Facebook page at 7pm every Thursday.
URL:https://cccld.org/event/virtual-bedtime-storytime/2021-12-23/
LOCATION:CO\, 80444\, United States
CATEGORIES:Kids,Library Events
GEO:39.7104468;-105.6969788
END:VEVENT
BEGIN:VEVENT
DTSTART;TZID=America/Denver:20211229T111500
DTEND;TZID=America/Denver:20211229T111500
DTSTAMP:20260423T085812
CREATED:20200406T172950Z
LAST-MODIFIED:20211207T224229Z
UID:10004853-1640776500-1640776500@cccld.org
SUMMARY:Virtual Storytime
DESCRIPTION:Hop into Storytime Miss Holly and Miss Honeybun join us live on our Facebook page at 11:15 am every Wednesday.
URL:https://cccld.org/event/virtual-storytime/2021-12-29/
LOCATION:CO\, 80444\, United States
CATEGORIES:Kids,Library Events
GEO:39.7104468;-105.6969788
END:VEVENT
BEGIN:VEVENT
DTSTART;TZID=America/Denver:20211230T190000
DTEND;TZID=America/Denver:20211230T200000
DTSTAMP:20260423T085812
CREATED:20200406T173842Z
LAST-MODIFIED:20220328T213223Z
UID:10004915-1640890800-1640894400@cccld.org
SUMMARY:Virtual Goodnight Storytime
DESCRIPTION:Get ready for bed with Miss Holly and Miss Honeybun during our Virtual Goodnight Storytime. Join us live on our Facebook page at 7pm every Thursday.
URL:https://cccld.org/event/virtual-bedtime-storytime/2021-12-30/
LOCATION:CO\, 80444\, United States
CATEGORIES:Kids,Library Events
GEO:39.7104468;-105.6969788
END:VEVENT
END:VCALENDAR