BEGIN:VCALENDAR
VERSION:2.0
PRODID:-//Clear Creek County Library District - ECPv6.15.16//NONSGML v1.0//EN
CALSCALE:GREGORIAN
METHOD:PUBLISH
X-ORIGINAL-URL:https://cccld.org
X-WR-CALDESC:Events for Clear Creek County Library District
REFRESH-INTERVAL;VALUE=DURATION:PT1H
X-Robots-Tag:noindex
X-PUBLISHED-TTL:PT1H
BEGIN:VTIMEZONE
TZID:America/Denver
BEGIN:DAYLIGHT
TZOFFSETFROM:-0700
TZOFFSETTO:-0600
TZNAME:MDT
DTSTART:20220313T090000
END:DAYLIGHT
BEGIN:STANDARD
TZOFFSETFROM:-0600
TZOFFSETTO:-0700
TZNAME:MST
DTSTART:20221106T080000
END:STANDARD
BEGIN:DAYLIGHT
TZOFFSETFROM:-0700
TZOFFSETTO:-0600
TZNAME:MDT
DTSTART:20230312T090000
END:DAYLIGHT
BEGIN:STANDARD
TZOFFSETFROM:-0600
TZOFFSETTO:-0700
TZNAME:MST
DTSTART:20231105T080000
END:STANDARD
BEGIN:DAYLIGHT
TZOFFSETFROM:-0700
TZOFFSETTO:-0600
TZNAME:MDT
DTSTART:20240310T090000
END:DAYLIGHT
BEGIN:STANDARD
TZOFFSETFROM:-0600
TZOFFSETTO:-0700
TZNAME:MST
DTSTART:20241103T080000
END:STANDARD
END:VTIMEZONE
BEGIN:VEVENT
DTSTART;TZID=America/Denver:20231102T111500
DTEND;TZID=America/Denver:20231102T121500
DTSTAMP:20260422T092315
CREATED:20230727T161856Z
LAST-MODIFIED:20231129T162744Z
UID:10006336-1698923700-1698927300@cccld.org
SUMMARY:JTML Storytime
DESCRIPTION:Join us for storytime and crafts at the John Tomay Memorial Library.
URL:https://cccld.org/event/jtml-storytime-10/2023-11-02/
LOCATION:John Tomay Memorial Library\, 605 6th Street\, Georgetown\, CO\, 80444\, United States
CATEGORIES:Kids,Library Events
GEO:39.7061997;-105.6974142
X-APPLE-STRUCTURED-LOCATION;VALUE=URI;X-ADDRESS=John Tomay Memorial Library 605 6th Street Georgetown CO 80444 United States;X-APPLE-RADIUS=500;X-TITLE=605 6th Street:geo:-105.6974142,39.7061997
END:VEVENT
BEGIN:VEVENT
DTSTART;TZID=America/Denver:20231104T110000
DTEND;TZID=America/Denver:20231104T150000
DTSTAMP:20260422T092315
CREATED:20230814T203608Z
LAST-MODIFIED:20231004T162235Z
UID:10006386-1699095600-1699110000@cccld.org
SUMMARY:Pumpkin Smash
DESCRIPTION:Don’t trash it\, smash it at the annual Scraps to Soil Pumpkin Smash. Visit the Clear Creek County Library District table for s’mores!
URL:https://cccld.org/event/pumpkin-smash-3/
LOCATION:CO
CATEGORIES:Adults,Community Events,Kids,Library Events,Teens
END:VEVENT
BEGIN:VEVENT
DTSTART;TZID=America/Denver:20231107T111500
DTEND;TZID=America/Denver:20231107T121500
DTSTAMP:20260422T092315
CREATED:20230727T161653Z
LAST-MODIFIED:20240420T175137Z
UID:10006298-1699355700-1699359300@cccld.org
SUMMARY:ISPL Storytime
DESCRIPTION:Join us for storytime and crafts at the Idaho Springs Public Library.
URL:https://cccld.org/event/ispl-storytime-10/2023-11-07/
LOCATION:Idaho Springs Public Library\, 219 14th Avenue\, Idaho Springs\, CO\, 80452\, United States
CATEGORIES:Kids,Library Events
GEO:39.742052;-105.5183552
X-APPLE-STRUCTURED-LOCATION;VALUE=URI;X-ADDRESS=Idaho Springs Public Library 219 14th Avenue Idaho Springs CO 80452 United States;X-APPLE-RADIUS=500;X-TITLE=219 14th Avenue:geo:-105.5183552,39.742052
END:VEVENT
BEGIN:VEVENT
DTSTART;TZID=America/Denver:20231109T111500
DTEND;TZID=America/Denver:20231109T121500
DTSTAMP:20260422T092315
CREATED:20230727T161856Z
LAST-MODIFIED:20231129T162744Z
UID:10006337-1699528500-1699532100@cccld.org
SUMMARY:JTML Storytime
DESCRIPTION:Join us for storytime and crafts at the John Tomay Memorial Library.
URL:https://cccld.org/event/jtml-storytime-10/2023-11-09/
LOCATION:John Tomay Memorial Library\, 605 6th Street\, Georgetown\, CO\, 80444\, United States
CATEGORIES:Kids,Library Events
GEO:39.7061997;-105.6974142
X-APPLE-STRUCTURED-LOCATION;VALUE=URI;X-ADDRESS=John Tomay Memorial Library 605 6th Street Georgetown CO 80444 United States;X-APPLE-RADIUS=500;X-TITLE=605 6th Street:geo:-105.6974142,39.7061997
END:VEVENT
BEGIN:VEVENT
DTSTART;TZID=America/Denver:20231111T100000
DTEND;TZID=America/Denver:20231111T140000
DTSTAMP:20260422T092315
CREATED:20230814T203806Z
LAST-MODIFIED:20231004T162323Z
UID:10006387-1699696800-1699711200@cccld.org
SUMMARY:JTML-Bighorn Sheep Festival
DESCRIPTION:Stop by the John Tomay Memorial Library for stories and crafts.
URL:https://cccld.org/event/jtml-bighorn-sheep-festival-2/
LOCATION:John Tomay Memorial Library\, 605 6th Street\, Georgetown\, CO\, 80444\, United States
CATEGORIES:Adults,Kids,Library Events,Teens
GEO:39.7061997;-105.6974142
X-APPLE-STRUCTURED-LOCATION;VALUE=URI;X-ADDRESS=John Tomay Memorial Library 605 6th Street Georgetown CO 80444 United States;X-APPLE-RADIUS=500;X-TITLE=605 6th Street:geo:-105.6974142,39.7061997
END:VEVENT
BEGIN:VEVENT
DTSTART;TZID=America/Denver:20231114T111500
DTEND;TZID=America/Denver:20231114T121500
DTSTAMP:20260422T092315
CREATED:20230727T161653Z
LAST-MODIFIED:20240420T175137Z
UID:10006299-1699960500-1699964100@cccld.org
SUMMARY:ISPL Storytime
DESCRIPTION:Join us for storytime and crafts at the Idaho Springs Public Library.
URL:https://cccld.org/event/ispl-storytime-10/2023-11-14/
LOCATION:Idaho Springs Public Library\, 219 14th Avenue\, Idaho Springs\, CO\, 80452\, United States
CATEGORIES:Kids,Library Events
GEO:39.742052;-105.5183552
X-APPLE-STRUCTURED-LOCATION;VALUE=URI;X-ADDRESS=Idaho Springs Public Library 219 14th Avenue Idaho Springs CO 80452 United States;X-APPLE-RADIUS=500;X-TITLE=219 14th Avenue:geo:-105.5183552,39.742052
END:VEVENT
BEGIN:VEVENT
DTSTART;TZID=America/Denver:20231116T111500
DTEND;TZID=America/Denver:20231116T121500
DTSTAMP:20260422T092315
CREATED:20230727T161856Z
LAST-MODIFIED:20231129T162744Z
UID:10006338-1700133300-1700136900@cccld.org
SUMMARY:JTML Storytime
DESCRIPTION:Join us for storytime and crafts at the John Tomay Memorial Library.
URL:https://cccld.org/event/jtml-storytime-10/2023-11-16/
LOCATION:John Tomay Memorial Library\, 605 6th Street\, Georgetown\, CO\, 80444\, United States
CATEGORIES:Kids,Library Events
GEO:39.7061997;-105.6974142
X-APPLE-STRUCTURED-LOCATION;VALUE=URI;X-ADDRESS=John Tomay Memorial Library 605 6th Street Georgetown CO 80444 United States;X-APPLE-RADIUS=500;X-TITLE=605 6th Street:geo:-105.6974142,39.7061997
END:VEVENT
BEGIN:VEVENT
DTSTART;TZID=America/Denver:20231121T111500
DTEND;TZID=America/Denver:20231121T121500
DTSTAMP:20260422T092315
CREATED:20230727T161653Z
LAST-MODIFIED:20240420T175137Z
UID:10006300-1700565300-1700568900@cccld.org
SUMMARY:ISPL Storytime
DESCRIPTION:Join us for storytime and crafts at the Idaho Springs Public Library.
URL:https://cccld.org/event/ispl-storytime-10/2023-11-21/
LOCATION:Idaho Springs Public Library\, 219 14th Avenue\, Idaho Springs\, CO\, 80452\, United States
CATEGORIES:Kids,Library Events
GEO:39.742052;-105.5183552
X-APPLE-STRUCTURED-LOCATION;VALUE=URI;X-ADDRESS=Idaho Springs Public Library 219 14th Avenue Idaho Springs CO 80452 United States;X-APPLE-RADIUS=500;X-TITLE=219 14th Avenue:geo:-105.5183552,39.742052
END:VEVENT
BEGIN:VEVENT
DTSTART;TZID=America/Denver:20231123T111500
DTEND;TZID=America/Denver:20231123T121500
DTSTAMP:20260422T092315
CREATED:20230727T161856Z
LAST-MODIFIED:20231129T162744Z
UID:10006339-1700738100-1700741700@cccld.org
SUMMARY:JTML Storytime
DESCRIPTION:Join us for storytime and crafts at the John Tomay Memorial Library.
URL:https://cccld.org/event/jtml-storytime-10/2023-11-23/
LOCATION:John Tomay Memorial Library\, 605 6th Street\, Georgetown\, CO\, 80444\, United States
CATEGORIES:Kids,Library Events
GEO:39.7061997;-105.6974142
X-APPLE-STRUCTURED-LOCATION;VALUE=URI;X-ADDRESS=John Tomay Memorial Library 605 6th Street Georgetown CO 80444 United States;X-APPLE-RADIUS=500;X-TITLE=605 6th Street:geo:-105.6974142,39.7061997
END:VEVENT
BEGIN:VEVENT
DTSTART;TZID=America/Denver:20231125T170000
DTEND;TZID=America/Denver:20231125T180000
DTSTAMP:20260422T092315
CREATED:20230814T205942Z
LAST-MODIFIED:20230814T205942Z
UID:10006390-1700931600-1700935200@cccld.org
SUMMARY:Georgetown Tree Lighting & Cookies
DESCRIPTION:Find the library table at the Georgetown Tree Lighting for a yummy treat.
URL:https://cccld.org/event/georgetown-tree-lighting-cookies/
LOCATION:John Tomay Memorial Library\, 605 6th Street\, Georgetown\, CO\, 80444\, United States
CATEGORIES:Adults,Community Events,Kids,Library Events,Teens
GEO:39.7061997;-105.6974142
X-APPLE-STRUCTURED-LOCATION;VALUE=URI;X-ADDRESS=John Tomay Memorial Library 605 6th Street Georgetown CO 80444 United States;X-APPLE-RADIUS=500;X-TITLE=605 6th Street:geo:-105.6974142,39.7061997
END:VEVENT
BEGIN:VEVENT
DTSTART;TZID=America/Denver:20231128T111500
DTEND;TZID=America/Denver:20231128T121500
DTSTAMP:20260422T092315
CREATED:20230727T161653Z
LAST-MODIFIED:20240420T175137Z
UID:10006301-1701170100-1701173700@cccld.org
SUMMARY:ISPL Storytime
DESCRIPTION:Join us for storytime and crafts at the Idaho Springs Public Library.
URL:https://cccld.org/event/ispl-storytime-10/2023-11-28/
LOCATION:Idaho Springs Public Library\, 219 14th Avenue\, Idaho Springs\, CO\, 80452\, United States
CATEGORIES:Kids,Library Events
GEO:39.742052;-105.5183552
X-APPLE-STRUCTURED-LOCATION;VALUE=URI;X-ADDRESS=Idaho Springs Public Library 219 14th Avenue Idaho Springs CO 80452 United States;X-APPLE-RADIUS=500;X-TITLE=219 14th Avenue:geo:-105.5183552,39.742052
END:VEVENT
BEGIN:VEVENT
DTSTART;TZID=America/Denver:20231130T111500
DTEND;TZID=America/Denver:20231130T121500
DTSTAMP:20260422T092315
CREATED:20230727T161856Z
LAST-MODIFIED:20231129T162744Z
UID:10006340-1701342900-1701346500@cccld.org
SUMMARY:JTML Storytime
DESCRIPTION:Join us for storytime and crafts at the John Tomay Memorial Library.
URL:https://cccld.org/event/jtml-storytime-10/2023-11-30/
LOCATION:John Tomay Memorial Library\, 605 6th Street\, Georgetown\, CO\, 80444\, United States
CATEGORIES:Kids,Library Events
GEO:39.7061997;-105.6974142
X-APPLE-STRUCTURED-LOCATION;VALUE=URI;X-ADDRESS=John Tomay Memorial Library 605 6th Street Georgetown CO 80444 United States;X-APPLE-RADIUS=500;X-TITLE=605 6th Street:geo:-105.6974142,39.7061997
END:VEVENT
END:VCALENDAR